Workbook

Sheet Titullapa
B2: PUBLISKAIS IEPIRKUMS Nr. SA-PI1-2026/ETKC
B3: Metalu komponentu un konstrukciju piegade - STORM ETKC BTS02
B5: Pasutitajs: | C5: Storm Adventures SIA
B6: Reg. Nr.: | C6: 42103100987
B7: Adrese: | C7: Zeltritu iela 20-70, Marupe, LV-2167
B8: Kontaktpersona: | C8: Rihards Dziedatajs
B9: E-pasts: | C9: rihards@storm-adventures.com
B10: Talrunis: | C10: +371 26 174 748
B11: Iepirkuma Nr.: | C11: SA-PI1-2026/ETKC
B12: Datums: | C12: 2026-07-02
B13: Procedura: | C13: Atklats konkurss (PIL 8.pants)
B14: Finansejums: | C14: ES fondi - ETKC Kompetences centrs
B15: Publicešana: | C15: EIS - iub.gov.lv
B16: Piedavajumu termins: | C16: [AIZPILDIT - min. 15 kalendaras dienas no publicešanas]
... B18: Lotu skaits: | C18: 4 lotes - var pieteikties uz vienu vai vairakam
B20: LOTU KOPSAVILKUMS
B21: Lote | C21: Kods | D21: Nosaukums | E21: Pasutijumi | F21: Dalu sk. | G21: Kopsvars | H21: Plānotā vērtība
B22: 1 | C22: PIMK | D22: Metala konstrukcijas | E22: 9, 10, 14 | F22: 1650 | G22: ='L1-PIMK'!P107+'L1-PIMK'!P333+'L1-PIMK'!P369 -> 17642.9 | H22: 145150
B23: 2 | C23: PIMI | D23: Metala izstradajumi | E23: 4.2, 5, 6, 7, 8, 12, 13, 19, 115 | F23: 1334 | G23: ='L2-PIMI'!P141+'L2-PIMI'!P290+'L2-PIMI'!P308+'L2-PIMI'!P362+'L2-PIMI'!P416+'L2-PIMI'!P437+'L2-PIMI'!P484 -> 5132.25 | H23: 69220
B24: 3 | C24: PIMA | D24: Alumīnija komponentes | E24: 4, 99.21, 99.22 | F24: 315 | G24: ='L3-PIMA'!P44+'L3-PIMA'!P82+'L3-PIMA'!P97 -> 556.88 | H24: 14849
B25: 4 | C25: PILC | D25: LCB metala komponentes | E25: 68 | F25: 994 | G25: ='L4-PILC'!P104 -> 1632.81 | H25: 8500
B26: KOPA: | F26: =SUM(F22:F25) -> 4293 | H26: =SUM(H22:H25) -> 237719

Sheet Pretendenta dati
B2: CENU PIEDĀVĀJUMS — PUBLISKAIS IEPIRKUMS Nr. SA-PI1-2026/ETKC
B3: Metāla komponentu un konstrukciju piegāde (4 lotes)
B4: CPV: 44210000-5 | ES fondi — ETKC Kompetences centrs | EIS: iub.gov.lv
B6: A. PASŪTĪTĀJA INFORMĀCIJA
B7: Pasūtītājs: | C7: Storm Adventures SIA
B8: Reģ. Nr.: | C8: 42103100987
B9: Adrese: | C9: Zeltrītu iela 20–70, Mārupe, LV-2167
B10: Kontaktpersona: | C10: Rihards Dziedātājs
B11: E-pasts: | C11: rihards@storm-adventures.com
B12: Iepirkuma Nr.: | C12: SA-PI1-2026/ETKC
B14: B. PRETENDENTA INFORMĀCIJA — AIZPILDĪT
B15: Uzņēmuma nosaukums:
B16: Reģistrācijas Nr.:
B17: Juridiskā adrese:
B18: Kontaktpersona:
B19: Amats:
B20: Tālrunis:
B21: E-pasts:
B22: Bankas rekvizīti:
B23: IBAN:
B24: Piedāvājuma datums:
B25: Piedāvājuma derīgums: | C25: min. 90 dienas no iesniegšanas
B27: C. LOTU IZVĒLE — ATZĪMĒJIET, PAR KURĀM LOTĒM IESNIEDZAT PIEDĀVĀJUMU
B28: Lotes Nr. | C28: Kods | D28: Nosaukums | E28: Piedāvājums (Jā/Nē)
B29: 1 | C29: PIMK | D29: Metāla konstrukcijas | E29: Jā
B30: 2 | C30: PIMI | D30: Metāla izstrādājumi | E30: Jā
B31: 3 | C31: PIMA | D31: Alumīnija komponentes | E31: Jā
B32: 4 | C32: PILC | D32: LCB metāla komponentes | E32: Jā
B34: NORĀDĪJUMI: 1) Aizpildiet B sadaļu (pretendenta datus) ar ziliem laukiem. 2) C sadaļā norādiet, par kurām lotēm iesniedzat piedāvājumu. 3) Katras lotes cilnē aizpildiet kolonnu 'Vienības cena EUR'. 4) Cenas norādīt EUR bez PVN. 5) Iesniegt EIS sistēmā kopā ar kvalifikācijas dokumentiem.

Sheet Finanšu kopsavilkums
B1: FINANŠU PIEDĀVĀJUMA KOPSAVILKUMS
B2: Iepirkums SA-PI1-2026/ETKC — Metāla komponentu un konstrukciju piegāde (4 lotes)
B4: Lote | C4: Kods | D4: Nosaukums | E4: Piedāvā? | F4: Kop.svars kg | G4: Cena bez PVN | H4: PVN 21%
B5: 1 | C5: PIMK | D5: Metāla konstrukcijas | E5: ='Pretendenta dati'!E29 -> Jā | F5: =Titullapa!G22 -> 17642.9 | G5: ='L1-PIMK'!R371 -> 0 | H5: =G5*0.21 -> 0
B6: 2 | C6: PIMI | D6: Metāla izstrādājumi | E6: ='Pretendenta dati'!E30 -> Jā | F6: =Titullapa!G23 -> 5132.25 | G6: ='L2-PIMI'!R486 -> 0 | H6: =G6*0.21 -> 0
B7: 3 | C7: PIMA | D7: Alumīnija komponentes | E7: ='Pretendenta dati'!E31 -> Jā | F7: =Titullapa!G24 -> 556.88 | G7: ='L3-PIMA'!R99 -> 0 | H7: =G7*0.21 -> 0
B8: 4 | C8: PILC | D8: LCB metāla komponentes | E8: ='Pretendenta dati'!E32 -> Jā | F8: =Titullapa!G25 -> 1632.81 | G8: ='L4-PILC'!R106 -> 0 | H8: =G8*0.21 -> 0
B9: KOPSUMMA BEZ PVN: | F9: =SUM(F5:F8) -> 24964.84 | G9: =SUM(G5:G8) -> 0 | H9: =SUM(H5:H8) -> 0
B10: KOPĀ AR PVN (21%): | G10: =G9+H9 -> 0
B12: PAPILDU INFORMĀCIJA
B13: Piedāvātais kopējais piegādes termiņš (dienas):
B14: Piedāvājuma derīguma termiņš: | E14: 90 dienas no iesniegšanas
B15: Piezīmes / nosacījumi:

Sheet L1-PIMK
A1: LOTE 1: METALA KONSTRUKCIJAS - PIMK
A2: Iepirkums Nr. SA-PI1-2026/ETKC | Pasutijumi: 9, 10, 14 | Plān. vērtība: EUR 145150
A3: Nesosas metala konstrukcijas - Bearing frame 03 (Ord.9), Bearing structure 05/06 (Ord.10), Roof (Ord.14). Terauds S355J2.
A4: NORADIJUMI: Aizpildiet kolonnā R (Kopsumma EUR ) katra pasūtījuma starpsummu.
A5: Assy | B5: Nr. | C5: Ord.Nr. | D5: Dalas Nr. | E5: Apraksts | F5: Materials | G5: Virsmas apstrade | H5: Biezums | I5: Garums | J5: Platums | K5: Profils | L5: L mm | M5: Apstrade | N5: Svars/gab kg | O5: Daudzums | P5: Kop.svars kg | Q5: Vienibas cena EUR | R5: Kopsumma EUR | S5: Piezimes
A6: Order 9: Bearing frame 03 (100 pozicijas)
A7: 105-03000-00 | B7: 15 | C7: 9 | D7: 105-03001-01 | E7: HEA 200 - Short 1 | F7: S355J2 | G7: - | K7: HEA 200 | L7: 748 | M7: CND | N7: 31.24 | O7: 2 | P7: 62.48
A8: 105-03000-00 | B8: 16 | C8: 9 | D8: 105-03001-02 | E8: Beam End Flange | F8: S355J2 | G8: - | H8: 12 | I8: 200 | J8: 190 | M8: LC | N8: 3.32 | O8: 4 | P8: 13.28
A9: 105-03000-00 | B9: 17 | C9: 9 | D9: 105-03001-03 | E9: Beam Side Flange | F9: S355J2 | G9: - | H9: 16 | I9: 170 | J9: 111.7 | M9: LC | N9: 2.22 | O9: 8 | P9: 17.76
A10: 105-03000-00 | B10: 18 | C10: 9 | D10: 105-03001-04 | E10: Beam Tab | F10: S355J2 | G10: - | H10: 10 | I10: 200 | J10: 102 | M10: LC | N10: 1.17 | O10: 8 | P10: 9.36
A11: 105-03000-00 | B11: 19 | C11: 9 | D11: 105-03001-05 | E11: Beam Plug 1 | F11: S355J2 | G11: - | H11: 10 | I11: 170 | J11: 60 | M11: LC | N11: 0.8 | O11: 8 | P11: 6.4
A12: 105-03000-00 | B12: 20 | C12: 9 | D12: 105-03001-06 | E12: Beam Plug 2 | F12: S355J2 | G12: - | H12: 4 | I12: 170 | J12: 50 | M12: LC | N12: 0.27 | O12: 24 | P12: 6.48
A13: 105-03000-00 | B13: 21 | C13: 9 | D13: 105-03002-01 | E13: Flange 1 | F13: S355J2 | G13: - | H13: 10 | I13: 247 | J13: 179.5 | M13: LCB | N13: 2.88 | O13: 1 | P13: 2.88
A14: 105-03000-00 | B14: 22 | C14: 9 | D14: 105-03003-01 | E14: HEA 200 - Short 2 | F14: S355J2 | G14: - | K14: HEA 200 | L14: 748 | M14: CND | N14: 31.24 | O14: 2 | P14: 62.48
A15: 105-03000-00 | B15: 23 | C15: 9 | D15: 105-03004-01 | E15: Flange 4 | F15: S355J2 | G15: - | H15: 10 | I15: 230.2 | J15: 190 | M15: LCB | N15: 2.8 | O15: 1 | P15: 2.8
A16: 105-03000-00 | B16: 24 | C16: 9 | D16: 105-03005-01 | E16: HEA 200 - Long | F16: S355J2 | G16: - | K16: HEA 200 | L16: 4920 | M16: CND | N16: 206.22 | O16: 2 | P16: 412.44
A17: 105-03000-00 | B17: 25 | C17: 9 | D17: 105-03005-02 | E17: Beam Plug 3 | F17: S355J2 | G17: - | H17: 10 | I17: 170 | J17: 96.8 | M17: LC | N17: 1.26 | O17: 16 | P17: 20.16
A18: 105-03000-00 | B18: 26 | C18: 9 | D18: 105-03005-03 | E18: Flange 2 | F18: S355J2 | G18: - | H18: 10 | I18: 238.3 | J18: 179.5 | M18: LCB | N18: 2.93 | O18: 1 | P18: 2.93
A19: 105-03000-00 | B19: 27 | C19: 9 | D19: 105-03005-04 | E19: Extra Diagonal Bracket | F19: S355J2 | G19: - | H19: 12 | I19: 190 | J19: 110.7 | M19: LC | N19: 1.59 | O19: 4 | P19: 6.36
A20: 105-03000-00 | B20: 28 | C20: 9 | D20: 105-03005-05 | E20: Tower bracket | F20: S355J2 | G20: - | H20: 15 | I20: 170 | J20: 156.7 | M20: LC | N20: 2.93 | O20: 2 | P20: 5.86
A21: 105-03000-00 | B21: 29 | C21: 9 | D21: 105-03006-01 | E21: Flange 3 | F21: S355J2 | G21: - | H21: 10 | I21: 306.7 | J21: 179.5 | M21: LCB | N21: 3.8 | O21: 1 | P21: 3.8
A22: 105-03000-00 | B22: 30 | C22: 9 | D22: 105-03006-04 | E22: Roof Bracket | F22: S355J2 | G22: - | H22: 10 | I22: 170 | J22: 96.8 | M22: LC | N22: 1.24 | O22: 2 | P22: 2.48
A23: 105-03000-00 | B23: 31 | C23: 9 | D23: 105-03007-01 | E23: Lower Beam Tube - Long | F23: S355J2 | G23: - | K23: SHS 120x120x6.0 | L23: 11150 | M23: CND | N23: 227.52 | O23: 2 | P23: 455.04
A24: 105-03000-00 | B24: 32 | C24: 9 | D24: 105-03007-02 | E24: Terminal Connection 1 | F24: S355J2 | G24: - | H24: 16 | I24: 190 | J24: 180 | M24: LC | N24: 3.79 | O24: 4 | P24: 15.16
A25: 105-03000-00 | B25: 33 | C25: 9 | D25: 105-03007-03 | E25: Terminal Connection 2 | F25: S355J2 | G25: - | H25: 16 | I25: 250 | J25: 120 | M25: LC | N25: 3.58 | O25: 8 | P25: 28.64
A26: 105-03000-00 | B26: 34 | C26: 9 | D26: 105-03007-04 | E26: Gamma Bracket 1 | F26: S355J2 | G26: - | H26: 10 | I26: 190 | J26: 125 | M26: LC | N26: 1.27 | O26: 4 | P26: 5.08
A27: 105-03000-00 | B27: 35 | C27: 9 | D27: 105-03007-05 | E27: Gamma Bracket 2 | F27: S355J2 | G27: - | H27: 10 | I27: 190 | J27: 179 | M27: LC | N27: 1.49 | O27: 12 | P27: 17.88
A28: 105-03000-00 | B28: 36 | C28: 9 | D28: 105-03007-06 | E28: Gamma Bracket 3 | F28: S355J2 | G28: - | H28: 10 | I28: 190 | J28: 179 | M28: LC | N28: 1.48 | O28: 2 | P28: 2.96
A29: 105-03000-00 | B29: 37 | C29: 9 | D29: 105-03007-07 | E29: Lateral Tab 1 | F29: S355J2 | G29: - | H29: 10 | I29: 160 | J29: 89 | M29: LC | N29: 0.77 | O29: 1 | P29: 0.77
A30: 105-03000-00 | B30: 38 | C30: 9 | D30: 105-03007-08 | E30: Lateral Tab 2 | F30: S355J2 | G30: - | H30: 10 | I30: 195 | J30: 100.2 | M30: LC | N30: 0.99 | O30: 2 | P30: 1.98
A31: 105-03000-00 | B31: 39 | C31: 9 | D31: 105-03007-09 | E31: Diagonal Tab 1 | F31: S355J2 | G31: - | H31: 12 | I31: 360 | J31: 253.1 | M31: LC | N31: 6.69 | O31: 2 | P31: 13.38
A32: 105-03000-00 | B32: 40 | C32: 9 | D32: 105-03007-10 | E32: Diagonal Tab 2 | F32: S355J2 | G32: - | H32: 10 | I32: 370 | J32: 210 | M32: LC | N32: 5.63 | O32: 2 | P32: 11.26
A33: 105-03000-00 | B33: 41 | C33: 9 | D33: 105-03007-11 | E33: Diagonal Tab 3 | F33: S355J2 | G33: - | H33: 12 | I33: 330 | J33: 252.2 | M33: LC | N33: 6.33 | O33: 2 | P33: 12.66
A34: 105-03000-00 | B34: 42 | C34: 9 | D34: 105-03007-12 | E34: Diagonal Tab 4 | F34: S355J2 | G34: - | H34: 12 | I34: 345 | J34: 243.2 | M34: LC | N34: 6.52 | O34: 2 | P34: 13.04
A35: 105-03000-00 | B35: 43 | C35: 9 | D35: 105-03007-13 | E35: HF Bracket | F35: S355J2 | G35: - | H35: 8 | I35: 150 | J35: 140 | M35: LC | N35: 1.26 | O35: 10 | P35: 12.6
... A41: 105-03000-00 | B41: 49 | C41: 9 | D41: 105-03007-19 | E41: Grating support plate 2 | F41: S355J2 | G41: - | H41: 6 | I41: 2220 | J41: 70 | M41: LC | N41: 6.72 | O41: 1 | P41: 6.72
A42: 105-03000-00 | B42: 50 | C42: 9 | D42: 105-03008-01 | E42: Lower Beam Tube - Short | F42: S355J2 | G42: - | K42: SHS 120x120x6.0 | L42: 2220 | M42: CND | N42: 44.96 | O42: 2 | P42: 89.92
A43: 105-03000-00 | B43: 51 | C43: 9 | D43: 105-03008-02 | E43: Lateral Tab 3 | F43: S355J2 | G43: - | H43: 10 | I43: 195 | J43: 98.8 | M43: LC | N43: 0.98 | O43: 2 | P43: 1.96
A44: 105-03000-00 | B44: 52 | C44: 9 | D44: 105-03008-03 | E44: Diagonal Tab 4 | F44: S355J2 | G44: - | H44: 12 | I44: 345 | J44: 240.7 | M44: LC | N44: 6.6 | O44: 2 | P44: 13.2
A45: 105-03000-00 | B45: 53 | C45: 9 | D45: 105-03008-04 | E45: Grating support plate 3 | F45: S355J2 | G45: - | H45: 6 | I45: 400 | J45: 70 | M45: LC | N45: 1.08 | O45: 1 | P45: 1.08
...

Sheet L2-PIMI
A1: LOTE 2: METALA IZSTRADAJUMI - PIMI
A2: Iepirkums Nr. SA-PI1-2026/ETKC | Pasutijumi: 4.2, 5, 6, 7, 8, 12, 13, 19, 115 | Plan. vaertiba: EUR 69220
A3: Hanging frames, glass support beams, return air channel, entrance/exit, dirt collector, access hatch, ventilation hatch, mesh facade, dual use. S355/DX51D.
A4: NORADIJUMI: Aizpildiet kolonnā R (Kopsumma EUR ) katra pasūtījuma starpsummu.
A5: Assy | B5: Nr. | C5: Ord.Nr. | D5: Dalas Nr. | E5: Apraksts | F5: Materials | G5: Virsmas apstrade | H5: Biezums | I5: Garums | J5: Platums | K5: Profils | L5: L mm | M5: Apstrade | N5: Svars/gab kg | O5: Daudzums | P5: Kop.svars kg | Q5: Vienibas cena EUR | R5: Kopsumma EUR | S5: Piezimes
A6: Order 4.2: Hanging frames (134 pozicijas)
A7: 105-09000-00 | B7: 38 | C7: 4.2 | D7: 105-09100-01 | E7: Glass holding plate | F7: AISI 304 | G7: - | H7: 10 | I7: 145 | J7: 50 | M7: LC | N7: 0.51 | O7: 20 | P7: 10.2
A8: 105-09000-00 | B8: 40 | C8: 4.2 | D8: 105-09100-03 | E8: Left bracket 1L | F8: S355J2 | G8: HDG EN ISO 1461 | H8: 6 | I8: 212.1 | J8: 88.6 | M8: LCB HDG | N8: 0.61 | O8: 1 | P8: 0.61
A9: 105-09000-00 | B9: 41 | C9: 4.2 | D9: 105-09100-04 | E9: Left bracket 1M | F9: S355J2 | G9: HDG EN ISO 1461 | H9: 6 | I9: 170.1 | J9: 82.7 | M9: LCB HDG | N9: 0.5 | O9: 1 | P9: 0.5
A10: 105-09000-00 | B10: 42 | C10: 4.2 | D10: 105-09100-05 | E10: Left bracket 1U | F10: S355J2 | G10: HDG EN ISO 1461 | H10: 6 | I10: 131.5 | J10: 91.2 | M10: LCB HDG | N10: 0.36 | O10: 1 | P10: 0.36
A11: 105-09000-00 | B11: 43 | C11: 4.2 | D11: 105-09100-06 | E11: Left bracket 2L | F11: S355J2 | G11: HDG EN ISO 1461 | H11: 6 | I11: 219.9 | J11: 89.4 | M11: LCB HDG | N11: 0.63 | O11: 1 | P11: 0.63
A12: 105-09000-00 | B12: 44 | C12: 4.2 | D12: 105-09100-07 | E12: Left bracket 2M | F12: S355J2 | G12: HDG EN ISO 1461 | H12: 6 | I12: 173.8 | J12: 82.5 | M12: LCB HDG | N12: 0.52 | O12: 1 | P12: 0.52
A13: 105-09000-00 | B13: 45 | C13: 4.2 | D13: 105-09100-08 | E13: Left bracket 2U | F13: S355J2 | G13: HDG EN ISO 1461 | H13: 6 | I13: 128.3 | J13: 86.6 | M13: LCB HDG | N13: 0.32 | O13: 1 | P13: 0.32
A14: 105-09000-00 | B14: 46 | C14: 4.2 | D14: 105-09100-09 | E14: Right bracket 1L | F14: S355J2 | G14: HDG EN ISO 1461 | H14: 6 | I14: 212.1 | J14: 88.6 | M14: LCB HDG | N14: 0.61 | O14: 1 | P14: 0.61
A15: 105-09000-00 | B15: 47 | C15: 4.2 | D15: 105-09100-10 | E15: Right bracket 1M | F15: S355J2 | G15: HDG EN ISO 1461 | H15: 6 | I15: 170.1 | J15: 82.7 | M15: LCB HDG | N15: 0.5 | O15: 1 | P15: 0.5
A16: 105-09000-00 | B16: 48 | C16: 4.2 | D16: 105-09100-11 | E16: Right bracket 1U | F16: S355J2 | G16: HDG EN ISO 1461 | H16: 6 | I16: 131.5 | J16: 91.2 | M16: LCB HDG | N16: 0.36 | O16: 1 | P16: 0.36
A17: 105-09000-00 | B17: 49 | C17: 4.2 | D17: 105-09100-12 | E17: Right bracket 2L | F17: S355J2 | G17: HDG EN ISO 1461 | H17: 6 | I17: 219.9 | J17: 89.4 | M17: LCB HDG | N17: 0.63 | O17: 1 | P17: 0.63
A18: 105-09000-00 | B18: 50 | C18: 4.2 | D18: 105-09100-13 | E18: Right bracket 2M | F18: S355J2 | G18: HDG EN ISO 1461 | H18: 6 | I18: 173.8 | J18: 82.5 | M18: LCB HDG | N18: 0.52 | O18: 1 | P18: 0.52
... A108: 105-09000-00 | B108: 142 | C108: 4.2 | D108: 105-09217-02 | E108: Rib 2 | F108: S355J2 | G108: - | H108: 8 | I108: 135 | J108: 63 | M108: LC | N108: 0.38 | O108: 2 | P108: 0.76
A109: 105-09000-00 | B109: 143 | C109: 4.2 | D109: 105-09221-01 | E109: Top tube | F109: S355J2 | G109: - | K109: SHS 50x50x5.0 | L109: 4740 | M109: CND | N109: 30.81 | O109: 5 | P109: 154.05
A110: 105-09000-00 | B110: 144 | C110: 4.2 | D110: 105-09221-02 | E110: Bottom tube 1 | F110: S355J2 | G110: - | K110: SHS 50x50x5.0 | L110: 2972 | M110: CND | N110: 19.27 | O110: 1 | P110: 19.27
A111: 105-09000-00 | B111: 145 | C111: 4.2 | D111: 105-09221-03 | E111: Outside diagonal tube 1 | F111: S355J2 | G111: - | K111: SHS 50x50x5.0 | L111: 1219.2 | M111: CND | N111: 6.89 | O111: 2 | P111: 13.78
A112: 105-09000-00 | B112: 146 | C112: 4.2 | D112: 105-09221-04 | E112: Inside diagonal tube 1 | F112: S355J2 | G112: - | K112: SHS 50x50x5.0 | L112: 1129.4 | M112: CND | N112: 6.14 | O112: 2 | P112: 12.28
A113: 105-09000-00 | B113: 147 | C113: 4.2 | D113: 105-09221-05 | E113: Tie link flange | F113: S355J2 | G113: - | H113: 8 | I113: 80 | J113: 55 | M113: LC | N113: 0.25 | O113: 36 | P113: 9
A114: 105-09000-00 | B114: 148 | C114: 4.2 | D114: 105-09221-06 | E114: Side flange 1 | F114: S355J2 | G114: - | H114: 8 | I114: 150 | J114: 70 | M114: LC | N114: 0.54 | O114: 4 | P114: 2.16
A115: 105-09000-00 | B115: 149 | C115: 4.2 | D115: 105-09221-07 | E115: Bottom flange hanger frame | F115: S355J2 | G115: - | H115: 8 | I115: 150 | J115: 130 | M115: LC | N115: 1.16 | O115: 10 | P115: 11.6
A116: 105-09000-00 | B116: 150 | C116: 4.2 | D116: 105-09221-08 | E116: Middle bracket 1 | F116: S355J2 | G116: - | H116: 8 | I116: 451 | J116: 50 | M116: LC | N116: 1.39 | O116: 1 | P116: 1.39
A117: 105-09000-00 | B117: 151 | C117: 4.2 | D117: 105-09221-09 | E117: Back plate 1 | F117: S355J2 | G117: - | H117: 8 | I117: 412.7 | J117: 63 | M117: LC | N117: 1.08 | O117: 1 | P117: 1.08
A118: 105-09000-00 | B118: 152 | C118: 4.2 | D118: 105-09221-10 | E118: Vertical tube 1 | F118: S355J2 | G118: - | K118: SHS 50x50x5.0 | L118: 244 | M118: CND | N118: 1.51 | O118: 2 | P118: 3.02
A119: 105-09000-00 | B119: 153 | C119: 4.2 | D119: 105-09221-11 | E119: Sleeve | F119: S235JR | G119: - | K119: CHS 30.0x2.0 | L119: 50 | M119: CND | N119: 0.07 | O119: 5 | P119: 0.35
A120: 105-09000-00 | B120: 154 | C120: 4.2 | D120: 105-09222-01 | E120: Vertical tube 2 | F120: S355J2 | G120: - | K120: SHS 50x50x5.0 | L120: 443 | M120: CND | N120: 2.78 | O120: 2 | P120: 5.56
A121: 105-09000-00 | B121: 155 | C121: 4.2 | D121: 105-09222-02 | E121: Bottom tube 2 | F121: S355J2 | G121: - | K121: SHS 50x50x5.0 | L121: 2822 | M121: CND | N121: 18.29 | O121: 4 | P121: 73.16
A122: 105-09000-00 | B122: 156 | C122: 4.2 | D122: 105-09222-03 | E122: Outside diagonal tube 2 | F122: S355J2 | G122: - | K122: SHS 50x50x5.0 | L122: 1290.6 | M122: CND | N122: 7.73 | O122: 2 | P122: 15.46
A123: 105-09000-00 | B123: 157 | C123: 4.2 | D123: 105-09222-04 | E123: Inside diagonal tube 2 | F123: S355J2 | G123: - | K123: SHS 50x50x5.0 | L123: 1184.9 | M123: CND | N123: 6.92 | O123: 2 | P123: 13.84
A124: 105-09000-00 | B124: 158 | C124: 4.2 | D124: 105-09222-05 | E124: Middle bracket 2 | F124: S355J2 | G124: - | H124: 8 | I124: 314 | J124: 50 | M124: LC | N124: 0.96 | O124: 1 | P124: 0.96
A125: 105-09000-00 | B125: 159 | C125: 4.2 | D125: 105-09222-06 | E125: Back plate 2 | F125: S355J2 | G125: - | H125: 8 | I125: 253.3 | J125: 63 | M125: LC | N125: 0.75 | O125: 1 | P125: 0.75
A126: 105-09000-00 | B126: 160 | C126: 4.2 | D126: 105-09223-01 | E126: Vertical tube 3 | F126: S355J2 | G126: - | K126: SHS 50x50x5.0 | L126: 646 | M126: CND | N126: 4.14 | O126: 2 | P126: 8.28
A127: 105-09000-00 | B127: 161 | C127: 4.2 | D127: 105-09223-03 | E127: Outside diagonal tube 3 | F127: S355J2 | G127: - | K127: SHS 50x50x5.0 | L127: 1327.6 | M127: CND | N127: 8.19 | O127: 2 | P127: 16.38
A128: 105-09000-00 | B128: 162 | C128: 4.2 | D128: 105-09223-04 | E128: Inside diagonal tube 3 | F128: S355J2 | G128: - | K128: SHS 50x50x5.0 | L128: 1300.6 | M128: CND | N128: 7.89 | O128: 2 | P128: 15.78
A129: 105-09000-00 | B129: 163 | C129: 4.2 | D129: 105-09223-05 | E129: Middle bracket 3 | F129: S355J2 | G129: - | H129: 8 | I129: 256.5 | J129: 50 | M129: LC | N129: 0.78 | O129: 2 | P129: 1.56
...

Sheet L3-PIMA
A1: LOTE 3: ALUMĪNIJA KOMPONENTES - PIMA
A2: Iepirkums Nr. SA-PI1-2026/ETKC | Pasutijumi: 4, 99.21, 99.22 | Plan. vērtība: EUR 14,849
A3: GZ glass profiles (Ord.4), Neobond panels (Ord.99.21), Alumīnija profili (Ord.99.22). Al 6060/6082 T6.
A4: NORADIJUMI: Aizpildiet kolonnā R (Kopsumma EUR ) katra pasūtījuma starpsummu.
A5: Assy | B5: Nr. | C5: Ord.Nr. | D5: Dalas Nr. | E5: Apraksts | F5: Materials | G5: Virsmas apstrade | H5: Biezums | I5: Garums | J5: Platums | K5: Profils | L5: L mm | M5: Apstrade | N5: Svars/gab kg | O5: Daudzums | P5: Kop.svars kg | Q5: Vienibas cena EUR | R5: Kopsumma EUR | S5: Piezimes
A6: Order 4: GZ glass profiles (17 pozicijas)
A7: 106-01100-00 | B7: 2 | C7: 4 | D7: 106-01101-02 | E7: Glass bracket R1 | F7: 6082 T6 | G7: Anodizing ISO 7599:2010 | M7: MCH ANO | N7: 2.6 | O7: 9 | P7: =N7*O7 -> 23.4
A8: 106-01100-00 | B8: 5 | C8: 4 | D8: 106-01101-05 | E8: Glass bottom bracket 1 | F8: 6082 T6 | G8: Anodizing ISO 7599:2010 | M8: MCH ANO | N8: 1.58 | O8: 18 | P8: =N8*O8 -> 28.44
A9: 106-01100-00 | B9: 7 | C9: 4 | D9: 106-01102-01 | E9: Glass bracket L1 | F9: 6082 T6 | G9: Anodizing ISO 7599:2010 | M9: MCH ANO | N9: 2.6 | O9: 9 | P9: =N9*O9 -> 23.4
A10: 106-01100-00 | B10: 11 | C10: 4 | D10: 106-01107-02 | E10: Glass bracket W4 | F10: 6082 T6 | G10: Anodizing ISO 7599:2010 | M10: MCH ANO | N10: 2.85 | O10: 12 | P10: =N10*O10 -> 34.2
A11: 106-01100-00 | B11: 12 | C11: 4 | D11: 106-01107-03 | E11: Glass bottom bracket 2 | F11: 6082 T6 | G11: Anodizing ISO 7599:2010 | M11: MCH ANO | N11: 1.74 | O11: 12 | P11: =N11*O11 -> 20.88
A12: 106-01100-00 | B12: 15 | C12: 4 | D12: 106-01109-02 | E12: Glass bracket C1 | F12: 6082 T6 | G12: Anodizing ISO 7599:2010 | M12: MCH ANO | N12: 2.5 | O12: 18 | P12: =N12*O12 -> 45
A13: 106-01100-00 | B13: 19 | C13: 4 | D13: 106-01112-02 | E13: Glass bracket C4 | F13: 6082 T6 | G13: Anodizing ISO 7599:2010 | M13: MCH ANO | N13: 2.76 | O13: 12 | P13: =N13*O13 -> 33.12
A14: 106-01100-00 | B14: 21 | C14: 4 | D14: 106-01150-01 | E14: Aluminum U-profile 1 | F14: 6060F22 T6 | G14: Anodizing ISO 7599:2010 | K14: U 40x60x40x5 | L14: 1976 | M14: CND ANO | N14: 3.4 | O14: 5 | P14: =N14*O14 -> 17
A15: 106-01100-00 | B15: 22 | C15: 4 | D15: 106-01150-02 | E15: Aluminum U-profile 2 | F15: 6060F22 T6 | G15: Anodizing ISO 7599:2010 | K15: U 40x60x40x5 | L15: 2177.5 | M15: CND ANO | N15: 3.74 | O15: 4 | P15: =N15*O15 -> 14.96
A16: 106-01100-00 | B16: 28 | C16: 4 | D16: 106-01150-08 | E16: Aluminum U-profile 3 | F16: 6060F22 T6 | G16: Anodizing ISO 7599:2010 | K16: U 40x60x40x5 | L16: 1976 | M16: CND ANO | N16: 3.28 | O16: 1 | P16: =N16*O16 -> 3.28
A17: 105-11000-00 | B17: 3 | C17: 4 | D17: 105-01150-04 | E17: Shimplate 1mm | F17: AISI 304 | G17: - | H17: 1 | I17: 50 | J17: 40 | M17: LC | N17: 0.01 | O17: 4 | P17: =N17*O17 -> 0.04
A18: 105-11000-00 | B18: 4 | C18: 4 | D18: 105-01150-05 | E18: Shimplate 2mm | F18: AISI 304 | G18: - | H18: 2 | I18: 50 | J18: 40 | M18: LC | N18: 0.03 | O18: 4 | P18: =N18*O18 -> 0.12
A19: 105-11000-00 | B19: 5 | C19: 4 | D19: 105-01150-06 | E19: Shimplate 3mm | F19: AISI 304 | G19: - | H19: 3 | I19: 50 | J19: 40 | M19: LC | N19: 0.04 | O19: 4 | P19: =N19*O19 -> 0.16
A20: 105-11000-00 | B20: 6 | C20: 4 | D20: 105-01150-07 | E20: Shimplate 5mm | F20: AISI 304 | G20: - | H20: 5 | I20: 50 | J20: 40 | M20: LC | N20: 0.07 | O20: 4 | P20: =N20*O20 -> 0.28
A21: 105-11000-00 | B21: 102 | C21: 4 | D21: 105-11203-02 | E21: Glass bracket A3 | F21: 6082 T6 | G21: Anodizing ISO 7599:2010 | M21: MCH ANO | N21: 2.28 | O21: 2 | P21: =N21*O21 -> 4.56
A22: 105-11000-00 | B22: 103 | C22: 4 | D22: 105-11203-03 | E22: Glass bottom profile A3 | F22: 6082 T6 | G22: Anodizing ISO 7599:2010 | M22: MCH ANO | N22: 1.31 | O22: 2 | P22: =N22*O22 -> 2.62
A23: 105-11000-00 | B23: 105 | C23: 4 | D23: 105-11204-01 | E23: Aluminum U-profile 6 | F23: 6060F22 T6 | G23: Anodizing ISO 7599:2010 | K23: U 40x60x40x5 | L23: 1090 | M23: CND ANO | N23: 1.79 | O23: 1 | P23: =N23*O23 -> 1.79
A24: 105-01400-00 | B24: 2 | C24: 4 | D24: 105-01410-01 | E24: Base plate 1 | F24: 6082 T6 | G24: - | H24: 8 | I24: 995 | J24: 145 | M24: LC | N24: 3.09 | O24: 9 | P24: =N24*O24 -> 27.81
A25: 105-01400-00 | B25: 4 | C25: 4 | D25: 105-01410-03 | E25: Balustrade profile 1 | F25: 6060F22 T6 | G25: - | M25: COTS CND | N25: 6.9 | O25: 9 | P25: =N25*O25 -> 62.1
A26: 105-01400-00 | B26: 5 | C26: 4 | D26: 105-01410-04 | E26: Bracket | F26: 6082 T6 | G26: - | M26: MCH | N26: 0.06 | O26: 24 | P26: =N26*O26 -> 1.44
A27: 105-01400-00 | B27: 17 | C27: 4 | D27: 105-01412-03 | E27: Connector A side | F27: 6082 T6 | G27: - | H27: 18 | I27: 108 | J27: 37 | M27: MCH | N27: 0.15 | O27: 10 | P27: =N27*O27 -> 1.5
A28: 105-01400-00 | B28: 18 | C28: 4 | D28: 105-01412-04 | E28: Connector B side | F28: 6082 T6 | G28: - | H28: 18 | I28: 108 | J28: 37 | M28: MCH | N28: 0.17 | O28: 10 | P28: =N28*O28 -> 1.7
A29: 105-01400-00 | B29: 19 | C29: 4 | D29: 105-01412-05 | E29: Connector Pin | F29: 6082 T6 | G29: - | K29: 9.5 | L29: 50 | M29: MCH | N29: 0.01 | O29: 10 | P29: =N29*O29 -> 0.1
A30: 105-01400-00 | B30: 22 | C30: 4 | D30: 105-01420-01 | E30: Base plate 2 | F30: 6082 T6 | G30: - | H30: 8 | I30: 966 | J30: 145 | M30: LC | N30: 2.99 | O30: 2 | P30: =N30*O30 -> 5.98
A31: 105-01400-00 | B31: 24 | C31: 4 | D31: 105-01420-03 | E31: Balustrade profile 2 | F31: 6060F22 T6 | G31: - | M31: COTS CND | N31: 6.69 | O31: 1 | P31: =N31*O31 -> 6.69
A32: 105-01400-00 | B32: 39 | C32: 4 | D32: 105-01430-02 | E32: Balustrade profile 3 | F32: 6060F22 T6 | G32: - | M32: COTS CND | N32: 6.69 | O32: 1 | P32: =N32*O32 -> 6.69
A33: 105-01400-00 | B33: 40 | C33: 4 | D33: 105-01430-03 | E33: Long bracket | F33: 6082 T6 | G33: - | M33: MCH | N33: 0.07 | O33: 2 | P33: =N33*O33 -> 0.14
A34: 105-21000-00 | B34: 3 | C34: 4 | D34: 105-01150-04 | E34: Shimplate 1mm | F34: AISI 304 | G34: - | H34: 1 | I34: 50 | J34: 40 | M34: LC | N34: 0.01 | O34: 10 | P34: =N34*O34 -> 0.1
A35: 105-21000-00 | B35: 4 | C35: 4 | D35: 105-01150-05 | E35: Shimplate 2mm | F35: AISI 304 | G35: - | H35: 2 | I35: 50 | J35: 40 | M35: LC | N35: 0.03 | O35: 10 | P35: =N35*O35 -> 0.3
A36: 105-21000-00 | B36: 5 | C36: 4 | D36: 105-01150-06 | E36: Shimplate 3mm | F36: AISI 304 | G36: - | H36: 3 | I36: 50 | J36: 40 | M36: LC | N36: 0.04 | O36: 10 | P36: =N36*O36 -> 0.4
A37: 105-21000-00 | B37: 6 | C37: 4 | D37: 105-01150-07 | E37: Shimplate 5mm | F37: AISI 304 | G37: - | H37: 5 | I37: 50 | J37: 40 | M37: LC | N37: 0.07 | O37: 10 | P37: =N37*O37 -> 0.7
A38: 105-21000-00 | B38: 76 | C38: 4 | D38: 105-21201-02 | E38: Glass bracket A1 | F38: 6082 T6 | G38: Anodizing ISO 7599:2010 | M38: MCH ANO | N38: 1.96 | O38: 2 | P38: =N38*O38 -> 3.92
A39: 105-21000-00 | B39: 78 | C39: 4 | D39: 105-21201-04 | E39: Glass bottom profile A1 | F39: 6082 T6 | G39: Anodizing ISO 7599:2010 | M39: MCH ANO | N39: 1.19 | O39: 2 | P39: =N39*O39 -> 2.38
A40: 105-21000-00 | B40: 80 | C40: 4 | D40: 105-21202-02 | E40: Glass bracket A2 | F40: 6082 T6 | G40: Anodizing ISO 7599:2010 | M40: MCH ANO | N40: 2.24 | O40: 2 | P40: =N40*O40 -> 4.48
...

Sheet L4-PILC
A1: LOTE 4: LCB METALA KOMPONENTES - PILC
A2: Iepirkums Nr. SA-PI1-2026/ETKC | Pasūtījumi: 68 | Plān. vērtība: EUR 8,500
A3: Lazergriešanas un lociešanas metala komponentes (Ord.68). S355J2/DX51D+Z275, HDG EN ISO 1461.
A4: NORADIJUMI: Aizpildiet kolonnā R (Kopsumma EUR ) katra pasūtījuma starpsummu.
A5: Assy | B5: Nr. | C5: Ord.Nr. | D5: Dalas Nr. | E5: Apraksts | F5: Materials | G5: Virsmas apstrade | H5: Biezums | I5: Garums | J5: Platums | K5: Profils | L5: L mm | M5: Apstrade | N5: Svars/gab kg | O5: Daudzums | P5: Kop.svars kg | Q5: Vienibas cena EUR | R5: Kopsumma EUR | S5: Piezimes
A6: Order 68: LCB components (74 pozicijas)
A7: 105-03000-00 | B7: 1 | C7: 68 | D7: 105-03000-01 | E7: Entrance Zone Bracket | F7: S355J2 | G7: HDG EN ISO 1461 | H7: 10 | I7: 250 | J7: 245 | M7: LC HDG | N7: 4.11 | O7: 2 | P7: =N7*O7 -> 8.22
A8: 105-03000-00 | B8: 2 | C8: 68 | D8: 105-03000-02 | E8: Back Plate 1 | F8: S355J2 | G8: HDG EN ISO 1461 | H8: 6 | I8: 250 | J8: 98 | M8: LC HDG | N8: 1.11 | O8: 2 | P8: =N8*O8 -> 2.22
A9: 105-03000-00 | B9: 3 | C9: 68 | D9: 105-03000-03 | E9: Glass Support bracket | F9: S355J2 | G9: HDG EN ISO 1461 | H9: 8 | I9: 214.9 | J9: 70 | M9: LCB HDG | N9: 0.91 | O9: 1 | P9: =N9*O9 -> 0.91
A10: 105-03000-00 | B10: 4 | C10: 68 | D10: 105-03000-04 | E10: Back Plate 2 | F10: S355J2 | G10: HDG EN ISO 1461 | H10: 6 | I10: 98 | J10: 70 | M10: LC HDG | N10: 0.3 | O10: 2 | P10: =N10*O10 -> 0.6
A11: 105-03000-00 | B11: 5 | C11: 68 | D11: 105-03000-05 | E11: Panel bracket 2-1 | F11: S355J2 | G11: HDG EN ISO 1461 | H11: 3 | I11: 3178 | J11: 214.2 | M11: LCB HDG | N11: 15.87 | O11: 1 | P11: =N11*O11 -> 15.87
A12: 105-03000-00 | B12: 6 | C12: 68 | D12: 105-03000-06 | E12: Panel bracket 2-2 | F12: S355J2 | G12: HDG EN ISO 1461 | H12: 3 | I12: 1974 | J12: 214.2 | M12: LCB HDG | N12: 9.85 | O12: 2 | P12: =N12*O12 -> 19.7
A13: 105-03000-00 | B13: 7 | C13: 68 | D13: 105-03000-07 | E13: Panel bracket 2-3 | F13: S355J2 | G13: HDG EN ISO 1461 | H13: 3 | I13: 2177 | J13: 214.2 | M13: LCB HDG | N13: 10.87 | O13: 1 | P13: =N13*O13 -> 10.87
A14: 105-03000-00 | B14: 8 | C14: 68 | D14: 105-03000-08 | E14: Panel bracket 2-4 | F14: S355J2 | G14: HDG EN ISO 1461 | H14: 3 | I14: 2177 | J14: 214.2 | M14: LCB HDG | N14: 10.87 | O14: 1 | P14: =N14*O14 -> 10.87
A15: 105-03000-00 | B15: 9 | C15: 68 | D15: 105-03000-09 | E15: Panel bracket 2-5 | F15: S355J2 | G15: HDG EN ISO 1461 | H15: 3 | I15: 2250 | J15: 214.2 | M15: LCB HDG | N15: 11.24 | O15: 1 | P15: =N15*O15 -> 11.24
A16: 105-03000-00 | B16: 10 | C16: 68 | D16: 105-03000-10 | E16: Panel bracket 1-1 | F16: S355J2 | G16: HDG EN ISO 1461 | H16: 3 | I16: 3178 | J16: 179.2 | M16: LCB HDG | N16: 13.25 | O16: 1 | P16: =N16*O16 -> 13.25
A17: 105-03000-00 | B17: 11 | C17: 68 | D17: 105-03000-11 | E17: Panel bracket 1-2 | F17: S355J2 | G17: HDG EN ISO 1461 | H17: 3 | I17: 1974 | J17: 179.2 | M17: LCB HDG | N17: 8.22 | O17: 2 | P17: =N17*O17 -> 16.44
A18: 105-03000-00 | B18: 12 | C18: 68 | D18: 105-03000-12 | E18: Panel bracket 1-3 | F18: S355J2 | G18: HDG EN ISO 1461 | H18: 3 | I18: 2177 | J18: 179.2 | M18: LCB HDG | N18: 9.07 | O18: 1 | P18: =N18*O18 -> 9.07
... A62: 105-01300-00 | B62: 4 | C62: 68 | D62: 105-01300-04 | E62: Railing base plate 2 | F62: S355JR | G62: Painting C3.09 ISO12944 | H62: 10 | I62: 650 | J62: 150 | M62: LC CND PNT | N62: 7.53 | O62: 1 | P62: =N62*O62 -> 7.53
A63: 105-01300-00 | B63: 5 | C63: 68 | D63: 105-01310-01 | E63: RHS 80x40x3.0 | F63: S355 | G63: HDG EN ISO 1461 | K63: RHS 80x40x3.0 | L63: 2600 | M63: CND HDG | N63: 13.301 | O63: 3 | P63: =N63*O63 -> 39.903
A64: 105-01300-00 | B64: 6 | C64: 68 | D64: 105-01310-02 | E64: RHS 80x40x3.0 | F64: S355 | G64: HDG EN ISO 1461 | K64: RHS 80x40x3.0 | L64: 2715 | M64: CND HDG | N64: 13.894 | O64: 1 | P64: =N64*O64 -> 13.894
A65: 105-01300-00 | B65: 7 | C65: 68 | D65: 105-01310-03 | E65: RHS 80x40x3.0 | F65: S355 | G65: HDG EN ISO 1461 | K65: RHS 80x40x3.0 | L65: 2660 | M65: CND HDG | N65: 13.573 | O65: 1 | P65: =N65*O65 -> 13.573
A66: 105-01300-00 | B66: 8 | C66: 68 | D66: 105-01310-04 | E66: RHS 80x40x3.0 | F66: S355 | G66: HDG EN ISO 1461 | K66: RHS 80x40x3.0 | L66: 2770 | M66: CND HDG | N66: 14.177 | O66: 1 | P66: =N66*O66 -> 14.177
A67: 105-01300-00 | B67: 9 | C67: 68 | D67: 105-01310-05 | E67: RHS 80x40x3.0 | F67: S355 | G67: HDG EN ISO 1461 | K67: RHS 80x40x3.0 | L67: 2545 | M67: CND HDG | N67: 12.981 | O67: 1 | P67: =N67*O67 -> 12.981
A68: 105-01300-00 | B68: 10 | C68: 68 | D68: 105-01310-06 | E68: RHS 80x40x3.0 | F68: S355 | G68: HDG EN ISO 1461 | K68: RHS 80x40x3.0 | L68: 2490 | M68: CND HDG | N68: 12.734 | O68: 1 | P68: =N68*O68 -> 12.734
A69: 105-01300-00 | B69: 11 | C69: 68 | D69: 105-01310-07 | E69: RHS 80x40x3.0 | F69: S355 | G69: HDG EN ISO 1461 | K69: RHS 80x40x3.0 | L69: 2474 | M69: CND HDG | N69: 12.615 | O69: 4 | P69: =N69*O69 -> 50.46
A70: 105-01300-00 | B70: 12 | C70: 68 | D70: 105-01310-08 | E70: RHS 80x40x3.0 | F70: S355 | G70: HDG EN ISO 1461 | K70: RHS 80x40x3.0 | L70: 2500 | M70: CND HDG | N70: 12.785 | O70: 1 | P70: =N70*O70 -> 12.785
A71: 105-01300-00 | B71: 13 | C71: 68 | D71: 105-01310-09 | E71: RHS 80x40x3.0 | F71: S355 | G71: HDG EN ISO 1461 | K71: RHS 80x40x3.0 | L71: 2740 | M71: CND HDG | N71: 14.022 | O71: 1 | P71: =N71*O71 -> 14.022
A72: 105-01300-00 | B72: 14 | C72: 68 | D72: 105-01310-10 | E72: RHS 80x40x3.0 | F72: S355 | G72: HDG EN ISO 1461 | K72: RHS 80x40x3.0 | L72: 770 | M72: CND HDG | N72: 3.902 | O72: 1 | P72: =N72*O72 -> 3.902
A73: 105-01300-00 | B73: 15 | C73: 68 | D73: 105-01310-11 | E73: RHS 80x40x3.0 | F73: S355 | G73: HDG EN ISO 1461 | K73: RHS 80x40x3.0 | L73: 2770 | M73: CND HDG | N73: 14.104 | O73: 1 | P73: =N73*O73 -> 14.104
A74: 105-01300-00 | B74: 16 | C74: 68 | D74: 105-01310-12 | E74: RHS 80x40x3.0 | F74: S355 | G74: HDG EN ISO 1461 | K74: RHS 80x40x3.0 | L74: 2710 | M74: CND HDG | N74: 13.831 | O74: 1 | P74: =N74*O74 -> 13.831
A75: 105-01300-00 | B75: 17 | C75: 68 | D75: 105-01310-13 | E75: RHS 80x40x3.0 | F75: S355 | G75: HDG EN ISO 1461 | K75: RHS 80x40x3.0 | L75: 2474 | M75: CND HDG | N75: 12.651 | O75: 4 | P75: =N75*O75 -> 50.604
A76: 105-01300-00 | B76: 36 | C76: 68 | D76: 105-30130-06 | E76: Shimplate 1mm | F76: DX51D+Z275 | G76: - | H76: 1 | I76: 70 | J76: 70 | M76: LC | N76: 0.03 | O76: 124 | P76: =N76*O76 -> 3.72
A77: 105-01300-00 | B77: 37 | C77: 68 | D77: 105-30130-07 | E77: Shimplate 2mm | F77: DX51D+Z275 | G77: - | H77: 2 | I77: 70 | J77: 70 | M77: LC | N77: 0.07 | O77: 124 | P77: =N77*O77 -> 8.68
A78: 105-01300-00 | B78: 38 | C78: 68 | D78: 105-30130-08 | E78: Shimplate 5mm | F78: S355 | G78: HDG EN ISO 1461 | H78: 5 | I78: 70 | J78: 70 | M78: LC HDG | N78: 0.17 | O78: 122 | P78: =N78*O78 -> 20.74
A79: 105-30100-00 | B79: 3 | C79: 68 | D79: 105-30130-01 | E79: Bent U-profile | F79: S355 | G79: HDG EN ISO 1461 | H79: 3 | I79: 2620 | J79: 176.1 | M79: LCB | N79: 10.71 | O79: 2 | P79: =N79*O79 -> 21.42
A80: 105-30100-00 | B80: 4 | C80: 68 | D80: 105-30130-02 | E80: Rod bracket | F80: S355 | G80: HDG EN ISO 1461 | H80: 3 | I80: 66.6 | J80: 37 | M80: LCB HDG | N80: 0.05 | O80: 40 | P80: =N80*O80 -> 2
A81: 105-30100-00 | B81: 7 | C81: 68 | D81: 105-30130-06 | E81: Shimplate 1mm | F81: DX51D+Z275 | G81: - | H81: 1 | I81: 70 | J81: 70 | M81: LC | N81: 0.03 | O81: 20 | P81: =N81*O81 -> 0.6
A82: 105-30100-00 | B82: 8 | C82: 68 | D82: 105-30130-07 | E82: Shimplate 2mm | F82: DX51D+Z275 | G82: - | H82: 2 | I82: 70 | J82: 70 | M82: LC | N82: 0.07 | O82: 20 | P82: =N82*O82 -> 1.4
A83: 105-30100-00 | B83: 9 | C83: 68 | D83: 105-30130-08 | E83: Shimplate 5mm | F83: S355 | G83: HDG EN ISO 1461 | H83: 5 | I83: 70 | J83: 70 | M83: LC HDG | N83: 0.17 | O83: 30 | P83: =N83*O83 -> 5.1
...
