Workbook

Sheet Titullapa
B2: PUBLISKAIS IEPIRKUMS Nr. SA-PI1-2026/ETKC
B3: Metalu komponentu un konstrukciju piegade - STORM ETKC BTS02
B5: Pasutitajs: | C5: Storm Adventures SIA
B6: Reg. Nr.: | C6: 42103100987
B7: Adrese: | C7: Zeltritu iela 20-70, Marupe, LV-2167
B8: Kontaktpersona: | C8: Rihards Dziedatajs
B9: E-pasts: | C9: rihards@storm-adventures.com
B10: Talrunis: | C10: +371 26 174 748
B11: Iepirkuma Nr.: | C11: SA-PI1-2026/ETKC
B12: Datums: | C12: 2026-07-02
B13: Procedura: | C13: Atklats konkurss (PIL 8.pants)
B14: Finansejums: | C14: ES fondi - ETKC Kompetences centrs
B15: Publicešana: | C15: EIS - iub.gov.lv
B16: Piedavajumu termins: | C16: [AIZPILDIT - min. 15 kalendaras dienas no publicešanas]
... B18: Lotu skaits: | C18: 4 lotes - var pieteikties uz vienu vai vairakam
B20: LOTU KOPSAVILKUMS
B21: Lote | C21: Kods | D21: Nosaukums | E21: Pasutijumi | F21: Dalu sk. | G21: Kopsvars | H21: Plānotā vērtība
B22: 1 | C22: PIMK | D22: Metala konstrukcijas | E22: 9, 10, 14 | F22: 1650 | G22: ='L1-PIMK'!P107+'L1-PIMK'!P333+'L1-PIMK'!P369 -> 17642.9 | H22: 145150
B23: 2 | C23: PIMI | D23: Metala izstradajumi | E23: 4.2, 5, 6, 7, 8, 12, 13, 19, 115 | F23: 1334 | G23: ='L2-PIMI'!P141+'L2-PIMI'!P290+'L2-PIMI'!P308+'L2-PIMI'!P362+'L2-PIMI'!P416+'L2-PIMI'!P437+'L2-PIMI'!P484 -> 5132.25 | H23: 69220
B24: 3 | C24: PIMA | D24: Alumīnija komponentes | E24: 4, 99.21, 99.22 | F24: 315 | G24: ='L3-PIMA'!P44+'L3-PIMA'!P82+'L3-PIMA'!P97 -> 556.88 | H24: 14849
B25: 4 | C25: PILC | D25: LCB metala komponentes | E25: 68 | F25: 994 | G25: ='L4-PILC'!P104 -> 1632.81 | H25: 8500
B26: KOPA: | F26: =SUM(F22:F25) -> 4293 | H26: =SUM(H22:H25) -> 237719

Sheet Pretendenta dati
B2: CENU PIEDĀVĀJUMS — PUBLISKAIS IEPIRKUMS Nr. SA-PI1-2026/ETKC
B3: Metāla komponentu un konstrukciju piegāde (4 lotes)
B4: CPV: 44210000-5 | ES fondi — ETKC Kompetences centrs | EIS: iub.gov.lv
B6: A. PASŪTĪTĀJA INFORMĀCIJA
B7: Pasūtītājs: | C7: Storm Adventures SIA
B8: Reģ. Nr.: | C8: 42103100987
B9: Adrese: | C9: Zeltrītu iela 20–70, Mārupe, LV-2167
B10: Kontaktpersona: | C10: Rihards Dziedātājs
B11: E-pasts: | C11: rihards@storm-adventures.com
B12: Iepirkuma Nr.: | C12: SA-PI1-2026/ETKC
B14: B. PRETENDENTA INFORMĀCIJA — AIZPILDĪT
B15: Uzņēmuma nosaukums:
B16: Reģistrācijas Nr.:
B17: Juridiskā adrese:
B18: Kontaktpersona:
B19: Amats:
B20: Tālrunis:
B21: E-pasts:
B22: Bankas rekvizīti:
B23: IBAN:
B24: Piedāvājuma datums:
B25: Piedāvājuma derīgums: | C25: min. 90 dienas no iesniegšanas
B27: C. LOTU IZVĒLE — ATZĪMĒJIET, PAR KURĀM LOTĒM IESNIEDZAT PIEDĀVĀJUMU
B28: Lotes Nr. | C28: Kods | D28: Nosaukums | E28: Piedāvājums (Jā/Nē)
B29: 1 | C29: PIMK | D29: Metāla konstrukcijas | E29: Jā
B30: 2 | C30: PIMI | D30: Metāla izstrādājumi | E30: Jā
B31: 3 | C31: PIMA | D31: Alumīnija komponentes | E31: Jā
B32: 4 | C32: PILC | D32: LCB metāla komponentes | E32: Jā
B34: NORĀDĪJUMI: 1) Aizpildiet B sadaļu (pretendenta datus) ar ziliem laukiem. 2) C sadaļā norādiet, par kurām lotēm iesniedzat piedāvājumu. 3) Katras lotes cilnē aizpildiet kolonnu 'Vienības cena EUR'. 4) Cenas norādīt EUR bez PVN. 5) Iesniegt EIS sistēmā kopā ar kvalifikācijas dokumentiem.

Sheet Finanšu kopsavilkums
B1: FINANŠU PIEDĀVĀJUMA KOPSAVILKUMS
B2: Iepirkums SA-PI1-2026/ETKC — Metāla komponentu un konstrukciju piegāde (4 lotes)
B4: Lote | C4: Kods | D4: Nosaukums | E4: Piedāvā? | F4: Kop.svars kg | G4: Cena bez PVN | H4: PVN 21%
B5: 1 | C5: PIMK | D5: Metāla konstrukcijas | E5: ='Pretendenta dati'!E29 -> Jā | F5: =Titullapa!G22 -> 17642.9 | G5: ='L1-PIMK'!R371 -> 0 | H5: =G5*0.21 -> 0
B6: 2 | C6: PIMI | D6: Metāla izstrādājumi | E6: ='Pretendenta dati'!E30 -> Jā | F6: =Titullapa!G23 -> 5132.25 | G6: ='L2-PIMI'!R486 -> 0 | H6: =G6*0.21 -> 0
B7: 3 | C7: PIMA | D7: Alumīnija komponentes | E7: ='Pretendenta dati'!E31 -> Jā | F7: =Titullapa!G24 -> 556.88 | G7: ='L3-PIMA'!R99 -> 0 | H7: =G7*0.21 -> 0
B8: 4 | C8: PILC | D8: LCB metāla komponentes | E8: ='Pretendenta dati'!E32 -> Jā | F8: =Titullapa!G25 -> 1632.81 | G8: ='L4-PILC'!R106 -> 0 | H8: =G8*0.21 -> 0
B9: KOPSUMMA BEZ PVN: | F9: =SUM(F5:F8) -> 24964.84 | G9: =SUM(G5:G8) -> 0 | H9: =SUM(H5:H8) -> 0
B10: KOPĀ AR PVN (21%): | G10: =G9+H9 -> 0
B12: PAPILDU INFORMĀCIJA
B13: Piedāvātais kopējais piegādes termiņš (dienas):
B14: Piedāvājuma derīguma termiņš: | E14: 90 dienas no iesniegšanas
B15: Piezīmes / nosacījumi:

Sheet L1-PIMK
A1: LOTE 1: METALA KONSTRUKCIJAS - PIMK
A2: Iepirkums Nr. SA-PI1-2026/ETKC | Pasutijumi: 9, 10, 14 | Plān. vērtība: EUR 145150
A3: Nesosas metala konstrukcijas - Bearing frame 03 (Ord.9), Bearing structure 05/06 (Ord.10), Roof (Ord.14). Terauds S355J2.
A4: NORADIJUMI: Aizpildiet kolonnā R (Kopsumma EUR ) katra pasūtījuma starpsummu.
A5: Assy | B5: Nr. | C5: Ord.Nr. | D5: Dalas Nr. | E5: Apraksts | F5: Materials | G5: Virsmas apstrade | H5: Biezums | I5: Garums | J5: Platums | K5: Profils | L5: L mm | M5: Apstrade | N5: Svars/gab kg | O5: Daudzums | P5: Kop.svars kg | Q5: Vienibas cena EUR | R5: Kopsumma EUR | S5: Piezimes
A6: Order 9: Bearing frame 03 (100 pozicijas)
A7: 105-03000-00 | B7: 15 | C7: 9 | D7: 105-03001-01 | E7: HEA 200 - Short 1 | F7: S355J2 | G7: - | K7: HEA 200 | L7: 748 | M7: CND | N7: 31.24 | O7: 2 | P7: 62.48
A8: 105-03000-00 | B8: 16 | C8: 9 | D8: 105-03001-02 | E8: Beam End Flange | F8: S355J2 | G8: - | H8: 12 | I8: 200 | J8: 190 | M8: LC | N8: 3.32 | O8: 4 | P8: 13.28
A9: 105-03000-00 | B9: 17 | C9: 9 | D9: 105-03001-03 | E9: Beam Side Flange | F9: S355J2 | G9: - | H9: 16 | I9: 170 | J9: 111.7 | M9: LC | N9: 2.22 | O9: 8 | P9: 17.76
A10: 105-03000-00 | B10: 18 | C10: 9 | D10: 105-03001-04 | E10: Beam Tab | F10: S355J2 | G10: - | H10: 10 | I10: 200 | J10: 102 | M10: LC | N10: 1.17 | O10: 8 | P10: 9.36
A11: 105-03000-00 | B11: 19 | C11: 9 | D11: 105-03001-05 | E11: Beam Plug 1 | F11: S355J2 | G11: - | H11: 10 | I11: 170 | J11: 60 | M11: LC | N11: 0.8 | O11: 8 | P11: 6.4
A12: 105-03000-00 | B12: 20 | C12: 9 | D12: 105-03001-06 | E12: Beam Plug 2 | F12: S355J2 | G12: - | H12: 4 | I12: 170 | J12: 50 | M12: LC | N12: 0.27 | O12: 24 | P12: 6.48
A13: 105-03000-00 | B13: 21 | C13: 9 | D13: 105-03002-01 | E13: Flange 1 | F13: S355J2 | G13: - | H13: 10 | I13: 247 | J13: 179.5 | M13: LCB | N13: 2.88 | O13: 1 | P13: 2.88
A14: 105-03000-00 | B14: 22 | C14: 9 | D14: 105-03003-01 | E14: HEA 200 - Short 2 | F14: S355J2 | G14: - | K14: HEA 200 | L14: 748 | M14: CND | N14: 31.24 | O14: 2 | P14: 62.48
A15: 105-03000-00 | B15: 23 | C15: 9 | D15: 105-03004-01 | E15: Flange 4 | F15: S355J2 | G15: - | H15: 10 | I15: 230.2 | J15: 190 | M15: LCB | N15: 2.8 | O15: 1 | P15: 2.8
A16: 105-03000-00 | B16: 24 | C16: 9 | D16: 105-03005-01 | E16: HEA 200 - Long | F16: S355J2 | G16: - | K16: HEA 200 | L16: 4920 | M16: CND | N16: 206.22 | O16: 2 | P16: 412.44
A17: 105-03000-00 | B17: 25 | C17: 9 | D17: 105-03005-02 | E17: Beam Plug 3 | F17: S355J2 | G17: - | H17: 10 | I17: 170 | J17: 96.8 | M17: LC | N17: 1.26 | O17: 16 | P17: 20.16
A18: 105-03000-00 | B18: 26 | C18: 9 | D18: 105-03005-03 | E18: Flange 2 | F18: S355J2 | G18: - | H18: 10 | I18: 238.3 | J18: 179.5 | M18: LCB | N18: 2.93 | O18: 1 | P18: 2.93
A19: 105-03000-00 | B19: 27 | C19: 9 | D19: 105-03005-04 | E19: Extra Diagonal Bracket | F19: S355J2 | G19: - | H19: 12 | I19: 190 | J19: 110.7 | M19: LC | N19: 1.59 | O19: 4 | P19: 6.36
A20: 105-03000-00 | B20: 28 | C20: 9 | D20: 105-03005-05 | E20: Tower bracket | F20: S355J2 | G20: - | H20: 15 | I20: 170 | J20: 156.7 | M20: LC | N20: 2.93 | O20: 2 | P20: 5.86
A21: 105-03000-00 | B21: 29 | C21: 9 | D21: 105-03006-01 | E21: Flange 3 | F21: S355J2 | G21: - | H21: 10 | I21: 306.7 | J21: 179.5 | M21: LCB | N21: 3.8 | O21: 1 | P21: 3.8
A22: 105-03000-00 | B22: 30 | C22: 9 | D22: 105-03006-04 | E22: Roof Bracket | F22: S355J2 | G22: - | H22: 10 | I22: 170 | J22: 96.8 | M22: LC | N22: 1.24 | O22: 2 | P22: 2.48
A23: 105-03000-00 | B23: 31 | C23: 9 | D23: 105-03007-01 | E23: Lower Beam Tube - Long | F23: S355J2 | G23: - | K23: SHS 120x120x6.0 | L23: 11150 | M23: CND | N23: 227.52 | O23: 2 | P23: 455.04
A24: 105-03000-00 | B24: 32 | C24: 9 | D24: 105-03007-02 | E24: Terminal Connection 1 | F24: S355J2 | G24: - | H24: 16 | I24: 190 | J24: 180 | M24: LC | N24: 3.79 | O24: 4 | P24: 15.16
A25: 105-03000-00 | B25: 33 | C25: 9 | D25: 105-03007-03 | E25: Terminal Connection 2 | F25: S355J2 | G25: - | H25: 16 | I25: 250 | J25: 120 | M25: LC | N25: 3.58 | O25: 8 | P25: 28.64
A26: 105-03000-00 | B26: 34 | C26: 9 | D26: 105-03007-04 | E26: Gamma Bracket 1 | F26: S355J2 | G26: - | H26: 10 | I26: 190 | J26: 125 | M26: LC | N26: 1.27 | O26: 4 | P26: 5.08
A27: 105-03000-00 | B27: 35 | C27: 9 | D27: 105-03007-05 | E27: Gamma Bracket 2 | F27: S355J2 | G27: - | H27: 10 | I27: 190 | J27: 179 | M27: LC | N27: 1.49 | O27: 12 | P27: 17.88
A28: 105-03000-00 | B28: 36 | C28: 9 | D28: 105-03007-06 | E28: Gamma Bracket 3 | F28: S355J2 | G28: - | H28: 10 | I28: 190 | J28: 179 | M28: LC | N28: 1.48 | O28: 2 | P28: 2.96
A29: 105-03000-00 | B29: 37 | C29: 9 | D29: 105-03007-07 | E29: Lateral Tab 1 | F29: S355J2 | G29: - | H29: 10 | I29: 160 | J29: 89 | M29: LC | N29: 0.77 | O29: 1 | P29: 0.77
A30: 105-03000-00 | B30: 38 | C30: 9 | D30: 105-03007-08 | E30: Lateral Tab 2 | F30: S355J2 | G30: - | H30: 10 | I30: 195 | J30: 100.2 | M30: LC | N30: 0.99 | O30: 2 | P30: 1.98
A31: 105-03000-00 | B31: 39 | C31: 9 | D31: 105-03007-09 | E31: Diagonal Tab 1 | F31: S355J2 | G31: - | H31: 12 | I31: 360 | J31: 253.1 | M31: LC | N31: 6.69 | O31: 2 | P31: 13.38
A32: 105-03000-00 | B32: 40 | C32: 9 | D32: 105-03007-10 | E32: Diagonal Tab 2 | F32: S355J2 | G32: - | H32: 10 | I32: 370 | J32: 210 | M32: LC | N32: 5.63 | O32: 2 | P32: 11.26
A33: 105-03000-00 | B33: 41 | C33: 9 | D33: 105-03007-11 | E33: Diagonal Tab 3 | F33: S355J2 | G33: - | H33: 12 | I33: 330 | J33: 252.2 | M33: LC | N33: 6.33 | O33: 2 | P33: 12.66
A34: 105-03000-00 | B34: 42 | C34: 9 | D34: 105-03007-12 | E34: Diagonal Tab 4 | F34: S355J2 | G34: - | H34: 12 | I34: 345 | J34: 243.2 | M34: LC | N34: 6.52 | O34: 2 | P34: 13.04
A35: 105-03000-00 | B35: 43 | C35: 9 | D35: 105-03007-13 | E35: HF Bracket | F35: S355J2 | G35: - | H35: 8 | I35: 150 | J35: 140 | M35: LC | N35: 1.26 | O35: 10 | P35: 12.6
... A41: 105-03000-00 | B41: 49 | C41: 9 | D41: 105-03007-19 | E41: Grating support plate 2 | F41: S355J2 | G41: - | H41: 6 | I41: 2220 | J41: 70 | M41: LC | N41: 6.72 | O41: 1 | P41: 6.72
A42: 105-03000-00 | B42: 50 | C42: 9 | D42: 105-03008-01 | E42: Lower Beam Tube - Short | F42: S355J2 | G42: - | K42: SHS 120x120x6.0 | L42: 2220 | M42: CND | N42: 44.96 | O42: 2 | P42: 89.92
A43: 105-03000-00 | B43: 51 | C43: 9 | D43: 105-03008-02 | E43: Lateral Tab 3 | F43: S355J2 | G43: - | H43: 10 | I43: 195 | J43: 98.8 | M43: LC | N43: 0.98 | O43: 2 | P43: 1.96
A44: 105-03000-00 | B44: 52 | C44: 9 | D44: 105-03008-03 | E44: Diagonal Tab 4 | F44: S355J2 | G44: - | H44: 12 | I44: 345 | J44: 240.7 | M44: LC | N44: 6.6 | O44: 2 | P44: 13.2
A45: 105-03000-00 | B45: 53 | C45: 9 | D45: 105-03008-04 | E45: Grating support plate 3 | F45: S355J2 | G45: - | H45: 6 | I45: 400 | J45: 70 | M45: LC | N45: 1.08 | O45: 1 | P45: 1.08
A46: 105-03000-00 | B46: 54 | C46: 9 | D46: 105-03008-05 | E46: Grating support plate 4 | F46: S355J2 | G46: - | H46: 6 | I46: 1655 | J46: 70 | M46: LC | N46: 5.14 | O46: 1 | P46: 5.14
A47: 105-03000-00 | B47: 55 | C47: 9 | D47: 105-03009-01 | E47: Grating support plate 6 | F47: S355J2 | G47: - | H47: 6 | I47: 905 | J47: 70 | M47: LC | N47: 2.82 | O47: 1 | P47: 2.82
A48: 105-03000-00 | B48: 56 | C48: 9 | D48: 105-03009-02 | E48: Grating support plate 7 | F48: S355J2 | G48: - | H48: 6 | I48: 360 | J48: 70 | M48: LC | N48: 1.13 | O48: 1 | P48: 1.13
A49: 105-03000-00 | B49: 57 | C49: 9 | D49: 105-03010-01 | E49: Floor Bracket 3 | F49: S355J2 | G49: - | H49: 6 | I49: 1500 | J49: 70 | M49: LC | N49: 4.67 | O49: 1 | P49: 4.67
A50: 105-03000-00 | B50: 58 | C50: 9 | D50: 105-03010-02 | E50: Grating support plate 5 | F50: S355J2 | G50: - | H50: 10 | I50: 160 | J50: 85 | M50: LC | N50: 0.75 | O50: 1 | P50: 0.75
A51: 105-03000-00 | B51: 59 | C51: 9 | D51: 105-03011-01 | E51: Upper Beam Tube - Long | F51: S355J2 | G51: - | K51: SHS 120x120x6.0 | L51: 11150 | M51: CND | N51: 227.82 | O51: 2 | P51: 455.64
A52: 105-03000-00 | B52: 60 | C52: 9 | D52: 105-03011-02 | E52: Terminal Connection 3 | F52: S355J2 | G52: - | H52: 16 | I52: 280 | J52: 262.4 | M52: LC | N52: 6.93 | O52: 2 | P52: 13.86
A53: 105-03000-00 | B53: 61 | C53: 9 | D53: 105-03011-03 | E53: Lateral Tab 4 | F53: S355J2 | G53: - | H53: 10 | I53: 220 | J53: 90 | M53: LC | N53: 1.22 | O53: 5 | P53: 6.1
A54: 105-03000-00 | B54: 62 | C54: 9 | D54: 105-03011-04 | E54: Lateral Tab 5 | F54: S355J2 | G54: - | H54: 10 | I54: 330 | J54: 90 | M54: LC | N54: 1.97 | O54: 1 | P54: 1.97
A55: 105-03000-00 | B55: 63 | C55: 9 | D55: 105-03011-05 | E55: Lateral Tab 6 | F55: S355J2 | G55: - | H55: 10 | I55: 340 | J55: 90 | M55: LC | N55: 2.03 | O55: 1 | P55: 2.03
A56: 105-03000-00 | B56: 64 | C56: 9 | D56: 105-03011-06 | E56: Diagonal Tab 6 | F56: S355J2 | G56: - | H56: 10 | I56: 310 | J56: 210 | M56: LC | N56: 4.47 | O56: 4 | P56: 17.88
A57: 105-03000-00 | B57: 65 | C57: 9 | D57: 105-03011-07 | E57: Vertical Tab | F57: S355J2 | G57: - | H57: 10 | I57: 250 | J57: 210 | M57: LC | N57: 3.61 | O57: 2 | P57: 7.22
A58: 105-03000-00 | B58: 66 | C58: 9 | D58: 105-03011-08 | E58: Diagonal Tab 7 | F58: S355J2 | G58: - | H58: 12 | I58: 330 | J58: 252.2 | M58: LC | N58: 6.33 | O58: 2 | P58: 12.66
A59: 105-03000-00 | B59: 67 | C59: 9 | D59: 105-03012-01 | E59: Upper Beam Tube - Short | F59: S355J2 | G59: - | K59: SHS 120x120x6.0 | L59: 2220 | M59: CND | N59: 44.88 | O59: 2 | P59: 89.76
A60: 105-03000-00 | B60: 68 | C60: 9 | D60: 105-03012-02 | E60: Terminal Connection 4 | F60: S355J2 | G60: - | H60: 16 | I60: 280 | J60: 250.7 | M60: LC | N60: 6.84 | O60: 2 | P60: 13.68
A61: 105-03000-00 | B61: 69 | C61: 9 | D61: 105-03012-03 | E61: Diagonal Tab 8 | F61: S355J2 | G61: - | H61: 12 | I61: 310 | J61: 243.2 | M61: LC | N61: 5.99 | O61: 2 | P61: 11.98
A62: 105-03000-00 | B62: 70 | C62: 9 | D62: 105-03013-01 | E62: Lateral Tab 7 | F62: S355J2 | G62: - | H62: 10 | I62: 340 | J62: 90 | M62: LC | N62: 2.02 | O62: 1 | P62: 2.02
A63: 105-03000-00 | B63: 71 | C63: 9 | D63: 105-03013-02 | E63: Lateral Tab 8 | F63: S355J2 | G63: - | H63: 10 | I63: 355 | J63: 90 | M63: LC | N63: 2.09 | O63: 1 | P63: 2.09
A64: 105-03000-00 | B64: 72 | C64: 9 | D64: 105-03014-01 | E64: Lateral Tab 9 | F64: S355J2 | G64: - | H64: 10 | I64: 365 | J64: 90 | M64: LC | N64: 2.21 | O64: 1 | P64: 2.21
A65: 105-03000-00 | B65: 73 | C65: 9 | D65: 105-03015-01 | E65: Lateral Tube 1 | F65: S355J2 | G65: - | K65: RHS 200x100x5.0 | L65: 4490 | M65: CND | N65: 99.31 | O65: 7 | P65: 695.17
A66: 105-03000-00 | B66: 74 | C66: 9 | D66: 105-03015-02 | E66: Mounting Plate | F66: S355J2 | G66: - | H66: 10 | I66: 220 | J66: 180 | M66: LC | N66: 2.58 | O66: 12 | P66: 30.96
A67: 105-03000-00 | B67: 75 | C67: 9 | D67: 105-03015-03 | E67: Mounting Flange | F67: S355J2 | G67: - | H67: 8 | I67: 65 | J67: 65 | M67: LC | N67: 0.25 | O67: 28 | P67: 7
A68: 105-03000-00 | B68: 76 | C68: 9 | D68: 105-03015-04 | E68: Plug For RHS200x100 | F68: S355J2 | G68: - | H68: 10 | I68: 190 | J68: 90 | M68: LC | N68: 1.27 | O68: 16 | P68: 20.32
A69: 105-03000-00 | B69: 77 | C69: 9 | D69: 105-03015-05 | E69: Tab 200x70 | F69: S355J2 | G69: - | H69: 10 | I69: 200 | J69: 70 | M69: LC | N69: 1.04 | O69: 16 | P69: 16.64
A70: 105-03000-00 | B70: 78 | C70: 9 | D70: 105-03018-01 | E70: Lateral Tube 2 | F70: S355J2 | G70: - | K70: RHS 200x100x5.0 | L70: 4490 | M70: CND | N70: 98.96 | O70: 1 | P70: 98.96
A71: 105-03000-00 | B71: 79 | C71: 9 | D71: 105-03018-02 | E71: Cross Connection 1 | F71: S355J2 | G71: - | H71: 10 | I71: 400 | J71: 310 | M71: LC | N71: 8.97 | O71: 1 | P71: 8.97
A72: 105-03000-00 | B72: 80 | C72: 9 | D72: 105-03018-03 | E72: L-Mount | F72: S355J2 | G72: - | H72: 4 | I72: 2800 | J72: 243.4 | M72: LCB | N72: 20.86 | O72: 1 | P72: 20.86
A73: 105-03000-00 | B73: 81 | C73: 9 | D73: 105-03018-04 | E73: L Plug | F73: S355J2 | G73: - | H73: 5 | I73: 96 | J73: 96 | M73: LC | N73: 0.35 | O73: 2 | P73: 0.7
A74: 105-03000-00 | B74: 82 | C74: 9 | D74: 105-03018-05 | E74: L Packing | F74: S355J2 | G74: - | H74: 5 | I74: 96 | J74: 96 | M74: LC | N74: 0.34 | O74: 5 | P74: 1.7
A75: 105-03000-00 | B75: 83 | C75: 9 | D75: 105-03020-01 | E75: Brace Tube 1 | F75: S355J2 | G75: - | K75: SHS 100x100x4.0 | L75: 4492 | M75: CND | N75: 51.87 | O75: 1 | P75: 51.87
A76: 105-03000-00 | B76: 84 | C76: 9 | D76: 105-03020-02 | E76: Cross Connection 2 | F76: S355J2 | G76: - | H76: 10 | I76: 594.5 | J76: 320 | M76: LC | N76: 12.75 | O76: 1 | P76: 12.75
A77: 105-03000-00 | B77: 85 | C77: 9 | D77: 105-03020-03 | E77: Plug For SHS100 | F77: S355J2 | G77: - | H77: 10 | I77: 92 | J77: 92 | M77: LC | N77: 0.63 | O77: 74 | P77: 46.62
A78: 105-03000-00 | B78: 86 | C78: 9 | D78: 105-03020-04 | E78: Terminal Connection 5 | F78: S355J2 | G78: - | H78: 10 | I78: 100 | J78: 69 | M78: LC | N78: 0.47 | O78: 74 | P78: 34.78
A79: 105-03000-00 | B79: 87 | C79: 9 | D79: 105-03021-01 | E79: Brace Tube 2 | F79: S355J2 | G79: - | K79: SHS 100x100x4.0 | L79: 1695 | M79: CND | N79: 19.76 | O79: 1 | P79: 19.76
A80: 105-03000-00 | B80: 88 | C80: 9 | D80: 105-03022-01 | E80: Brace Tube 3 | F80: S355J2 | G80: - | K80: SHS 100x100x4.0 | L80: 2504 | M80: CND | N80: 29.2 | O80: 1 | P80: 29.2
A81: 105-03000-00 | B81: 89 | C81: 9 | D81: 105-03023-01 | E81: Brace Tube 4 | F81: S355J2 | G81: - | K81: SHS 100x100x4.0 | L81: 2761 | M81: CND | N81: 32.19 | O81: 2 | P81: 64.38
A82: 105-03000-00 | B82: 90 | C82: 9 | D82: 105-03024-01 | E82: Brace Tube 5 | F82: S355J2 | G82: - | K82: SHS 100x100x4.0 | L82: 2665 | M82: CND | N82: 31.07 | O82: 2 | P82: 62.14
A83: 105-03000-00 | B83: 91 | C83: 9 | D83: 105-03025-01 | E83: Brace Tube 6 | F83: S355J2 | G83: - | K83: SHS 100x100x4.0 | L83: 3386 | M83: CND | N83: 39.48 | O83: 4 | P83: 157.92
A84: 105-03000-00 | B84: 92 | C84: 9 | D84: 105-03026-01 | E84: Brace Tube 7 | F84: S355J2 | G84: - | K84: SHS 100x100x4.0 | L84: 3555 | M84: CND | N84: 41.45 | O84: 10 | P84: 414.5
A85: 105-03000-00 | B85: 93 | C85: 9 | D85: 105-03027-01 | E85: Fixture Lateral Plate | F85: S355J2 | G85: - | H85: 8 | I85: 315.6 | J85: 130 | M85: LC | N85: 1.37 | O85: 4 | P85: 5.48
A86: 105-03000-00 | B86: 94 | C86: 9 | D86: 105-03027-02 | E86: Fixture Vertical Plate | F86: S355J2 | G86: - | H86: 10 | I86: 110 | J86: 100 | M86: LC | N86: 0.73 | O86: 4 | P86: 2.92
A87: 105-03000-00 | B87: 95 | C87: 9 | D87: 105-03028-01 | E87: Brace Tube 8 | F87: S355J2 | G87: - | K87: SHS 100x100x4.0 | L87: 4327 | M87: CND | N87: 50.21 | O87: 2 | P87: 100.42
A88: 105-03000-00 | B88: 96 | C88: 9 | D88: 105-03028-02 | E88: Terminal Connection 6 | F88: S355J2 | G88: - | H88: 12 | I88: 251 | J88: 145 | M88: LC | N88: 2.87 | O88: 24 | P88: 68.88
A89: 105-03000-00 | B89: 97 | C89: 9 | D89: 105-03028-03 | E89: Tab End 1 | F89: S355J2 | G89: - | H89: 6 | I89: 92 | J89: 44 | M89: LC | N89: 0.18 | O89: 16 | P89: 2.88
A90: 105-03000-00 | B90: 98 | C90: 9 | D90: 105-03028-04 | E90: Tab End 2 | F90: S355J2 | G90: - | H90: 6 | I90: 92 | J90: 36 | M90: LC | N90: 0.14 | O90: 16 | P90: 2.24
A91: 105-03000-00 | B91: 99 | C91: 9 | D91: 105-03029-01 | E91: Brace Tube 9 | F91: S355J2 | G91: - | K91: SHS 100x100x4.0 | L91: 3978 | M91: CND | N91: 46.38 | O91: 4 | P91: 185.52
A92: 105-03000-00 | B92: 100 | C92: 9 | D92: 105-03030-01 | E92: Brace Tube 10 | F92: S355J2 | G92: - | K92: SHS 100x100x4.0 | L92: 4286 | M92: CND | N92: 49.73 | O92: 2 | P92: 99.46
A93: 105-03000-00 | B93: 101 | C93: 9 | D93: 105-03031-01 | E93: Brace Tube 11 | F93: S355J2 | G93: - | K93: SHS 100x100x4.0 | L93: 3995 | M93: CND | N93: 46.34 | O93: 2 | P93: 92.68
A94: 105-03000-00 | B94: 102 | C94: 9 | D94: 105-03032-01 | E94: Brace Tube 12 | F94: S355J2 | G94: - | K94: SHS 100x100x4.0 | L94: 3841 | M94: CND | N94: 44.54 | O94: 2 | P94: 89.08
A95: 105-03000-00 | B95: 103 | C95: 9 | D95: 105-03033-01 | E95: Brace Tube 13 | F95: S355J2 | G95: - | K95: SHS 100x100x4.0 | L95: 5088 | M95: CND | N95: 59.32 | O95: 1 | P95: 59.32
A96: 105-03000-00 | B96: 104 | C96: 9 | D96: 105-03034-01 | E96: Brace Tube 14 | F96: S355J2 | G96: - | K96: SHS 100x100x4.0 | L96: 4450 | M96: CND | N96: 51.88 | O96: 5 | P96: 259.4
A97: 105-03000-00 | B97: 105 | C97: 9 | D97: 105-03035-01 | E97: Brace Tube 15 | F97: S355J2 | G97: - | K97: SHS 100x100x4.0 | L97: 4814 | M97: CND | N97: 56.13 | O97: 2 | P97: 112.26
A98: 105-03000-00 | B98: 106 | C98: 9 | D98: 105-03036-01 | E98: Brace Tube 16 | F98: S355J2 | G98: - | K98: SHS 100x100x4.0 | L98: 5133 | M98: CND | N98: 59.85 | O98: 1 | P98: 59.85
A99: 105-03000-00 | B99: 107 | C99: 9 | D99: 105-03037-01 | E99: Brace Tube 17 | F99: S355J2 | G99: - | K99: SHS 100x100x4.0 | L99: 4875 | M99: CND | N99: 56.84 | O99: 1 | P99: 56.84
A100: 105-03000-00 | B100: 108 | C100: 9 | D100: 105-03038-01 | E100: Brace Tube 18 | F100: S355J2 | G100: - | K100: SHS 100x100x4.0 | L100: 4558 | M100: CND | N100: 53.14 | O100: 1 | P100: 53.14
A101: 105-03000-00 | B101: 109 | C101: 9 | D101: 105-03039-01 | E101: Brace Tube 19 | F101: S355J2 | G101: - | K101: SHS 100x100x4.0 | L101: 3398 | M101: CND | N101: 39.38 | O101: 4 | P101: 157.52
A102: 105-03000-00 | B102: 110 | C102: 9 | D102: 105-03039-02 | E102: Tab End 3 | F102: S355J2 | G102: - | H102: 6 | I102: 92 | J102: 40 | M102: LC | N102: 0.16 | O102: 16 | P102: 2.56
A103: 105-03000-00 | B103: 111 | C103: 9 | D103: 105-03041-01 | E103: Brace Tube 6 | F103: S355J2 | G103: - | K103: SHS 100x100x4.0 | L103: 4644 | M103: CND | N103: 54.15 | O103: 1 | P103: 54.15
A104: 105-03000-00 | B104: 112 | C104: 9 | D104: 105-05006-08 | E104: Column roof bracket | F104: S355J2 | G104: - | H104: 8 | I104: 90 | J104: 45 | M104: LC | N104: 0.23 | O104: 14 | P104: 3.22
A105: 105-05000-00 | B105: 101 | C105: 9 | D105: 105-05006-08 | E105: Column roof bracket | F105: S355J2 | G105: - | H105: 8 | I105: 90 | J105: 45 | M105: LC | N105: 0.23 | O105: 6 | P105: 1.38
...

Sheet L2-PIMI
A1: LOTE 2: METALA IZSTRADAJUMI - PIMI
A2: Iepirkums Nr. SA-PI1-2026/ETKC | Pasutijumi: 4.2, 5, 6, 7, 8, 12, 13, 19, 115 | Plan. vaertiba: EUR 69220
A3: Hanging frames, glass support beams, return air channel, entrance/exit, dirt collector, access hatch, ventilation hatch, mesh facade, dual use. S355/DX51D.
A4: NORADIJUMI: Aizpildiet kolonnā R (Kopsumma EUR ) katra pasūtījuma starpsummu.
A5: Assy | B5: Nr. | C5: Ord.Nr. | D5: Dalas Nr. | E5: Apraksts | F5: Materials | G5: Virsmas apstrade | H5: Biezums | I5: Garums | J5: Platums | K5: Profils | L5: L mm | M5: Apstrade | N5: Svars/gab kg | O5: Daudzums | P5: Kop.svars kg | Q5: Vienibas cena EUR | R5: Kopsumma EUR | S5: Piezimes
A6: Order 4.2: Hanging frames (134 pozicijas)
A7: 105-09000-00 | B7: 38 | C7: 4.2 | D7: 105-09100-01 | E7: Glass holding plate | F7: AISI 304 | G7: - | H7: 10 | I7: 145 | J7: 50 | M7: LC | N7: 0.51 | O7: 20 | P7: 10.2
A8: 105-09000-00 | B8: 40 | C8: 4.2 | D8: 105-09100-03 | E8: Left bracket 1L | F8: S355J2 | G8: HDG EN ISO 1461 | H8: 6 | I8: 212.1 | J8: 88.6 | M8: LCB HDG | N8: 0.61 | O8: 1 | P8: 0.61
A9: 105-09000-00 | B9: 41 | C9: 4.2 | D9: 105-09100-04 | E9: Left bracket 1M | F9: S355J2 | G9: HDG EN ISO 1461 | H9: 6 | I9: 170.1 | J9: 82.7 | M9: LCB HDG | N9: 0.5 | O9: 1 | P9: 0.5
A10: 105-09000-00 | B10: 42 | C10: 4.2 | D10: 105-09100-05 | E10: Left bracket 1U | F10: S355J2 | G10: HDG EN ISO 1461 | H10: 6 | I10: 131.5 | J10: 91.2 | M10: LCB HDG | N10: 0.36 | O10: 1 | P10: 0.36
A11: 105-09000-00 | B11: 43 | C11: 4.2 | D11: 105-09100-06 | E11: Left bracket 2L | F11: S355J2 | G11: HDG EN ISO 1461 | H11: 6 | I11: 219.9 | J11: 89.4 | M11: LCB HDG | N11: 0.63 | O11: 1 | P11: 0.63
A12: 105-09000-00 | B12: 44 | C12: 4.2 | D12: 105-09100-07 | E12: Left bracket 2M | F12: S355J2 | G12: HDG EN ISO 1461 | H12: 6 | I12: 173.8 | J12: 82.5 | M12: LCB HDG | N12: 0.52 | O12: 1 | P12: 0.52
A13: 105-09000-00 | B13: 45 | C13: 4.2 | D13: 105-09100-08 | E13: Left bracket 2U | F13: S355J2 | G13: HDG EN ISO 1461 | H13: 6 | I13: 128.3 | J13: 86.6 | M13: LCB HDG | N13: 0.32 | O13: 1 | P13: 0.32
A14: 105-09000-00 | B14: 46 | C14: 4.2 | D14: 105-09100-09 | E14: Right bracket 1L | F14: S355J2 | G14: HDG EN ISO 1461 | H14: 6 | I14: 212.1 | J14: 88.6 | M14: LCB HDG | N14: 0.61 | O14: 1 | P14: 0.61
A15: 105-09000-00 | B15: 47 | C15: 4.2 | D15: 105-09100-10 | E15: Right bracket 1M | F15: S355J2 | G15: HDG EN ISO 1461 | H15: 6 | I15: 170.1 | J15: 82.7 | M15: LCB HDG | N15: 0.5 | O15: 1 | P15: 0.5
A16: 105-09000-00 | B16: 48 | C16: 4.2 | D16: 105-09100-11 | E16: Right bracket 1U | F16: S355J2 | G16: HDG EN ISO 1461 | H16: 6 | I16: 131.5 | J16: 91.2 | M16: LCB HDG | N16: 0.36 | O16: 1 | P16: 0.36
A17: 105-09000-00 | B17: 49 | C17: 4.2 | D17: 105-09100-12 | E17: Right bracket 2L | F17: S355J2 | G17: HDG EN ISO 1461 | H17: 6 | I17: 219.9 | J17: 89.4 | M17: LCB HDG | N17: 0.63 | O17: 1 | P17: 0.63
A18: 105-09000-00 | B18: 50 | C18: 4.2 | D18: 105-09100-13 | E18: Right bracket 2M | F18: S355J2 | G18: HDG EN ISO 1461 | H18: 6 | I18: 173.8 | J18: 82.5 | M18: LCB HDG | N18: 0.52 | O18: 1 | P18: 0.52
... A108: 105-09000-00 | B108: 142 | C108: 4.2 | D108: 105-09217-02 | E108: Rib 2 | F108: S355J2 | G108: - | H108: 8 | I108: 135 | J108: 63 | M108: LC | N108: 0.38 | O108: 2 | P108: 0.76
A109: 105-09000-00 | B109: 143 | C109: 4.2 | D109: 105-09221-01 | E109: Top tube | F109: S355J2 | G109: - | K109: SHS 50x50x5.0 | L109: 4740 | M109: CND | N109: 30.81 | O109: 5 | P109: 154.05
A110: 105-09000-00 | B110: 144 | C110: 4.2 | D110: 105-09221-02 | E110: Bottom tube 1 | F110: S355J2 | G110: - | K110: SHS 50x50x5.0 | L110: 2972 | M110: CND | N110: 19.27 | O110: 1 | P110: 19.27
A111: 105-09000-00 | B111: 145 | C111: 4.2 | D111: 105-09221-03 | E111: Outside diagonal tube 1 | F111: S355J2 | G111: - | K111: SHS 50x50x5.0 | L111: 1219.2 | M111: CND | N111: 6.89 | O111: 2 | P111: 13.78
A112: 105-09000-00 | B112: 146 | C112: 4.2 | D112: 105-09221-04 | E112: Inside diagonal tube 1 | F112: S355J2 | G112: - | K112: SHS 50x50x5.0 | L112: 1129.4 | M112: CND | N112: 6.14 | O112: 2 | P112: 12.28
A113: 105-09000-00 | B113: 147 | C113: 4.2 | D113: 105-09221-05 | E113: Tie link flange | F113: S355J2 | G113: - | H113: 8 | I113: 80 | J113: 55 | M113: LC | N113: 0.25 | O113: 36 | P113: 9
A114: 105-09000-00 | B114: 148 | C114: 4.2 | D114: 105-09221-06 | E114: Side flange 1 | F114: S355J2 | G114: - | H114: 8 | I114: 150 | J114: 70 | M114: LC | N114: 0.54 | O114: 4 | P114: 2.16
A115: 105-09000-00 | B115: 149 | C115: 4.2 | D115: 105-09221-07 | E115: Bottom flange hanger frame | F115: S355J2 | G115: - | H115: 8 | I115: 150 | J115: 130 | M115: LC | N115: 1.16 | O115: 10 | P115: 11.6
A116: 105-09000-00 | B116: 150 | C116: 4.2 | D116: 105-09221-08 | E116: Middle bracket 1 | F116: S355J2 | G116: - | H116: 8 | I116: 451 | J116: 50 | M116: LC | N116: 1.39 | O116: 1 | P116: 1.39
A117: 105-09000-00 | B117: 151 | C117: 4.2 | D117: 105-09221-09 | E117: Back plate 1 | F117: S355J2 | G117: - | H117: 8 | I117: 412.7 | J117: 63 | M117: LC | N117: 1.08 | O117: 1 | P117: 1.08
A118: 105-09000-00 | B118: 152 | C118: 4.2 | D118: 105-09221-10 | E118: Vertical tube 1 | F118: S355J2 | G118: - | K118: SHS 50x50x5.0 | L118: 244 | M118: CND | N118: 1.51 | O118: 2 | P118: 3.02
A119: 105-09000-00 | B119: 153 | C119: 4.2 | D119: 105-09221-11 | E119: Sleeve | F119: S235JR | G119: - | K119: CHS 30.0x2.0 | L119: 50 | M119: CND | N119: 0.07 | O119: 5 | P119: 0.35
A120: 105-09000-00 | B120: 154 | C120: 4.2 | D120: 105-09222-01 | E120: Vertical tube 2 | F120: S355J2 | G120: - | K120: SHS 50x50x5.0 | L120: 443 | M120: CND | N120: 2.78 | O120: 2 | P120: 5.56
A121: 105-09000-00 | B121: 155 | C121: 4.2 | D121: 105-09222-02 | E121: Bottom tube 2 | F121: S355J2 | G121: - | K121: SHS 50x50x5.0 | L121: 2822 | M121: CND | N121: 18.29 | O121: 4 | P121: 73.16
A122: 105-09000-00 | B122: 156 | C122: 4.2 | D122: 105-09222-03 | E122: Outside diagonal tube 2 | F122: S355J2 | G122: - | K122: SHS 50x50x5.0 | L122: 1290.6 | M122: CND | N122: 7.73 | O122: 2 | P122: 15.46
A123: 105-09000-00 | B123: 157 | C123: 4.2 | D123: 105-09222-04 | E123: Inside diagonal tube 2 | F123: S355J2 | G123: - | K123: SHS 50x50x5.0 | L123: 1184.9 | M123: CND | N123: 6.92 | O123: 2 | P123: 13.84
A124: 105-09000-00 | B124: 158 | C124: 4.2 | D124: 105-09222-05 | E124: Middle bracket 2 | F124: S355J2 | G124: - | H124: 8 | I124: 314 | J124: 50 | M124: LC | N124: 0.96 | O124: 1 | P124: 0.96
A125: 105-09000-00 | B125: 159 | C125: 4.2 | D125: 105-09222-06 | E125: Back plate 2 | F125: S355J2 | G125: - | H125: 8 | I125: 253.3 | J125: 63 | M125: LC | N125: 0.75 | O125: 1 | P125: 0.75
A126: 105-09000-00 | B126: 160 | C126: 4.2 | D126: 105-09223-01 | E126: Vertical tube 3 | F126: S355J2 | G126: - | K126: SHS 50x50x5.0 | L126: 646 | M126: CND | N126: 4.14 | O126: 2 | P126: 8.28
A127: 105-09000-00 | B127: 161 | C127: 4.2 | D127: 105-09223-03 | E127: Outside diagonal tube 3 | F127: S355J2 | G127: - | K127: SHS 50x50x5.0 | L127: 1327.6 | M127: CND | N127: 8.19 | O127: 2 | P127: 16.38
A128: 105-09000-00 | B128: 162 | C128: 4.2 | D128: 105-09223-04 | E128: Inside diagonal tube 3 | F128: S355J2 | G128: - | K128: SHS 50x50x5.0 | L128: 1300.6 | M128: CND | N128: 7.89 | O128: 2 | P128: 15.78
A129: 105-09000-00 | B129: 163 | C129: 4.2 | D129: 105-09223-05 | E129: Middle bracket 3 | F129: S355J2 | G129: - | H129: 8 | I129: 256.5 | J129: 50 | M129: LC | N129: 0.78 | O129: 2 | P129: 1.56
A130: 105-09000-00 | B130: 164 | C130: 4.2 | D130: 105-09223-06 | E130: Back plate 3 | F130: S355J2 | G130: - | H130: 8 | I130: 238.7 | J130: 63 | M130: LC | N130: 0.68 | O130: 2 | P130: 1.36
A131: 105-09000-00 | B131: 165 | C131: 4.2 | D131: 105-09223-07 | E131: Side flange 2 | F131: S355J2 | G131: - | H131: 8 | I131: 150 | J131: 90 | M131: LC | N131: 0.68 | O131: 6 | P131: 4.08
A132: 105-09000-00 | B132: 166 | C132: 4.2 | D132: 105-09224-01 | E132: Vertical tube 4 | F132: S355J2 | G132: - | K132: SHS 50x50x5.0 | L132: 661 | M132: CND | N132: 4.25 | O132: 2 | P132: 8.5
A133: 105-09000-00 | B133: 167 | C133: 4.2 | D133: 105-09224-02 | E133: Outside diagonal tube 4 | F133: S355J2 | G133: - | K133: SHS 50x50x5.0 | L133: 1313.3 | M133: CND | N133: 8.13 | O133: 2 | P133: 16.26
A134: 105-09000-00 | B134: 168 | C134: 4.2 | D134: 105-09224-03 | E134: Inside diagonal tube 4 | F134: S355J2 | G134: - | K134: SHS 50x50x5.0 | L134: 1328.7 | M134: CND | N134: 8.09 | O134: 2 | P134: 16.18
A135: 105-09000-00 | B135: 169 | C135: 4.2 | D135: 105-09225-01 | E135: Vertical tube 5 | F135: S355J2 | G135: - | K135: SHS 50x50x5.0 | L135: 676 | M135: CND | N135: 4.34 | O135: 2 | P135: 8.68
A136: 105-09000-00 | B136: 170 | C136: 4.2 | D136: 105-09225-02 | E136: Outside diagonal tube 5 | F136: S355J2 | G136: - | K136: SHS 50x50x5.0 | L136: 1339.7 | M136: CND | N136: 8.28 | O136: 2 | P136: 16.56
A137: 105-09000-00 | B137: 171 | C137: 4.2 | D137: 105-09225-03 | E137: Inside diagonal tube 5 | F137: S355J2 | G137: - | K137: SHS 50x50x5.0 | L137: 1318.7 | M137: CND | N137: 8.05 | O137: 2 | P137: 16.1
A138: 105-09000-00 | B138: 172 | C138: 4.2 | D138: 105-09225-04 | E138: Middle bracket 5 | F138: S355J2 | G138: - | H138: 8 | I138: 250 | J138: 50 | M138: LC | N138: 0.76 | O138: 1 | P138: 0.76
A139: 105-09000-00 | B139: 173 | C139: 4.2 | D139: 105-09225-05 | E139: Back plate 5 | F139: S355J2 | G139: - | H139: 8 | I139: 232.2 | J139: 63 | M139: LC | N139: 0.67 | O139: 1 | P139: 0.67
A140: 105-09000-00 | B140: 187 | C140: 4.2 | D140: 105-09201-01 | E140: Metric thread M16 stud 150mm | F140: HDG-8.8 | G140: - | K140: DIN 976-1 M16 | L140: 780 | M140: COTS CND | N140: 0.23 | O140: 10 | P140: 2.3
A141: Starpsumma Order 4.2: | P141: =SUM(P7:P140) -> 958.77 | R141: =SUM(R7:R140) -> 0
A143: Order 7: Entrance and Exit (146 pozicijas)
A144: 105-11000-00 | B144: 10 | C144: 7 | D144: 105-11100-04 | E144: Plate | F144: DC01 | G144: Painting G3.04 ISO 12944 | H144: 2 | I144: 75 | J144: 75 | M144: LC PNT | N144: 0.07 | O144: 3 | P144: 0.21
A145: 105-11000-00 | B145: 11 | C145: 7 | D145: 105-11100-05 | E145: Bent plate | F145: DX51D+Z275 | G145: Painting G3.04 ISO 12944 | H145: 3 | I145: 1890 | J145: 85.1 | M145: LCB CND PNT | N145: 3.75 | O145: 1 | P145: 3.75
A146: 105-11000-00 | B146: 12 | C146: 7 | D146: 105-11100-06 | E146: Bent plate | F146: DC01 | G146: Painting C3.09 ISO12944 | H146: 2 | I146: 1450 | J146: 223.7 | M146: LCB PNT | N146: 5.06 | O146: 2 | P146: 10.12
A147: 105-11000-00 | B147: 13 | C147: 7 | D147: 105-11100-07 | E147: Plate | F147: DC01 | G147: Painting G3.04 ISO 12944 | H147: 2 | I147: 85 | J147: 75 | M147: LC PNT | N147: 0.09 | O147: 1 | P147: 0.09
A148: 105-11000-00 | B148: 14 | C148: 7 | D148: 105-11100-08 | E148: El.-socket bracket | F148: DC01 | G148: Painting C3.09 ISO12944 | H148: 1.5 | I148: 236.1 | J148: 231.1 | M148: LCB PNT | N148: 0.4 | O148: 1 | P148: 0.4
A149: 105-11000-00 | B149: 18 | C149: 7 | D149: 105-11100-14 | E149: Junction box bracket | F149: S355JR | G149: Painting C3.09 ISO12944 | H149: 4 | I149: 400 | J149: 338.2 | M149: LCB PNT | N149: 1.73 | O149: 1 | P149: 1.73
A150: 105-11000-00 | B150: 21 | C150: 7 | D150: 105-11101-01 | E150: Square tube | F150: S355JR | G150: - | K150: 100 x 100 x 4.0 | L150: 2300 | M150: CND | N150: 26.27 | O150: 1 | P150: 26.27
A151: 105-11000-00 | B151: 22 | C151: 7 | D151: 105-11101-02 | E151: Square tube | F151: S355JR | G151: - | K151: 100 x 100 x 4.0 | L151: 2200 | M151: CND | N151: 25.19 | O151: 1 | P151: 25.19
A152: 105-11000-00 | B152: 23 | C152: 7 | D152: 105-11101-03 | E152: Square tube | F152: S355JR | G152: - | K152: 100 x 100 x 4.0 | L152: 2100 | M152: CND | N152: 20.88 | O152: 1 | P152: 20.88
A153: 105-11000-00 | B153: 24 | C153: 7 | D153: 105-11101-04 | E153: Square tube | F153: S355JR | G153: - | K153: 100 x 100 x 4.0 | L153: 1480 | M153: CND | N153: 16.78 | O153: 1 | P153: 16.78
A154: 105-11000-00 | B154: 25 | C154: 7 | D154: 105-11101-05 | E154: Square tube | F154: S355JR | G154: - | K154: 100 x 100 x 4.0 | L154: 1380 | M154: CND | N154: 16.18 | O154: 1 | P154: 16.18
A155: 105-11000-00 | B155: 26 | C155: 7 | D155: 105-11101-06 | E155: Square tube | F155: S355JR | G155: - | K155: 100 x 100 x 4.0 | L155: 1510 | M155: CND | N155: 16.55 | O155: 1 | P155: 16.55
A156: 105-11000-00 | B156: 27 | C156: 7 | D156: 105-11101-07 | E156: Square tube | F156: S355JR | G156: - | K156: 100 x 100 x 4.0 | L156: 1310 | M156: CND | N156: 15.37 | O156: 1 | P156: 15.37
A157: 105-11000-00 | B157: 28 | C157: 7 | D157: 105-11101-08 | E157: Square tube | F157: S355JR | G157: - | K157: 100 x 100 x 4.0 | L157: 2100 | M157: CND | N157: 24.5 | O157: 1 | P157: 24.5
A158: 105-11000-00 | B158: 29 | C158: 7 | D158: 105-11101-09 | E158: Plate | F158: S355JR | G158: - | H158: 4 | I158: 1896 | J158: 40 | M158: LC | N158: 2.37 | O158: 2 | P158: 4.74
A159: 105-11000-00 | B159: 30 | C159: 7 | D159: 105-11101-10 | E159: Plate | F159: S355JR | G159: - | H159: 4 | I159: 1306 | J159: 40 | M159: LC | N159: 1.64 | O159: 2 | P159: 3.28
A160: 105-11000-00 | B160: 31 | C160: 7 | D160: 105-11101-11 | E160: Bent plate | F160: S355JR | H160: 4 | I160: 233.4 | J160: 120 | M160: LCB | N160: 0.8 | O160: 1 | P160: 0.8
A161: 105-11000-00 | B161: 32 | C161: 7 | D161: 105-11101-12 | E161: Plate | F161: S355JR | G161: - | H161: 4 | I161: 100 | J161: 100 | M161: LC | N161: 0.31 | O161: 1 | P161: 0.31
A162: 105-11000-00 | B162: 33 | C162: 7 | D162: 105-11101-13 | E162: Bent plate | F162: S355JR | G162: - | H162: 4 | I162: 1309 | J162: 95.4 | M162: LCB | N162: 3.92 | O162: 5 | P162: 19.6
A163: 105-11000-00 | B163: 34 | C163: 7 | D163: 105-11101-14 | E163: Square tube | F163: S355JR | G163: - | K163: 100 x 100 x 4.0 | L163: 2100 | M163: CND | N163: 24.57 | O163: 1 | P163: 24.57
A164: 105-11000-00 | B164: 35 | C164: 7 | D164: 105-11101-15 | E164: Square tube | F164: S355JR | G164: - | K164: 100 x 100 x 4.0 | L164: 1900 | M164: CND | N164: 22.22 | O164: 1 | P164: 22.22
A165: 105-11000-00 | B165: 36 | C165: 7 | D165: 105-11101-16 | E165: Plate | F165: S355JR | G165: - | H165: 4 | I165: 1226 | J165: 40 | M165: LC | N165: 1.53 | O165: 2 | P165: 3.06
A166: 105-11000-00 | B166: 37 | C166: 7 | D166: 105-11101-17 | E166: Plate | F166: S355JR | G166: - | H166: 4 | I166: 30 | J166: 30 | M166: LC | N166: 0.02 | O166: 12 | P166: 0.24
A167: 105-11000-00 | B167: 38 | C167: 7 | D167: 105-11101-18 | E167: Square tube | F167: S355JR | G167: - | K167: 100 x 100 x 4.0 | L167: 2100 | M167: CND | N167: 23.39 | O167: 1 | P167: 23.39
A168: 105-11000-00 | B168: 39 | C168: 7 | D168: 105-11101-19 | E168: Square tube | F168: S355JR | G168: - | K168: 100 x 100 x 4.0 | L168: 2000 | M168: CND | N168: 22.87 | O168: 1 | P168: 22.87
A169: 105-11000-00 | B169: 40 | C169: 7 | D169: 105-11101-20 | E169: Bent plate | F169: S355JR | G169: - | H169: 4 | I169: 570.8 | J169: 155.4 | M169: LCB WLD | N169: 2.36 | O169: 1 | P169: 2.36
A170: 105-11000-00 | B170: 41 | C170: 7 | D170: 105-11101-21 | E170: Plate | F170: S355JR | G170: - | H170: 10 | I170: 290.8 | J170: 139.2 | M170: LC | N170: 1.86 | O170: 4 | P170: 7.44
A171: 105-11000-00 | B171: 42 | C171: 7 | D171: 105-11101-22 | E171: Square tube | F171: S355JR | G171: - | K171: 100 x 100 x 4.0 | L171: 2200 | M171: CND | N171: 25.22 | O171: 1 | P171: 25.22
A172: 105-11000-00 | B172: 43 | C172: 7 | D172: 105-11101-23 | E172: Plate | F172: S355JR | G172: - | H172: 4 | I172: 91.5 | J172: 91.5 | M172: LC | N172: 0.12 | O172: 1 | P172: 0.12
A173: 105-11000-00 | B173: 44 | C173: 7 | D173: 105-11101-24 | E173: Bent plate | F173: S355JR | G173: - | H173: 4 | I173: 316.4 | J173: 140.4 | M173: LCB WLD | N173: 1.25 | O173: 1 | P173: 1.25
A174: 105-11000-00 | B174: 45 | C174: 7 | D174: 105-11101-25 | E174: Bent plate | F174: S355JR | G174: - | H174: 4 | I174: 206.8 | J174: 156 | M174: LCB | N174: 0.9 | O174: 1 | P174: 0.9
A175: 105-11000-00 | B175: 46 | C175: 7 | D175: 105-11101-26 | E175: Bent plate | F175: S355JR | G175: - | H175: 5 | I175: 140 | J175: 121.8 | M175: LCB | N175: 0.54 | O175: 2 | P175: 1.08
A176: 105-11000-00 | B176: 47 | C176: 7 | D176: 105-11101-27 | E176: Bent plate | F176: S355JR | G176: - | H176: 5 | I176: 180 | J176: 121.8 | M176: LCB | N176: 0.69 | O176: 2 | P176: 1.38
A177: 105-11000-00 | B177: 48 | C177: 7 | D177: 105-11101-28 | E177: Square tube | F177: S355JR | G177: - | K177: 100 x 100 x 4.0 | L177: 2200 | M177: CND | N177: 25.82 | O177: 1 | P177: 25.82
A178: 105-11000-00 | B178: 49 | C178: 7 | D178: 105-11101-29 | E178: Bent plate | F178: S355JR | G178: - | H178: 3 | I178: 1304 | J178: 122.1 | M178: LCB | N178: 3.75 | O178: 2 | P178: 7.5
A179: 105-11000-00 | B179: 50 | C179: 7 | D179: 105-11101-30 | E179: Bent plate | F179: S355JR | G179: - | H179: 3 | I179: 1970 | J179: 122.1 | M179: LCB | N179: 5.6 | O179: 2 | P179: 11.2
A180: 105-11000-00 | B180: 54 | C180: 7 | D180: 105-11102-04 | E180: Bushing | F180: 1.4305 (X8CrNiS18-9) | G180: - | M180: MCH | N180: 0.01 | O180: 6 | P180: 0.06
A181: 105-11000-00 | B181: 56 | C181: 7 | D181: 105-11102-07 | E181: Inductive Sensor Target Bracket 1 | F181: DX51D+Z275 | G181: - | H181: 2 | I181: 126.4 | J181: 37.9 | M181: LCB | N181: 0.05 | O181: 1 | P181: 0.05
A182: 105-11000-00 | B182: 57 | C182: 7 | D182: 105-11103-01 | E182: Door upper plate | F182: S235 | G182: - | H182: 2.5 | I182: 985 | J182: 293.5 | M182: LCB | N182: 5.6 | O182: 1 | P182: 5.6
A183: 105-11000-00 | B183: 58 | C183: 7 | D183: 105-11103-02 | E183: Bent plate | F183: S235 | G183: - | H183: 2.5 | I183: 990 | J183: 225 | M183: LCB | N183: 4.25 | O183: 1 | P183: 4.25
A184: 105-11000-00 | B184: 59 | C184: 7 | D184: 105-11103-03 | E184: Left door stile | F184: S355 | G184: - | K184: SHS 60x60x2.0 | L184: 2063 | M184: CND | N184: 7.3 | O184: 1 | P184: 7.3
A185: 105-11000-00 | B185: 60 | C185: 7 | D185: 105-11103-04 | E185: Top roller mount plate | F185: S235 | G185: - | H185: 2.5 | I185: 985 | J185: 151.4 | M185: LCB | N185: 2.89 | O185: 1 | P185: 2.89
A186: 105-11000-00 | B186: 61 | C186: 7 | D186: 105-11103-05 | E186: Right door stile | F186: S235 | G186: - | H186: 2.5 | I186: 2187 | J186: 188.7 | M186: LCB | N186: 7.73 | O186: 1 | P186: 7.73
A187: 105-11000-00 | B187: 62 | C187: 7 | D187: 105-11103-06 | E187: Cap plate 1 | F187: S235 | G187: - | H187: 2.5 | I187: 63 | J187: 57 | M187: LC | N187: 0.07 | O187: 1 | P187: 0.07
A188: 105-11000-00 | B188: 63 | C188: 7 | D188: 105-11103-07 | E188: Cap plate 2 | F188: S235 | G188: - | H188: 2.5 | I188: 60 | J188: 58 | M188: LC | N188: 0.06 | O188: 1 | P188: 0.06
A189: 105-11000-00 | B189: 64 | C189: 7 | D189: 105-11104-01 | E189: Door mechanism main cover | F189: AISI 304 | G189: - | H189: 2 | I189: 2100 | J189: 257.4 | M189: LCB | N189: 8.63 | O189: 1 | P189: 8.63
A190: 105-11000-00 | B190: 65 | C190: 7 | D190: 105-11104-02 | E190: Hinge Plate | F190: AISI 304 | G190: - | H190: 4 | I190: 40 | J190: 15 | M190: LC | N190: 0.02 | O190: 4 | P190: 0.08
...

Sheet L3-PIMA
A1: LOTE 3: ALUMĪNIJA KOMPONENTES - PIMA
A2: Iepirkums Nr. SA-PI1-2026/ETKC | Pasutijumi: 4, 99.21, 99.22 | Plan. vērtība: EUR 14,849
A3: GZ glass profiles (Ord.4), Neobond panels (Ord.99.21), Alumīnija profili (Ord.99.22). Al 6060/6082 T6.
A4: NORADIJUMI: Aizpildiet kolonnā R (Kopsumma EUR ) katra pasūtījuma starpsummu.
A5: Assy | B5: Nr. | C5: Ord.Nr. | D5: Dalas Nr. | E5: Apraksts | F5: Materials | G5: Virsmas apstrade | H5: Biezums | I5: Garums | J5: Platums | K5: Profils | L5: L mm | M5: Apstrade | N5: Svars/gab kg | O5: Daudzums | P5: Kop.svars kg | Q5: Vienibas cena EUR | R5: Kopsumma EUR | S5: Piezimes
A6: Order 4: GZ glass profiles (17 pozicijas)
A7: 106-01100-00 | B7: 2 | C7: 4 | D7: 106-01101-02 | E7: Glass bracket R1 | F7: 6082 T6 | G7: Anodizing ISO 7599:2010 | M7: MCH ANO | N7: 2.6 | O7: 9 | P7: =N7*O7 -> 23.4
A8: 106-01100-00 | B8: 5 | C8: 4 | D8: 106-01101-05 | E8: Glass bottom bracket 1 | F8: 6082 T6 | G8: Anodizing ISO 7599:2010 | M8: MCH ANO | N8: 1.58 | O8: 18 | P8: =N8*O8 -> 28.44
A9: 106-01100-00 | B9: 7 | C9: 4 | D9: 106-01102-01 | E9: Glass bracket L1 | F9: 6082 T6 | G9: Anodizing ISO 7599:2010 | M9: MCH ANO | N9: 2.6 | O9: 9 | P9: =N9*O9 -> 23.4
A10: 106-01100-00 | B10: 11 | C10: 4 | D10: 106-01107-02 | E10: Glass bracket W4 | F10: 6082 T6 | G10: Anodizing ISO 7599:2010 | M10: MCH ANO | N10: 2.85 | O10: 12 | P10: =N10*O10 -> 34.2
A11: 106-01100-00 | B11: 12 | C11: 4 | D11: 106-01107-03 | E11: Glass bottom bracket 2 | F11: 6082 T6 | G11: Anodizing ISO 7599:2010 | M11: MCH ANO | N11: 1.74 | O11: 12 | P11: =N11*O11 -> 20.88
A12: 106-01100-00 | B12: 15 | C12: 4 | D12: 106-01109-02 | E12: Glass bracket C1 | F12: 6082 T6 | G12: Anodizing ISO 7599:2010 | M12: MCH ANO | N12: 2.5 | O12: 18 | P12: =N12*O12 -> 45
A13: 106-01100-00 | B13: 19 | C13: 4 | D13: 106-01112-02 | E13: Glass bracket C4 | F13: 6082 T6 | G13: Anodizing ISO 7599:2010 | M13: MCH ANO | N13: 2.76 | O13: 12 | P13: =N13*O13 -> 33.12
A14: 106-01100-00 | B14: 21 | C14: 4 | D14: 106-01150-01 | E14: Aluminum U-profile 1 | F14: 6060F22 T6 | G14: Anodizing ISO 7599:2010 | K14: U 40x60x40x5 | L14: 1976 | M14: CND ANO | N14: 3.4 | O14: 5 | P14: =N14*O14 -> 17
A15: 106-01100-00 | B15: 22 | C15: 4 | D15: 106-01150-02 | E15: Aluminum U-profile 2 | F15: 6060F22 T6 | G15: Anodizing ISO 7599:2010 | K15: U 40x60x40x5 | L15: 2177.5 | M15: CND ANO | N15: 3.74 | O15: 4 | P15: =N15*O15 -> 14.96
A16: 106-01100-00 | B16: 28 | C16: 4 | D16: 106-01150-08 | E16: Aluminum U-profile 3 | F16: 6060F22 T6 | G16: Anodizing ISO 7599:2010 | K16: U 40x60x40x5 | L16: 1976 | M16: CND ANO | N16: 3.28 | O16: 1 | P16: =N16*O16 -> 3.28
A17: 105-11000-00 | B17: 3 | C17: 4 | D17: 105-01150-04 | E17: Shimplate 1mm | F17: AISI 304 | G17: - | H17: 1 | I17: 50 | J17: 40 | M17: LC | N17: 0.01 | O17: 4 | P17: =N17*O17 -> 0.04
A18: 105-11000-00 | B18: 4 | C18: 4 | D18: 105-01150-05 | E18: Shimplate 2mm | F18: AISI 304 | G18: - | H18: 2 | I18: 50 | J18: 40 | M18: LC | N18: 0.03 | O18: 4 | P18: =N18*O18 -> 0.12
A19: 105-11000-00 | B19: 5 | C19: 4 | D19: 105-01150-06 | E19: Shimplate 3mm | F19: AISI 304 | G19: - | H19: 3 | I19: 50 | J19: 40 | M19: LC | N19: 0.04 | O19: 4 | P19: =N19*O19 -> 0.16
A20: 105-11000-00 | B20: 6 | C20: 4 | D20: 105-01150-07 | E20: Shimplate 5mm | F20: AISI 304 | G20: - | H20: 5 | I20: 50 | J20: 40 | M20: LC | N20: 0.07 | O20: 4 | P20: =N20*O20 -> 0.28
A21: 105-11000-00 | B21: 102 | C21: 4 | D21: 105-11203-02 | E21: Glass bracket A3 | F21: 6082 T6 | G21: Anodizing ISO 7599:2010 | M21: MCH ANO | N21: 2.28 | O21: 2 | P21: =N21*O21 -> 4.56
A22: 105-11000-00 | B22: 103 | C22: 4 | D22: 105-11203-03 | E22: Glass bottom profile A3 | F22: 6082 T6 | G22: Anodizing ISO 7599:2010 | M22: MCH ANO | N22: 1.31 | O22: 2 | P22: =N22*O22 -> 2.62
A23: 105-11000-00 | B23: 105 | C23: 4 | D23: 105-11204-01 | E23: Aluminum U-profile 6 | F23: 6060F22 T6 | G23: Anodizing ISO 7599:2010 | K23: U 40x60x40x5 | L23: 1090 | M23: CND ANO | N23: 1.79 | O23: 1 | P23: =N23*O23 -> 1.79
A24: 105-01400-00 | B24: 2 | C24: 4 | D24: 105-01410-01 | E24: Base plate 1 | F24: 6082 T6 | G24: - | H24: 8 | I24: 995 | J24: 145 | M24: LC | N24: 3.09 | O24: 9 | P24: =N24*O24 -> 27.81
A25: 105-01400-00 | B25: 4 | C25: 4 | D25: 105-01410-03 | E25: Balustrade profile 1 | F25: 6060F22 T6 | G25: - | M25: COTS CND | N25: 6.9 | O25: 9 | P25: =N25*O25 -> 62.1
A26: 105-01400-00 | B26: 5 | C26: 4 | D26: 105-01410-04 | E26: Bracket | F26: 6082 T6 | G26: - | M26: MCH | N26: 0.06 | O26: 24 | P26: =N26*O26 -> 1.44
A27: 105-01400-00 | B27: 17 | C27: 4 | D27: 105-01412-03 | E27: Connector A side | F27: 6082 T6 | G27: - | H27: 18 | I27: 108 | J27: 37 | M27: MCH | N27: 0.15 | O27: 10 | P27: =N27*O27 -> 1.5
A28: 105-01400-00 | B28: 18 | C28: 4 | D28: 105-01412-04 | E28: Connector B side | F28: 6082 T6 | G28: - | H28: 18 | I28: 108 | J28: 37 | M28: MCH | N28: 0.17 | O28: 10 | P28: =N28*O28 -> 1.7
A29: 105-01400-00 | B29: 19 | C29: 4 | D29: 105-01412-05 | E29: Connector Pin | F29: 6082 T6 | G29: - | K29: 9.5 | L29: 50 | M29: MCH | N29: 0.01 | O29: 10 | P29: =N29*O29 -> 0.1
A30: 105-01400-00 | B30: 22 | C30: 4 | D30: 105-01420-01 | E30: Base plate 2 | F30: 6082 T6 | G30: - | H30: 8 | I30: 966 | J30: 145 | M30: LC | N30: 2.99 | O30: 2 | P30: =N30*O30 -> 5.98
A31: 105-01400-00 | B31: 24 | C31: 4 | D31: 105-01420-03 | E31: Balustrade profile 2 | F31: 6060F22 T6 | G31: - | M31: COTS CND | N31: 6.69 | O31: 1 | P31: =N31*O31 -> 6.69
A32: 105-01400-00 | B32: 39 | C32: 4 | D32: 105-01430-02 | E32: Balustrade profile 3 | F32: 6060F22 T6 | G32: - | M32: COTS CND | N32: 6.69 | O32: 1 | P32: =N32*O32 -> 6.69
A33: 105-01400-00 | B33: 40 | C33: 4 | D33: 105-01430-03 | E33: Long bracket | F33: 6082 T6 | G33: - | M33: MCH | N33: 0.07 | O33: 2 | P33: =N33*O33 -> 0.14
A34: 105-21000-00 | B34: 3 | C34: 4 | D34: 105-01150-04 | E34: Shimplate 1mm | F34: AISI 304 | G34: - | H34: 1 | I34: 50 | J34: 40 | M34: LC | N34: 0.01 | O34: 10 | P34: =N34*O34 -> 0.1
A35: 105-21000-00 | B35: 4 | C35: 4 | D35: 105-01150-05 | E35: Shimplate 2mm | F35: AISI 304 | G35: - | H35: 2 | I35: 50 | J35: 40 | M35: LC | N35: 0.03 | O35: 10 | P35: =N35*O35 -> 0.3
A36: 105-21000-00 | B36: 5 | C36: 4 | D36: 105-01150-06 | E36: Shimplate 3mm | F36: AISI 304 | G36: - | H36: 3 | I36: 50 | J36: 40 | M36: LC | N36: 0.04 | O36: 10 | P36: =N36*O36 -> 0.4
A37: 105-21000-00 | B37: 6 | C37: 4 | D37: 105-01150-07 | E37: Shimplate 5mm | F37: AISI 304 | G37: - | H37: 5 | I37: 50 | J37: 40 | M37: LC | N37: 0.07 | O37: 10 | P37: =N37*O37 -> 0.7
A38: 105-21000-00 | B38: 76 | C38: 4 | D38: 105-21201-02 | E38: Glass bracket A1 | F38: 6082 T6 | G38: Anodizing ISO 7599:2010 | M38: MCH ANO | N38: 1.96 | O38: 2 | P38: =N38*O38 -> 3.92
A39: 105-21000-00 | B39: 78 | C39: 4 | D39: 105-21201-04 | E39: Glass bottom profile A1 | F39: 6082 T6 | G39: Anodizing ISO 7599:2010 | M39: MCH ANO | N39: 1.19 | O39: 2 | P39: =N39*O39 -> 2.38
A40: 105-21000-00 | B40: 80 | C40: 4 | D40: 105-21202-02 | E40: Glass bracket A2 | F40: 6082 T6 | G40: Anodizing ISO 7599:2010 | M40: MCH ANO | N40: 2.24 | O40: 2 | P40: =N40*O40 -> 4.48
A41: 105-21000-00 | B41: 82 | C41: 4 | D41: 105-21202-04 | E41: Glass bottom profile A2 | F41: 6082 T6 | G41: Anodizing ISO 7599:2010 | M41: MCH ANO | N41: 1.36 | O41: 2 | P41: =N41*O41 -> 2.72
A42: 105-21000-00 | B42: 83 | C42: 4 | D42: 105-21203-01 | E42: Aluminum U-profile 4 | F42: 6060F22 T6 | G42: Anodizing ISO 7599:2010 | K42: U 40x60x40x5 | L42: 996 | M42: CND ANO | N42: 1.69 | O42: 1 | P42: =N42*O42 -> 1.69
A43: 105-21000-00 | B43: 84 | C43: 4 | D43: 105-21203-02 | E43: Aluminum U-profile 5 | F43: 6060F22 T6 | G43: Anodizing ISO 7599:2010 | K43: U 40x60x40x5 | L43: 1138 | M43: CND ANO | N43: 1.86 | O43: 1 | P43: =N43*O43 -> 1.86
A44: Starpsumma Order 4: | P44: =SUM(P7:P43) -> 385.95 | R44: =SUM(R7:R23) -> 0
A46: Order 99.21: Neobond panels (35 pozicijas)
A47: 105-09000-00 | B47: 1 | C47: 99.21 | D47: 105-09000-01 | E47: Aluminium composite panel 1L | F47: Neobond WI-001 | G47: - | H47: 4 | I47: 928 | J47: 312.1 | M47: MCH | N47: 0.59 | O47: 1 | P47: 0.59
A48: 105-09000-00 | B48: 2 | C48: 99.21 | D48: 105-09000-02 | E48: Aluminium composite panel 2L | F48: Neobond WI-001 | G48: - | H48: 4 | I48: 979.1 | J48: 682.5 | M48: MCH | N48: 2.71 | O48: 1 | P48: 2.71
A49: 105-09000-00 | B49: 3 | C49: 99.21 | D49: 105-09000-03 | E49: Aluminium composite panel 3L | F49: Neobond WI-001 | G49: - | H49: 4 | I49: 979.1 | J49: 677.5 | M49: MCH | N49: 2.7 | O49: 1 | P49: 2.7
A50: 105-09000-00 | B50: 4 | C50: 99.21 | D50: 105-09000-04 | E50: Aluminium composite panel 4L | F50: Neobond WI-001 | G50: - | H50: 4 | I50: 1186.3 | J50: 987.9 | M50: MCH | N50: 4.63 | O50: 1 | P50: 4.63
A51: 105-09000-00 | B51: 5 | C51: 99.21 | D51: 105-09000-05 | E51: Aluminium composite panel 5L | F51: Neobond WI-001 | G51: - | H51: 4 | I51: 1259.1 | J51: 987.6 | M51: MCH | N51: 4.92 | O51: 1 | P51: 4.92
A52: 105-09000-00 | B52: 6 | C52: 99.21 | D52: 105-09000-06 | E52: Aluminium composite panel 6L | F52: Neobond WI-001 | G52: - | H52: 4 | I52: 1335.4 | J52: 984.3 | M52: MCH | N52: 5.2 | O52: 1 | P52: 5.2
A53: 105-09000-00 | B53: 7 | C53: 99.21 | D53: 105-09000-07 | E53: Aluminium composite panel 7L | F53: Neobond WI-001 | G53: - | H53: 4 | I53: 1414.7 | J53: 984 | M53: MCH | N53: 5.51 | O53: 1 | P53: 5.51
A54: 105-09000-00 | B54: 8 | C54: 99.21 | D54: 105-09000-08 | E54: Aluminium composite panel 8L | F54: Neobond WI-001 | G54: - | H54: 4 | I54: 1466.3 | J54: 986.2 | M54: MCH | N54: 5.78 | O54: 1 | P54: 5.78
A55: 105-09000-00 | B55: 9 | C55: 99.21 | D55: 105-09000-09 | E55: Aluminium composite panel 9L | F55: Neobond WI-001 | G55: - | H55: 4 | I55: 1521.4 | J55: 985.9 | M55: MCH | N55: 6 | O55: 1 | P55: 6
A56: 105-09000-00 | B56: 10 | C56: 99.21 | D56: 105-09000-10 | E56: Aluminium composite panel 10L | F56: Neobond WI-001 | G56: - | H56: 4 | I56: 1526.4 | J56: 1083.8 | M56: MCH | N56: 5.14 | O56: 1 | P56: 5.14
A57: 105-09000-00 | B57: 11 | C57: 99.21 | D57: 105-09000-11 | E57: Aluminium composite panel 11L | F57: Neobond WI-001 | G57: - | H57: 4 | I57: 1530.9 | J57: 1083.8 | M57: MCH | N57: 6.76 | O57: 1 | P57: 6.76
A58: 105-09000-00 | B58: 12 | C58: 99.21 | D58: 105-09000-12 | E58: Aluminium composite panel 12L | F58: Neobond WI-001 | G58: - | H58: 4 | I58: 1535.6 | J58: 1083.7 | M58: MCH | N58: 6.78 | O58: 1 | P58: 6.78
... A81: 105-09000-00 | B81: 35 | C81: 99.21 | D81: 105-09000-35 | E81: Aluminium composite panel hatch | F81: Neobond WI-001 | G81: - | H81: 4 | I81: 690 | J81: 550 | M81: MCH | N81: 1.55 | O81: 1 | P81: 1.55
A82: Starpsumma Order 99.21: | P82: =SUM(P47:P81) -> 160.88 | R82: =SUM(R47:R81) -> 0
A84: Order 99.22: Alumīnija profili hanging frame (12 pozicijas)
A85: 105-09000-00 | B85: 36 | C85: 99.22 | D85: 105-09000-36 | E85: Aluminum decorative strip 1 | F85: 6082 T6 | G85: - | H85: 2 | I85: 720 | J85: 25 | M85: COTS CND | N85: 0.09 | O85: 2 | P85: 0.18
A86: 105-09000-00 | B86: 37 | C86: 99.22 | D86: 105-09000-37 | E86: Aluminum decorative strip 2 | F86: 6082 T6 | G86: - | H86: 2 | I86: 580 | J86: 25 | M86: COTS CND | N86: 0.07 | O86: 2 | P86: 0.14
A87: 105-09000-00 | B87: 174 | C87: 99.22 | D87: 5metri_44-5026_130mm | E87: Rectangular flatbar 50x2 | F87: - | M87: COTS | N87: 0.04 | O87: 1 | P87: 0.04
A88: 105-09000-00 | B88: 175 | C88: 99.22 | D88: 5metri_44-5026_1000mm | E88: Rectangular flatbar 50x2 | F88: - | M88: COTS | N88: 0.27 | O88: 2 | P88: 0.54
A89: 105-09000-00 | B89: 176 | C89: 99.22 | D89: 5metri_44-5026_1150mm | E89: Rectangular flatbar 50x2 | F89: - | M89: COTS | N89: 0.31 | O89: 2 | P89: 0.62
A90: 105-09000-00 | B90: 177 | C90: 99.22 | D90: 5metri_44-5026_1220mm | E90: Rectangular flatbar 50x2 | F90: - | M90: COTS | N90: 0.33 | O90: 2 | P90: 0.66
A91: 105-09000-00 | B91: 178 | C91: 99.22 | D91: 5metri_44-5026_1270mm | E91: Rectangular flatbar 50x2 | F91: - | M91: COTS | N91: 0.34 | O91: 2 | P91: 0.68
A92: 105-09000-00 | B92: 179 | C92: 99.22 | D92: 5metri_44-5026_1300mm | E92: Rectangular flatbar 50x2 | F92: - | M92: COTS | N92: 0.35 | O92: 2 | P92: 0.7
A93: 105-09000-00 | B93: 180 | C93: 99.22 | D93: 5metri_44-5026_1370mm | E93: Rectangular flatbar 50x2 | F93: - | M93: COTS | N93: 0.37 | O93: 2 | P93: 0.74
A94: 105-09000-00 | B94: 181 | C94: 99.22 | D94: 5metri_44-5026_1440mm | E94: Rectangular flatbar 50x2 | F94: - | M94: COTS | N94: 0.39 | O94: 3 | P94: 1.17
A95: 105-09000-00 | B95: 182 | C95: 99.22 | D95: 5metri_44-5026_1490mm | E95: Rectangular flatbar 50x2 | F95: - | M95: COTS | N95: 0.4 | O95: 2 | P95: 0.8
A96: 105-09000-00 | B96: 183 | C96: 99.22 | D96: 5metri_44-5026_1550mm | E96: Rectangular flatbar 50x2 | F96: - | M96: COTS | N96: 0.42 | O96: 9 | P96: 3.78
A97: Starpsumma Order 99.22: | P97: =SUM(P85:P96) -> 10.05 | R97: =SUM(R85:R96) -> 0
A99: KOPSUMMA (bez PVN): | R99: =IFERROR(SUMIF(R6:R98,"<>0",R6:R98),0) -> 0

Sheet L4-PILC
A1: LOTE 4: LCB METALA KOMPONENTES - PILC
A2: Iepirkums Nr. SA-PI1-2026/ETKC | Pasūtījumi: 68 | Plān. vērtība: EUR 8,500
A3: Lazergriešanas un lociešanas metala komponentes (Ord.68). S355J2/DX51D+Z275, HDG EN ISO 1461.
A4: NORADIJUMI: Aizpildiet kolonnā R (Kopsumma EUR ) katra pasūtījuma starpsummu.
A5: Assy | B5: Nr. | C5: Ord.Nr. | D5: Dalas Nr. | E5: Apraksts | F5: Materials | G5: Virsmas apstrade | H5: Biezums | I5: Garums | J5: Platums | K5: Profils | L5: L mm | M5: Apstrade | N5: Svars/gab kg | O5: Daudzums | P5: Kop.svars kg | Q5: Vienibas cena EUR | R5: Kopsumma EUR | S5: Piezimes
A6: Order 68: LCB components (74 pozicijas)
A7: 105-03000-00 | B7: 1 | C7: 68 | D7: 105-03000-01 | E7: Entrance Zone Bracket | F7: S355J2 | G7: HDG EN ISO 1461 | H7: 10 | I7: 250 | J7: 245 | M7: LC HDG | N7: 4.11 | O7: 2 | P7: =N7*O7 -> 8.22
A8: 105-03000-00 | B8: 2 | C8: 68 | D8: 105-03000-02 | E8: Back Plate 1 | F8: S355J2 | G8: HDG EN ISO 1461 | H8: 6 | I8: 250 | J8: 98 | M8: LC HDG | N8: 1.11 | O8: 2 | P8: =N8*O8 -> 2.22
A9: 105-03000-00 | B9: 3 | C9: 68 | D9: 105-03000-03 | E9: Glass Support bracket | F9: S355J2 | G9: HDG EN ISO 1461 | H9: 8 | I9: 214.9 | J9: 70 | M9: LCB HDG | N9: 0.91 | O9: 1 | P9: =N9*O9 -> 0.91
A10: 105-03000-00 | B10: 4 | C10: 68 | D10: 105-03000-04 | E10: Back Plate 2 | F10: S355J2 | G10: HDG EN ISO 1461 | H10: 6 | I10: 98 | J10: 70 | M10: LC HDG | N10: 0.3 | O10: 2 | P10: =N10*O10 -> 0.6
A11: 105-03000-00 | B11: 5 | C11: 68 | D11: 105-03000-05 | E11: Panel bracket 2-1 | F11: S355J2 | G11: HDG EN ISO 1461 | H11: 3 | I11: 3178 | J11: 214.2 | M11: LCB HDG | N11: 15.87 | O11: 1 | P11: =N11*O11 -> 15.87
A12: 105-03000-00 | B12: 6 | C12: 68 | D12: 105-03000-06 | E12: Panel bracket 2-2 | F12: S355J2 | G12: HDG EN ISO 1461 | H12: 3 | I12: 1974 | J12: 214.2 | M12: LCB HDG | N12: 9.85 | O12: 2 | P12: =N12*O12 -> 19.7
A13: 105-03000-00 | B13: 7 | C13: 68 | D13: 105-03000-07 | E13: Panel bracket 2-3 | F13: S355J2 | G13: HDG EN ISO 1461 | H13: 3 | I13: 2177 | J13: 214.2 | M13: LCB HDG | N13: 10.87 | O13: 1 | P13: =N13*O13 -> 10.87
A14: 105-03000-00 | B14: 8 | C14: 68 | D14: 105-03000-08 | E14: Panel bracket 2-4 | F14: S355J2 | G14: HDG EN ISO 1461 | H14: 3 | I14: 2177 | J14: 214.2 | M14: LCB HDG | N14: 10.87 | O14: 1 | P14: =N14*O14 -> 10.87
A15: 105-03000-00 | B15: 9 | C15: 68 | D15: 105-03000-09 | E15: Panel bracket 2-5 | F15: S355J2 | G15: HDG EN ISO 1461 | H15: 3 | I15: 2250 | J15: 214.2 | M15: LCB HDG | N15: 11.24 | O15: 1 | P15: =N15*O15 -> 11.24
A16: 105-03000-00 | B16: 10 | C16: 68 | D16: 105-03000-10 | E16: Panel bracket 1-1 | F16: S355J2 | G16: HDG EN ISO 1461 | H16: 3 | I16: 3178 | J16: 179.2 | M16: LCB HDG | N16: 13.25 | O16: 1 | P16: =N16*O16 -> 13.25
A17: 105-03000-00 | B17: 11 | C17: 68 | D17: 105-03000-11 | E17: Panel bracket 1-2 | F17: S355J2 | G17: HDG EN ISO 1461 | H17: 3 | I17: 1974 | J17: 179.2 | M17: LCB HDG | N17: 8.22 | O17: 2 | P17: =N17*O17 -> 16.44
A18: 105-03000-00 | B18: 12 | C18: 68 | D18: 105-03000-12 | E18: Panel bracket 1-3 | F18: S355J2 | G18: HDG EN ISO 1461 | H18: 3 | I18: 2177 | J18: 179.2 | M18: LCB HDG | N18: 9.07 | O18: 1 | P18: =N18*O18 -> 9.07
... A62: 105-01300-00 | B62: 4 | C62: 68 | D62: 105-01300-04 | E62: Railing base plate 2 | F62: S355JR | G62: Painting C3.09 ISO12944 | H62: 10 | I62: 650 | J62: 150 | M62: LC CND PNT | N62: 7.53 | O62: 1 | P62: =N62*O62 -> 7.53
A63: 105-01300-00 | B63: 5 | C63: 68 | D63: 105-01310-01 | E63: RHS 80x40x3.0 | F63: S355 | G63: HDG EN ISO 1461 | K63: RHS 80x40x3.0 | L63: 2600 | M63: CND HDG | N63: 13.301 | O63: 3 | P63: =N63*O63 -> 39.903
A64: 105-01300-00 | B64: 6 | C64: 68 | D64: 105-01310-02 | E64: RHS 80x40x3.0 | F64: S355 | G64: HDG EN ISO 1461 | K64: RHS 80x40x3.0 | L64: 2715 | M64: CND HDG | N64: 13.894 | O64: 1 | P64: =N64*O64 -> 13.894
A65: 105-01300-00 | B65: 7 | C65: 68 | D65: 105-01310-03 | E65: RHS 80x40x3.0 | F65: S355 | G65: HDG EN ISO 1461 | K65: RHS 80x40x3.0 | L65: 2660 | M65: CND HDG | N65: 13.573 | O65: 1 | P65: =N65*O65 -> 13.573
A66: 105-01300-00 | B66: 8 | C66: 68 | D66: 105-01310-04 | E66: RHS 80x40x3.0 | F66: S355 | G66: HDG EN ISO 1461 | K66: RHS 80x40x3.0 | L66: 2770 | M66: CND HDG | N66: 14.177 | O66: 1 | P66: =N66*O66 -> 14.177
A67: 105-01300-00 | B67: 9 | C67: 68 | D67: 105-01310-05 | E67: RHS 80x40x3.0 | F67: S355 | G67: HDG EN ISO 1461 | K67: RHS 80x40x3.0 | L67: 2545 | M67: CND HDG | N67: 12.981 | O67: 1 | P67: =N67*O67 -> 12.981
A68: 105-01300-00 | B68: 10 | C68: 68 | D68: 105-01310-06 | E68: RHS 80x40x3.0 | F68: S355 | G68: HDG EN ISO 1461 | K68: RHS 80x40x3.0 | L68: 2490 | M68: CND HDG | N68: 12.734 | O68: 1 | P68: =N68*O68 -> 12.734
A69: 105-01300-00 | B69: 11 | C69: 68 | D69: 105-01310-07 | E69: RHS 80x40x3.0 | F69: S355 | G69: HDG EN ISO 1461 | K69: RHS 80x40x3.0 | L69: 2474 | M69: CND HDG | N69: 12.615 | O69: 4 | P69: =N69*O69 -> 50.46
A70: 105-01300-00 | B70: 12 | C70: 68 | D70: 105-01310-08 | E70: RHS 80x40x3.0 | F70: S355 | G70: HDG EN ISO 1461 | K70: RHS 80x40x3.0 | L70: 2500 | M70: CND HDG | N70: 12.785 | O70: 1 | P70: =N70*O70 -> 12.785
A71: 105-01300-00 | B71: 13 | C71: 68 | D71: 105-01310-09 | E71: RHS 80x40x3.0 | F71: S355 | G71: HDG EN ISO 1461 | K71: RHS 80x40x3.0 | L71: 2740 | M71: CND HDG | N71: 14.022 | O71: 1 | P71: =N71*O71 -> 14.022
A72: 105-01300-00 | B72: 14 | C72: 68 | D72: 105-01310-10 | E72: RHS 80x40x3.0 | F72: S355 | G72: HDG EN ISO 1461 | K72: RHS 80x40x3.0 | L72: 770 | M72: CND HDG | N72: 3.902 | O72: 1 | P72: =N72*O72 -> 3.902
A73: 105-01300-00 | B73: 15 | C73: 68 | D73: 105-01310-11 | E73: RHS 80x40x3.0 | F73: S355 | G73: HDG EN ISO 1461 | K73: RHS 80x40x3.0 | L73: 2770 | M73: CND HDG | N73: 14.104 | O73: 1 | P73: =N73*O73 -> 14.104
A74: 105-01300-00 | B74: 16 | C74: 68 | D74: 105-01310-12 | E74: RHS 80x40x3.0 | F74: S355 | G74: HDG EN ISO 1461 | K74: RHS 80x40x3.0 | L74: 2710 | M74: CND HDG | N74: 13.831 | O74: 1 | P74: =N74*O74 -> 13.831
A75: 105-01300-00 | B75: 17 | C75: 68 | D75: 105-01310-13 | E75: RHS 80x40x3.0 | F75: S355 | G75: HDG EN ISO 1461 | K75: RHS 80x40x3.0 | L75: 2474 | M75: CND HDG | N75: 12.651 | O75: 4 | P75: =N75*O75 -> 50.604
A76: 105-01300-00 | B76: 36 | C76: 68 | D76: 105-30130-06 | E76: Shimplate 1mm | F76: DX51D+Z275 | G76: - | H76: 1 | I76: 70 | J76: 70 | M76: LC | N76: 0.03 | O76: 124 | P76: =N76*O76 -> 3.72
A77: 105-01300-00 | B77: 37 | C77: 68 | D77: 105-30130-07 | E77: Shimplate 2mm | F77: DX51D+Z275 | G77: - | H77: 2 | I77: 70 | J77: 70 | M77: LC | N77: 0.07 | O77: 124 | P77: =N77*O77 -> 8.68
A78: 105-01300-00 | B78: 38 | C78: 68 | D78: 105-30130-08 | E78: Shimplate 5mm | F78: S355 | G78: HDG EN ISO 1461 | H78: 5 | I78: 70 | J78: 70 | M78: LC HDG | N78: 0.17 | O78: 122 | P78: =N78*O78 -> 20.74
A79: 105-30100-00 | B79: 3 | C79: 68 | D79: 105-30130-01 | E79: Bent U-profile | F79: S355 | G79: HDG EN ISO 1461 | H79: 3 | I79: 2620 | J79: 176.1 | M79: LCB | N79: 10.71 | O79: 2 | P79: =N79*O79 -> 21.42
A80: 105-30100-00 | B80: 4 | C80: 68 | D80: 105-30130-02 | E80: Rod bracket | F80: S355 | G80: HDG EN ISO 1461 | H80: 3 | I80: 66.6 | J80: 37 | M80: LCB HDG | N80: 0.05 | O80: 40 | P80: =N80*O80 -> 2
A81: 105-30100-00 | B81: 7 | C81: 68 | D81: 105-30130-06 | E81: Shimplate 1mm | F81: DX51D+Z275 | G81: - | H81: 1 | I81: 70 | J81: 70 | M81: LC | N81: 0.03 | O81: 20 | P81: =N81*O81 -> 0.6
A82: 105-30100-00 | B82: 8 | C82: 68 | D82: 105-30130-07 | E82: Shimplate 2mm | F82: DX51D+Z275 | G82: - | H82: 2 | I82: 70 | J82: 70 | M82: LC | N82: 0.07 | O82: 20 | P82: =N82*O82 -> 1.4
A83: 105-30100-00 | B83: 9 | C83: 68 | D83: 105-30130-08 | E83: Shimplate 5mm | F83: S355 | G83: HDG EN ISO 1461 | H83: 5 | I83: 70 | J83: 70 | M83: LC HDG | N83: 0.17 | O83: 30 | P83: =N83*O83 -> 5.1
A84: 105-30300-00 | B84: 1 | C84: 68 | D84: 105-30510-01 | E84: Fairing segment 1 | F84: DX51D+Z275 | G84: - | H84: 3 | I84: 1064.6 | J84: 807.2 | M84: LCB | N84: 19.29 | O84: 5 | P84: =N84*O84 -> 96.45
A85: 105-30300-00 | B85: 4 | C85: 68 | D85: 105-30520-01 | E85: Ground fairing plate 1 | F85: DX51+Z275 | G85: - | H85: 3 | I85: 2790 | J85: 554.3 | M85: LCB | N85: 35.61 | O85: 1 | P85: =N85*O85 -> 35.61
A86: 105-30300-00 | B86: 5 | C86: 68 | D86: 105-30520-02 | E86: Ground fairing plate 2 | F86: DX51+Z275 | G86: - | H86: 3 | I86: 2790 | J86: 905.9 | M86: LCB | N86: 58.61 | O86: 1 | P86: =N86*O86 -> 58.61
A87: 105-30300-00 | B87: 6 | C87: 68 | D87: 105-30520-03 | E87: Side fairing | F87: DX51D+Z275 | G87: - | H87: 3 | I87: 2300 | J87: 169.1 | M87: LCB | N87: 9.07 | O87: 2 | P87: =N87*O87 -> 18.14
... A103: 105-60200-00 | B103: 12 | C103: 68 | D103: 105-60200-12 | E103: Internal Corner Flashing | F103: AISI 304 | G103: - | H103: 0.8 | I103: 2480 | J103: 114.1 | M103: LCB | N103: 1.81 | O103: 8 | P103: =N103*O103 -> 14.48
A104: Starpsumma Order 68: | P104: =SUM(P7:P103) -> 1632.81 | R104: =SUM(R7:R103) -> 0
A106: KOPSUMMA (bez PVN): | R106: =IFERROR(SUMIF(R6:R105,"<>0",R6:R105),0) -> 0
