Workbook

Sheet BuvnKoptame
D1: APSTIPRINU
D4: (pasūtītāja paraksts un tā atšifrējums)
D7: _____.gada ____ . _________
B10: Būvniecības KOPTĀME
A12: OBJEKTS: Amālijas muižas jumta un būvkonstrukciju atjaunošanas būvdarbi Atmodas ielā 5, Aizputē
A13: PASŪTĪTĀJS: Biedrība Amalienburg
A15: Pretendents:
A16: Pamatojums:
A17: Tāme sastādīta:
B20: Tāmes kopējās izmaksas (ar PVN 21%), EUR | D20: {=D27} -> 0
C21: Kopējā normatīvā darbietilpība, c/h | D21: {=Kopsavilkums!H22} -> 0
A23: Nr.p.k. | B23: Tāmes Nr. | C23: Objekta izmaksu nosaukums | D23: Kopējās objekta izmaksas, EUR
A24: 1 | B24: 1 | C24: Kopējie atjaunošanas darbi | D24: {=Kopsavilkums!D25} -> 0
C25: Kopā : | D25: {=SUM(D24:D24)} -> 0
C26: PVN 21% : | D26: {=ROUND(D25*21%,2)} -> 0
C27: Kopā ar PVN: | D27: {=D25+D26} -> 0

Sheet Kopsavilkums
A2: KOPSAVILKUMA APRĒĶINS
A5: OBJEKTS: Amālijas muižas jumta un būvkonstrukciju atjaunošanas būvdarbi Atmodas ielā 5, Aizputē
A6: PASŪTĪTĀJS: Biedrība Amalienburg
A8: Pretendents:
A9: Pamatojums:
A10: Tāme sastādīta:
C12: Par kopējo summu, EUR: | D12: {=D25} -> 0
C13: Kopējā darbietilpība, c/h: | D13: {=H22} -> 0
A15: Nr.p.k. | B15: Lokālās tāmes Nr. | C15: Darba veids vai konstruktīvā elementa nosaukums | D15: Tāmes izmaksa (EUR) | E15: Tai skaitā | H15: Darbietilpība (c/h)
E16: Darba alga (EUR) | F16: Būvizstrādājumi (EUR) | G16: Mehān., instr.īre, amortizācija (EUR)
C17: Fasāžu atjaunošana
A18: 1 | B18: 1 | C18: Būvlaukuma sagatavošanas, uzturēšanas darbi | D18: {=Būvlaukums!O34} -> 0 | E18: {=Būvlaukums!L34} -> 0 | F18: {=Būvlaukums!M34} -> 0 | G18: {=Būvlaukums!N34} -> 0 | H18: {=Būvlaukums!K34} -> 0
A19: 2 | B19: 2 | C19: Skurtseņu atjaunošana | D19: {='Skursteņu atjaunošana '!O20} -> 0 | E19: {='Skursteņu atjaunošana '!L20} -> 0 | F19: {='Skursteņu atjaunošana '!M20} -> 0 | G19: {='Skursteņu atjaunošana '!N20} -> 0 | H19: {='Skursteņu atjaunošana '!K20} -> 0
A20: 3 | B20: 3 | C20: Jumta skārda un dakstiņu ieseguma atjaunošana | D20: {='Jumta atjaunošana'!O31} -> 0 | E20: {='Jumta atjaunošana'!L31} -> 0 | F20: {='Jumta atjaunošana'!M31} -> 0 | G20: {='Jumta atjaunošana'!N31} -> 0 | H20: {='Jumta atjaunošana'!K31} -> 0
A21: 4 | B21: 4 | C21: Būvkonstrukcijas | D21: {=Būvkonstrukcijas!O20} -> 0 | E21: {=Būvkonstrukcijas!L20} -> 0 | F21: {=Būvkonstrukcijas!M20} -> 0 | G21: {=Būvkonstrukcijas!N20} -> 0 | H21: {=Būvkonstrukcijas!K20} -> 0
A22: KOPĀ: | D22: {=SUM(D18:D21)} -> 0 | E22: {=SUM(E18:E21)} -> 0 | F22: {=SUM(F18:F21)} -> 0 | G22: {=SUM(G18:G21)} -> 0 | H22: {=SUM(H18:H21)} -> 0
A23: Virsizdevumi ( ___ %)
A24: Peļņa ( ____ %)
A25: Kopā bez PVN 21% | D25: =D24+D23+D22 -> 0

Sheet Būvlaukums
G2: Lokālā tāme Nr. 1
G3: Būvlaukuma sagatavošanas, uzturēšanas darbi
A4: OBJEKTS: Amālijas muižas jumta un būvkonstrukciju atjaunošanas būvdarbi Atmodas ielā 5, Aizputē
A5: PASŪTĪTĀJS: Biedrība Amalienburg
A7: Pretendents:
A8: Pamatojums:
A9: Tāme sastādīta:
M10: Tāmes izmaksas EUR | O10: {=O34} -> 0
A12: Nr.p.k. | B12: Darba nosaukums | C12: Mēr-vienība | D12: Daudzums | E12: Vienības izmaksas EUR | K12: Kopā uz visu apjomu EUR
E13: Laika norma c/h | F13: Darba samaksas likme (EUR/h) | G13: Darba alga | H13: Būvizstrā-dājumi | I13: Mehānismi | J13: Kopā | K13: Darbietilpība c/h | L13: Darba alga | M13: Būvizstrādājumi | N13: Mehānismi | O13: Summa EUR
B14: BP DOP 1-01
A15: 1 | B15: Būvtāfeles izgatavošana, uzstādīšana | C15: kpl | D15: 1 | G15: {=F15*E15} -> 0 | J15: {=I15+H15+G15} -> 0 | K15: {=E15*D15} -> 0 | L15: {=G15*D15} -> 0 | M15: {=H15*D15} -> 0 | N15: {=I15*D15} -> 0 | O15: {=N15+M15+L15} -> 0
A16: =A15+1 -> 2 | B16: Ugunsdzēsības līdzekļu stenda un pirmās palīdzības aptieciņas ierīkošana | C16: kpl | D16: 1 | G16: {=F16*E16} -> 0 | J16: {=I16+H16+G16} -> 0 | K16: {=E16*D16} -> 0 | L16: {=G16*D16} -> 0 | M16: {=H16*D16} -> 0 | N16: {=I16*D16} -> 0 | O16: {=N16+M16+L16} -> 0
A17: {=A16+1} -> 3 | B17: Darba drošības un pirmās palīdzības zīmju uzstādīšana | C17: kpl | D17: 1 | G17: {=F17*E17} -> 0 | J17: {=I17+H17+G17} -> 0 | K17: {=E17*D17} -> 0 | L17: {=G17*D17} -> 0 | M17: {=H17*D17} -> 0 | N17: {=I17*D17} -> 0 | O17: {=N17+M17+L17} -> 0
A18: {=A17+1} -> 4 | B18: Evakuācijas zīmju uzstādīšana | C18: kpl | D18: 2 | G18: {=F18*E18} -> 0 | J18: {=I18+H18+G18} -> 0 | K18: {=E18*D18} -> 0 | L18: {=G18*D18} -> 0 | M18: {=H18*D18} -> 0 | N18: {=I18*D18} -> 0 | O18: {=N18+M18+L18} -> 0
A19: {=A18+1} -> 5 | B19: Teritorijas norobežošana ar pagaidu žogu | C19: t/m | D19: 115 | G19: {=F19*E19} -> 0 | J19: {=I19+H19+G19} -> 0 | K19: {=E19*D19} -> 0 | L19: {=G19*D19} -> 0 | M19: {=H19*D19} -> 0 | N19: {=I19*D19} -> 0 | O19: {=N19+M19+L19} -> 0
B20: 'Beakert'' inventāra žogs vai ekvivalents | C20: t/m | D20: {=D19} -> 115 | G20: {=F20*E20} -> 0 | J20: {=I20+H20+G20} -> 0 | K20: {=E20*D20} -> 0 | L20: {=G20*D20} -> 0 | M20: {=H20*D20} -> 0 | N20: {=I20*D20} -> 0 | O20: {=N20+M20+L20} -> 0
A21: {=A19+1} -> 6 | B21: Nožogojuma aizklāšana ar plēvi | C21: m2 | D21: {=D19*2} -> 230 | G21: {=F21*E21} -> 0 | J21: {=I21+H21+G21} -> 0 | K21: {=E21*D21} -> 0 | L21: {=G21*D21} -> 0 | M21: {=H21*D21} -> 0 | N21: {=I21*D21} -> 0 | O21: {=N21+M21+L21} -> 0
B22: PVC plēve | C22: m2 | D22: {=D21*1.1} -> 253 | G22: {=F22*E22} -> 0 | J22: {=I22+H22+G22} -> 0 | K22: {=E22*D22} -> 0 | L22: {=G22*D22} -> 0 | M22: {=H22*D22} -> 0 | N22: {=I22*D22} -> 0 | O22: {=N22+M22+L22} -> 0
A23: {=A21+1} -> 7 | B23: Būvgružu konteinera īre 8,5 m3 (3 mēn.) | C23: gab | D23: 2 | G23: {=F23*E23} -> 0 | J23: {=I23+H23+G23} -> 0 | K23: {=E23*D23} -> 0 | L23: {=G23*D23} -> 0 | M23: {=H23*D23} -> 0 | N23: {=I23*D23} -> 0 | O23: {=N23+M23+L23} -> 0
B24: Koka pastatņu izgatavošna jomta slīpuma kompensēšanai uz skursteņu atjaunošanas laiku | C24: kompl | D24: 1 | G24: {=F24*E24} -> 0 | J24: {=I24+H24+G24} -> 0 | K24: {=E24*D24} -> 0 | L24: {=G24*D24} -> 0 | M24: {=H24*D24} -> 0 | N24: {=I24*D24} -> 0 | O24: {=N24+M24+L24} -> 0
A25: 8 | B25: Sastatņu montāža, demontāža | C25: m2 | D25: 264 | G25: {=F25*E25} -> 0 | J25: {=I25+H25+G25} -> 0 | K25: {=ROUND(E25*D25,2)} -> 0 | L25: {=ROUND(G25*D25,2)} -> 0 | M25: {=ROUND(H25*D25,2)} -> 0 | N25: {=ROUND(I25*D25,2)} -> 0 | O25: {=N25+M25+L25} -> 0
B26: inventāra sastatņu īre | C26: m2 | D26: {=D25} -> 264 | G26: {=F26*E26} -> 0 | J26: {=I26+H26+G26} -> 0 | K26: {=ROUND(E26*D26,2)} -> 0 | L26: {=ROUND(G26*D26,2)} -> 0 | M26: {=ROUND(H26*D26,2)} -> 0 | N26: {=ROUND(I26*D26,2)} -> 0 | O26: {=N26+M26+L26} -> 0
A27: {=A25+1} -> 9 | B27: Aizsargtīkla uzstādīšana | C27: m2 | D27: {=D25} -> 264 | G27: {=F27*E27} -> 0 | J27: {=I27+H27+G27} -> 0 | K27: {=ROUND(E27*D27,2)} -> 0 | L27: {=ROUND(G27*D27,2)} -> 0 | M27: {=ROUND(H27*D27,2)} -> 0 | N27: {=ROUND(I27*D27,2)} -> 0 | O27: {=N27+M27+L27} -> 0
B28: aizsargtīkls | C28: m2 | D28: {=D27*1.1} -> 290.4 | G28: {=F28*E28} -> 0 | J28: {=I28+H28+G28} -> 0 | K28: {=ROUND(E28*D28,2)} -> 0 | L28: {=ROUND(G28*D28,2)} -> 0 | M28: {=ROUND(H28*D28,2)} -> 0 | N28: {=ROUND(I28*D28,2)} -> 0 | O28: {=N28+M28+L28} -> 0
A29: 12 | B29: Zemes un jumta nosegšana zem sastatnēm un pārējā darba zonā | C29: m2 | D29: 130 | G29: {=F29*E29} -> 0 | J29: {=I29+H29+G29} -> 0 | K29: {=E29*D29} -> 0 | L29: {=G29*D29} -> 0 | M29: {=H29*D29} -> 0 | N29: {=I29*D29} -> 0 | O29: {=N29+M29+L29} -> 0
B30: OSB plātne | C30: m2 | D30: {=D29} -> 130 | G30: {=F30*E30} -> 0 | J30: {=I30+H30+G30} -> 0 | K30: {=E30*D30} -> 0 | L30: {=G30*D30} -> 0 | M30: {=H30*D30} -> 0 | N30: {=I30*D30} -> 0 | O30: {=N30+M30+L30} -> 0
B31: PVC plēve | C31: m2 | D31: {=D29*1.1} -> 143 | G31: {=F31*E31} -> 0 | J31: {=I31+H31+G31} -> 0 | K31: {=E31*D31} -> 0 | L31: {=G31*D31} -> 0 | M31: {=H31*D31} -> 0 | N31: {=I31*D31} -> 0 | O31: {=N31+M31+L31} -> 0
A32: 13 | B32: Teritorijas sakārtošana pēc darbu pabeigšanas | C32: teritorija | D32: 1 | G32: {=F32*E32} -> 0 | J32: {=I32+H32+G32} -> 0 | K32: {=E32*D32} -> 0 | L32: {=G32*D32} -> 0 | M32: {=H32*D32} -> 0 | N32: {=I32*D32} -> 0 | O32: {=N32+M32+L32} -> 0
A33: {=A32+1} -> 14 | B33: Būvlaukuma uzturēšana 3 mēn. | C33: būvlaukums | D33: 1 | G33: {=F33*E33} -> 0 | J33: {=I33+H33+G33} -> 0 | K33: {=E33*D33} -> 0 | L33: {=G33*D33} -> 0 | M33: {=H33*D33} -> 0 | N33: {=I33*D33} -> 0 | O33: {=N33+M33+L33} -> 0
B34: Tiešās izmaksas kopā, t.sk. soc. nod. | C34: EUR | K34: {=SUM(K16:K33)} -> 0 | L34: {=SUM(L16:L33)} -> 0 | M34: {=SUM(M16:M33)} -> 0 | N34: {=SUM(N16:N33)} -> 0 | O34: {=SUM(O15:O33)} -> 0
B36: Sastādīja:
B38: Pārbaudīja:

Sheet Skursteņu atjaunošana 
A1: OBJEKTS: Amālijas muižas jumta un būvkonstrukciju atjaunošanas būvdarbi Atmodas ielā 5, Aizputē
A2: PASŪTĪTĀJS: Biedrība Amalienburg
A4: Pretendents:
A5: Pamatojums:
A6: Tāme sastādīta:
F7: Lokālā tāme Nr. 2
F8: Skurtseņu restaurācija | M8: Tāmes izmaksas, EUR: | O8: {=O20} -> 0
A10: Nr.p.k. | B10: Darba nosaukums | C10: Mēr-vienība | D10: Daudzums | E10: Vienības izmaksas EUR | K10: Kopā uz visu apjomu EUR
E11: Laika norma c/h | F11: Darba samaksas likme (EUR/h) | G11: Darba alga | H11: Būvizstrā-dājumi | I11: Mehānismi | J11: Kopā | K11: Darbietilpība c/h | L11: Darba alga | M11: Būvizstrā-dājumi | N11: Mehānismi | O11: Summa EUR
B12: Skursteņu un jumta seguma atjaunošana
B13: Skursteņu atjaunošana
A14: 1 | B14: Konstruktīvi bojāto skursteņu saudzīga demontāža līdz skārda iesegumam. Ķieģēli saglabājami atkārtotai izmantošanai | C14: gb | D14: 3 | G14: {=F14*E14} -> 0 | J14: {=I14+H14+G14} -> 0 | K14: {=ROUND(E14*D14,2)} -> 0 | L14: {=ROUND(G14*D14,2)} -> 0 | M14: {=ROUND(H14*D14,2)} -> 0 | N14: {=ROUND(I14*D14,2)} -> 0 | O14: {=N14+M14+L14} -> 0
A15: {=A14+1} -> 2 | B15: Skursteņu virs jumta posmu mūrēšana | C15: gb | D15: 3 | G15: {=F15*E15} -> 0 | J15: {=I15+H15+G15} -> 0 | K15: {=ROUND(E15*D15,2)} -> 0 | L15: {=ROUND(G15*D15,2)} -> 0 | M15: {=ROUND(H15*D15,2)} -> 0 | N15: {=ROUND(I15*D15,2)} -> 0 | O15: {=N15+M15+L15} -> 0
A16: 3 | B16: Skursteņu virsmu gruntēšana | C16: gb | D16: 3 | G16: {=F16*E16} -> 0 | J16: {=I16+H16+G16} -> 0 | K16: {=ROUND(E16*D16,2)} -> 0 | L16: {=ROUND(G16*D16,2)} -> 0 | M16: {=ROUND(H16*D16,2)} -> 0 | N16: {=ROUND(I16*D16,2)} -> 0 | O16: {=N16+M16+L16} -> 0
A17: {=A16+1} -> 4 | B17: Skursteņu apmetuma pamat kārtas atjaunošana | C17: gb | D17: 3 | G17: {=F17*E17} -> 0 | J17: {=I17+H17+G17} -> 0 | K17: {=ROUND(E17*D17,2)} -> 0 | L17: {=ROUND(G17*D17,2)} -> 0 | M17: {=ROUND(H17*D17,2)} -> 0 | N17: {=ROUND(I17*D17,2)} -> 0 | O17: {=N17+M17+L17} -> 0
A18: {=A17+1} -> 5 | B18: Skursteņu apmetuma nobeiguma kārtas atjaunošana | C18: gb | D18: 3 | G18: {=F18*E18} -> 0 | J18: {=I18+H18+G18} -> 0 | K18: {=ROUND(E18*D18,2)} -> 0 | L18: {=ROUND(G18*D18,2)} -> 0 | M18: {=ROUND(H18*D18,2)} -> 0 | N18: {=ROUND(I18*D18,2)} -> 0 | O18: {=N18+M18+L18} -> 0
A19: 6 | B19: Apmetuma gruntēšana un krāsošana | C19: gb | D19: 3 | G19: {=F19*E19} -> 0 | J19: {=I19+H19+G19} -> 0 | K19: {=ROUND(E19*D19,2)} -> 0 | L19: {=ROUND(G19*D19,2)} -> 0 | M19: {=ROUND(H19*D19,2)} -> 0 | N19: {=ROUND(I19*D19,2)} -> 0 | O19: {=N19+M19+L19} -> 0
B20: Tiešās izmaksas kopā, t.sk. soc. nod. | C20: EUR | K20: {=SUM(K12:K19)} -> 0 | L20: {=SUM(L12:L19)} -> 0 | M20: {=SUM(M12:M19)} -> 0 | N20: {=SUM(N12:N19)} -> 0 | O20: {=SUM(O12:O19)} -> 0
B22: Sastādīja:
B24: Pārbaudīja:

Sheet Jumta atjaunošana
A1: OBJEKTS: Amālijas muižas jumta un būvkonstrukciju atjaunošanas būvdarbi Atmodas ielā 5, Aizputē
A2: PASŪTĪTĀJS: Biedrība Amalienburg
A4: Pretendents:
A5: Pamatojums:
A6: Tāme sastādīta:
F7: Lokālā tāme Nr. 3
F8: Jumta seguma restaurācija | M8: Tāmes izmaksas, EUR: | O8: {=O31} -> 0
A10: Nr.p.k. | B10: Darba nosaukums | C10: Mēr-vienība | D10: Daudzums | E10: Vienības izmaksas EUR | K10: Kopā uz visu apjomu EUR
E11: Laika norma c/h | F11: Darba samaksas likme (EUR/h) | G11: Darba alga | H11: Būvizstrā-dājumi | I11: Mehānismi | J11: Kopā | K11: Darbietilpība c/h | L11: Darba alga | M11: Būvizstrā-dājumi | N11: Mehānismi | O11: Summa EUR
B12: Jumta skārda un dakstiņu ieseguma atjaunošana
A13: 1 | B13: Jumta seguma demontāža (Šīferis, latojums, skārdi, lubiņas) | C13: m2 | D13: 605 | G13: {=F13*E13} -> 0 | H13: 0 | J13: {=I13+H13+G13} -> 0 | K13: {=ROUND(E13*D13,2)} -> 0 | L13: {=ROUND(G13*D13,2)} -> 0 | M13: {=ROUND(H13*D13,2)} -> 0 | N13: {=ROUND(I13*D13,2)} -> 0 | O13: {=N13+M13+L13} -> 0
A14: {=A13+1} -> 2 | B14: Difūzījas membrānās plēves montāžā ( retināts dēļu klājs un ruberoids) | C14: m2 | D14: 605 | G14: {=F14*E14} -> 0 | J14: {=I14+H14+G14} -> 0 | K14: {=ROUND(E14*D14,2)} -> 0 | L14: {=ROUND(G14*D14,2)} -> 0 | M14: {=ROUND(H14*D14,2)} -> 0 | N14: {=ROUND(I14*D14,2)} -> 0 | O14: {=N14+M14+L14} -> 0
A15: {=A14+1} -> 3 | B15: Distancerlatojuma montāža | C15: m2 | D15: 605 | G15: {=F15*E15} -> 0 | J15: {=I15+H15+G15} -> 0 | K15: {=ROUND(E15*D15,2)} -> 0 | L15: {=ROUND(G15*D15,2)} -> 0 | M15: {=ROUND(H15*D15,2)} -> 0 | N15: {=ROUND(I15*D15,2)} -> 0 | O15: {=N15+M15+L15} -> 0
A16: 4 | B16: Latojuma montāža | C16: m2 | D16: 605 | G16: {=F16*E16} -> 0 | J16: {=I16+H16+G16} -> 0 | K16: {=ROUND(E16*D16,2)} -> 0 | L16: {=ROUND(G16*D16,2)} -> 0 | M16: {=ROUND(H16*D16,2)} -> 0 | N16: {=ROUND(I16*D16,2)} -> 0 | O16: {=N16+M16+L16} -> 0
A17: 5 | B17: Dakstiņu montāža | C17: m2 | D17: 605 | G17: {=F17*E17} -> 0 | J17: {=I17+H17+G17} -> 0 | K17: {=ROUND(E17*D17,2)} -> 0 | L17: {=ROUND(G17*D17,2)} -> 0 | M17: {=ROUND(H17*D17,2)} -> 0 | N17: {=ROUND(I17*D17,2)} -> 0 | O17: {=N17+M17+L17} -> 0
A18: 6 | B18: Lāsenes montāžā | C18: m.t. | D18: 108.5 | G18: {=F18*E18} -> 0 | J18: {=I18+H18+G18} -> 0 | K18: {=ROUND(E18*D18,2)} -> 0 | L18: {=ROUND(G18*D18,2)} -> 0 | M18: {=ROUND(H18*D18,2)} -> 0 | N18: {=ROUND(I18*D18,2)} -> 0 | O18: {=N18+M18+L18} -> 0
A19: 7 | B19: Noteksistēmu montāža | C19: m.t. | D19: 169.5 | G19: {=F19*E19} -> 0 | J19: {=I19+H19+G19} -> 0 | K19: {=ROUND(E19*D19,2)} -> 0 | L19: {=ROUND(G19*D19,2)} -> 0 | M19: {=ROUND(H19*D19,2)} -> 0 | N19: {=ROUND(I19*D19,2)} -> 0 | O19: {=N19+M19+L19} -> 0
A20: {=A19+1} -> 8 | B20: Dūmeņu iestrāde skārdā | C20: gb | D20: 3 | G20: {=F20*E20} -> 0 | J20: {=I20+H20+G20} -> 0 | K20: {=ROUND(E20*D20,2)} -> 0 | L20: {=ROUND(G20*D20,2)} -> 0 | M20: {=ROUND(H20*D20,2)} -> 0 | N20: {=ROUND(I20*D20,2)} -> 0 | O20: {=N20+M20+L20} -> 0
A21: 9 | B21: Jumta lūku montāža | C21: gb | D21: 3 | G21: {=F21*E21} -> 0 | J21: {=I21+H21+G21} -> 0 | K21: {=ROUND(E21*D21,2)} -> 0 | L21: {=ROUND(G21*D21,2)} -> 0 | M21: {=ROUND(H21*D21,2)} -> 0 | N21: {=ROUND(I21*D21,2)} -> 0 | O21: {=N21+M21+L21} -> 0
A22: 10 | B22: Jumta izbūvju iestrāde | C22: gb | D22: 4 | G22: {=F22*E22} -> 0 | J22: {=I22+H22+G22} -> 0 | K22: {=ROUND(E22*D22,2)} -> 0 | L22: {=ROUND(G22*D22,2)} -> 0 | M22: {=ROUND(H22*D22,2)} -> 0 | N22: {=ROUND(I22*D22,2)} -> 0 | O22: {=N22+M22+L22} -> 0
A23: 11 | B23: Satekas montāža | C23: m.t. | D23: 50.8 | G23: {=F23*E23} -> 0 | J23: {=I23+H23+G23} -> 0 | K23: {=ROUND(E23*D23,2)} -> 0 | L23: {=ROUND(G23*D23,2)} -> 0 | M23: {=ROUND(H23*D23,2)} -> 0 | N23: {=ROUND(I23*D23,2)} -> 0 | O23: {=N23+M23+L23} -> 0
A24: 12 | B24: Vēja malas montāža | C24: m.t. | D24: 65 | G24: {=F24*E24} -> 0 | J24: {=I24+H24+G24} -> 0 | K24: {=ROUND(E24*D24,2)} -> 0 | L24: {=ROUND(G24*D24,2)} -> 0 | M24: {=ROUND(H24*D24,2)} -> 0 | N24: {=ROUND(I24*D24,2)} -> 0 | O24: {=N24+M24+L24} -> 0
A25: {=A24+1} -> 13 | B25: Kores montāžā | C25: m.t. | D25: 74.2 | G25: {=F25*E25} -> 0 | J25: {=I25+H25+G25} -> 0 | K25: {=ROUND(E25*D25,2)} -> 0 | L25: {=ROUND(G25*D25,2)} -> 0 | M25: {=ROUND(H25*D25,2)} -> 0 | N25: {=ROUND(I25*D25,2)} -> 0 | O25: {=N25+M25+L25} -> 0
A26: {=A25+1} -> 14 | B26: Skārda jumta seguma montāžā | C26: m2 | D26: 20.2 | G26: {=F26*E26} -> 0 | J26: {=I26+H26+G26} -> 0 | K26: {=ROUND(E26*D26,2)} -> 0 | L26: {=ROUND(G26*D26,2)} -> 0 | M26: {=ROUND(H26*D26,2)} -> 0 | N26: {=ROUND(I26*D26,2)} -> 0 | O26: {=N26+M26+L26} -> 0
A27: {=A26+1} -> 15 | B27: Sniega barjeras | C27: m.t. | D27: 5.7 | G27: {=F27*E27} -> 0 | J27: {=I27+H27+G27} -> 0 | K27: {=ROUND(E27*D27,2)} -> 0 | L27: {=ROUND(G27*D27,2)} -> 0 | M27: {=ROUND(H27*D27,2)} -> 0 | N27: {=ROUND(I27*D27,2)} -> 0 | O27: {=N27+M27+L27} -> 0
A28: {=A27+1} -> 16 | B28: Koka konstrukciju spāru nomaiņa un pastiprināšana | C28: kompl | D28: 1 | G28: {=F28*E28} -> 0 | J28: {=I28+H28+G28} -> 0 | K28: {=ROUND(E28*D28,2)} -> 0 | L28: {=ROUND(G28*D28,2)} -> 0 | M28: {=ROUND(H28*D28,2)} -> 0 | N28: {=ROUND(I28*D28,2)} -> 0 | O28: {=N28+M28+L28} -> 0
A29: {=A28+1} -> 17 | B29: Palīgdarbi un materiāli, neparedzētie darbi | C29: kompl | D29: 1 | G29: {=F29*E29} -> 0 | J29: {=I29+H29+G29} -> 0 | K29: {=ROUND(E29*D29,2)} -> 0 | L29: {=ROUND(G29*D29,2)} -> 0 | M29: {=ROUND(H29*D29,2)} -> 0 | N29: {=ROUND(I29*D29,2)} -> 0 | O29: {=N29+M29+L29} -> 0
A30: {=A29+1} -> 18 | B30: Esošā šifera uztilizācija | C30: kompl | D30: 1 | G30: {=F30*E30} -> 0 | H30: 0 | J30: {=I30+H30+G30} -> 0 | K30: {=ROUND(E30*D30,2)} -> 0 | L30: {=ROUND(G30*D30,2)} -> 0 | M30: {=ROUND(H30*D30,2)} -> 0 | N30: {=ROUND(I30*D30,2)} -> 0 | O30: {=N30+M30+L30} -> 0
B31: Tiešās izmaksas kopā, t.sk. soc. nod. | C31: EUR | K31: {=SUM(K12:K30)} -> 0 | L31: {=SUM(L12:L30)} -> 0 | M31: {=SUM(M12:M30)} -> 0 | N31: {=SUM(N12:N30)} -> 0 | O31: {=SUM(O12:O30)} -> 0
B33: Sastādīja:
B35: Pārbaudīja:

Sheet Būvkonstrukcijas
A1: OBJEKTS: Amālijas muižas jumta un būvkonstrukciju atjaunošanas būvdarbi Atmodas ielā 5, Aizputē
A2: PASŪTĪTĀJS: Biedrība Amalienburg
A4: Pretendents:
A5: Pamatojums:
A6: Tāme sastādīta:
F7: Lokālā tāme Nr. 4
F8: Sienu koka konstrukciju restaurārācija | M8: Tāmes izmaksas, EUR: | O8: {=O20} -> 0
A10: Nr.p.k. | B10: Darba nosaukums | C10: Mēr-vienība | D10: Daudzums | E10: Vienības izmaksas EUR | K10: Kopā uz visu apjomu EUR
E11: Laika norma c/h | F11: Darba samaksas likme (EUR/h) | G11: Darba alga | H11: Būvizstrā-dājumi | I11: Mehānismi | J11: Kopā | K11: Darbietilpība c/h | L11: Darba alga | M11: Būvizstrā-dājumi | N11: Mehānismi | O11: Summa EUR
B12: Jumta skārda un dakstiņu ieseguma atjaunošana
A13: 1 | B13: 1. kārtas koka konstrukciju restaurācija | C13: kompl | D13: 1 | J13: {=I13+H13+G13} -> 0 | K13: {=ROUND(E13*D13,2)} -> 0 | L13: {=ROUND(G13*D13,2)} -> 0 | M13: {=ROUND(H13*D13,2)} -> 0 | N13: {=ROUND(I13*D13,2)} -> 0 | O13: {=N13+M13+L13} -> 0
A14: {=A13+1} -> 2 | B14: 1. kārtas mūra darbi | C14: kompl | D14: 1 | J14: {=I14+H14+G14} -> 0 | K14: {=ROUND(E14*D14,2)} -> 0 | L14: {=ROUND(G14*D14,2)} -> 0 | M14: {=ROUND(H14*D14,2)} -> 0 | N14: {=ROUND(I14*D14,2)} -> 0 | O14: {=N14+M14+L14} -> 0
A15: {=A14+1} -> 3 | B15: 3. kārtas koka konstrukciju restaurācija | C15: kompl | D15: 1 | J15: {=I15+H15+G15} -> 0 | K15: {=ROUND(E15*D15,2)} -> 0 | L15: {=ROUND(G15*D15,2)} -> 0 | M15: {=ROUND(H15*D15,2)} -> 0 | N15: {=ROUND(I15*D15,2)} -> 0 | O15: {=N15+M15+L15} -> 0
A16: 4 | B16: 3. kārtas dekoratīvā apmetuma saglabāšanas darbi | C16: kompl | D16: 1 | J16: {=I16+H16+G16} -> 0 | K16: {=ROUND(E16*D16,2)} -> 0 | L16: {=ROUND(G16*D16,2)} -> 0 | M16: {=ROUND(H16*D16,2)} -> 0 | N16: {=ROUND(I16*D16,2)} -> 0 | O16: {=N16+M16+L16} -> 0
A17: 5 | B17: 4. kārtas koka konstrukciju restaurācija | C17: kompl | J17: {=I17+H17+G17} -> 0 | K17: {=ROUND(E17*D17,2)} -> 0 | L17: {=ROUND(G17*D17,2)} -> 0 | M17: {=ROUND(H17*D17,2)} -> 0 | N17: {=ROUND(I17*D17,2)} -> 0 | O17: {=N17+M17+L17} -> 0
A18: 6 | B18: 4. kārtas mūra darbi | C18: kompl | J18: {=I18+H18+G18} -> 0 | K18: {=ROUND(E18*D18,2)} -> 0 | L18: {=ROUND(G18*D18,2)} -> 0 | M18: {=ROUND(H18*D18,2)} -> 0 | N18: {=ROUND(I18*D18,2)} -> 0 | O18: {=N18+M18+L18} -> 0
A19: 7 | B19: Palīgdarbi un materiāli, neparedzētie darbi | C19: kompl | D19: 1 | J19: {=I19+H19+G19} -> 0 | K19: {=ROUND(E19*D19,2)} -> 0 | L19: {=ROUND(G19*D19,2)} -> 0 | M19: {=ROUND(H19*D19,2)} -> 0 | N19: {=ROUND(I19*D19,2)} -> 0 | O19: {=N19+M19+L19} -> 0
B20: Tiešās izmaksas kopā, t.sk. soc. nod. | C20: EUR | K20: {=SUM(K12:K19)} -> 0 | L20: {=SUM(L12:L19)} -> 0 | M20: {=SUM(M12:M19)} -> 0 | N20: {=SUM(N12:N19)} -> 0 | O20: {=SUM(O12:O19)} -> 0
B22: Sastādīja:
B24: Pārbaudīja:
