Workbook

Sheet Koptāme
A1: BŪVNIECĪBAS KOPTĀME
A3: Pasūtītājs: SIA "FRAVIA", reģ. Nr. 41503080013
A4: Būvobjekts: LOGISTIKAS ĒKAS JAUNBŪVE
A5: Adrese: Daugavpils iela 3A, Dagda, LV-5674
A10: Nr.p.k. | B10: Objekta nosaukums | C10: Objekta izmaksas (EUR)
A12: 1 | B12: LOGISTIKAS ĒKAS JAUNBŪVE, Daugavpils iela 3A, Dagda, LV-5674 | C12: =Kopsavilkums!C27 -> 0
A14: KOPĀ BEZ PVN | C14: =SUM(C12:C13) -> 0
B16: Tāmi sagatavoja:
B17: Datums:

Sheet Kopsavilkums
A2: KOPSAVILKUMA APRĒĶINS
A4: =Koptāme!A3 -> Pasūtītājs: SIA "FRAVIA", reģ. Nr. 41503080013
A5: =Koptāme!A4 -> Būvobjekts: LOGISTIKAS ĒKAS JAUNBŪVE
A6: =Koptāme!A5 -> Adrese: Daugavpils iela 3A, Dagda, LV-5674
B8: Kopējā summa, EUR bez PVN | C8: =C27 -> 0
A10: =Koptāme!A8 -> 0
A12: Nr.p.k. | B12: Darba veids vai konstruktīvā elementa nosaukums | C12: Tāmes izmaksas (EUR) | D12: Tai skaitā | G12: Darbietilpība (c/h)
D13: Darba alga (EUR) | E13: Būvizstrādājumi (EUR) | F13: Mehānismi (EUR)
B14: Vispārceltnieciskie darbi
A15: =A14+1 -> 1 | B15: ='1. DOP'!A3 -> Pagaidu būvlaukuma ierīkošana un uzturēšana | C15: =SUM(D15:F15) -> 0 | D15: ='1. DOP'!L28 -> 0 | E15: ='1. DOP'!M28 -> 0 | F15: ='1. DOP'!N28 -> 0 | G15: ='1. DOP'!K28 -> 0
A16: =A15+1 -> 2 | B16: ='2. Zemes darbi'!A3 -> Zemes darbi un piebraucamā ceļa izbūve | C16: =SUM(D16:F16) -> 0 | D16: ='2. Zemes darbi'!L27 -> 0 | E16: ='2. Zemes darbi'!M27 -> 0 | F16: ='2. Zemes darbi'!N27 -> 0 | G16: ='2. Zemes darbi'!K27 -> 0
A17: =A16+1 -> 3 | B17: ='3. Pamatu plātne'!A3 -> Stabveida pamatu , cokola un grīdas betonēšanas darbi | C17: =SUM(D17:F17) -> 0 | D17: ='3. Pamatu plātne'!L42 -> 0 | E17: ='3. Pamatu plātne'!M42 -> 0 | F17: ='3. Pamatu plātne'!N42 -> 0 | G17: ='3. Pamatu plātne'!K42 -> 0
A18: =A17+1 -> 4 | B18: ='4. Metāla konstrukcijas'!A3 -> Metāla karkasa konstrukcijas | C18: =SUM(D18:F18) -> 0 | D18: ='4. Metāla konstrukcijas'!L22 -> 0 | E18: ='4. Metāla konstrukcijas'!M22 -> 0 | F18: ='4. Metāla konstrukcijas'!N22 -> 0 | G18: ='4. Metāla konstrukcijas'!K22 -> 0
A19: =A18+1 -> 5 | B19: ='5. Sienas'!A3 -> Ārsienas, iekšsienas | C19: =SUM(D19:F19) -> 0 | D19: ='5. Sienas'!L21 -> 0 | E19: ='5. Sienas'!M21 -> 0 | F19: ='5. Sienas'!N21 -> 0 | G19: ='5. Sienas'!K21 -> 0
A20: =A19+1 -> 6 | B20: ='6. Jumts'!A3 -> Jumta izbūves darbi | C20: =SUM(D20:F20) -> 0 | D20: ='6. Jumts'!L24 -> 0 | E20: ='6. Jumts'!M24 -> 0 | F20: ='6. Jumts'!N24 -> 0 | G20: ='6. Jumts'!K24 -> 0
A21: =A20+1 -> 7 | B21: ='7. Vārti un durvis'!A3 -> Vārti un durvis | C21: =SUM(D21:F21) -> 0 | D21: ='7. Vārti un durvis'!L23 -> 0 | E21: ='7. Vārti un durvis'!M23 -> 0 | F21: ='7. Vārti un durvis'!N23 -> 0 | G21: ='7. Vārti un durvis'!K23 -> 0
B23: Kopā | C23: =SUM(C14:C22) -> 0 | D23: =SUM(D14:D22) -> 0 | E23: =SUM(E14:E22) -> 0 | F23: =SUM(F14:F22) -> 0 | G23: =SUM(G14:G22) -> 0
B24: Virsizdevumi (%)
B25: t.sk. darba aizsardzība (%)
B26: Ģenerāluzņēmeja peļņa (%)
B27: PAVISAM KOPĀ BEZ PVN | C27: =C23+C24+C26 -> 0
B29: =Koptāme!B16 -> Tāmi sagatavoja:
B30: =Koptāme!B17 -> Datums:

Sheet 1. DOP
A2: Lokālā tāme Nr. 1
A3: Pagaidu būvlaukuma ierīkošana un uzturēšana
A4: (Darba veids vai konstruktīvā elementa nosaukums)
A5: =Koptāme!A3 -> Pasūtītājs: SIA "FRAVIA", reģ. Nr. 41503080013
A6: =Koptāme!A4 -> Būvobjekts: LOGISTIKAS ĒKAS JAUNBŪVE
A7: =Koptāme!A5 -> Adrese: Daugavpils iela 3A, Dagda, LV-5674
A9: =Koptāme!A8 -> 0 | J9: Tāmes izmaksas bez PVN | L9: =O28 -> 0 | M9: EUR bez PVN
A11: Nr.p.k. | B11: Būvdarbu nosaukums | C11: Mērv. | D11: Daudzums | E11: Vienības izmaksas (EUR) | K11: Kopā uz visu apjomu (EUR)
E12: Laika norma (c/h) | F12: Darba samaksas likme (EUR/h) | G12: darba alga | H12: Būvizstrādājumi | I12: mehānismi | J12: kopā | K12: Darbietilpība (c/h) | L12: darba alga | M12: Būvizstrādājumi | N12: mehānismi | O12: summa
A13: 1 | B13: 2 | C13: 3 | D13: 4 | E13: 5 | F13: 6 | G13: 7 | H13: 8 | I13: 9 | J13: 10 | K13: 11 | L13: 12 | M13: 13 | N13: 14 | O13: 15
B15: Pagaidu būvlaukuma ierīkošana un uzturēšana
A16: 1 | B16: Pagaidu nožogojuma ierīkošana, demontāža, noma (4. mēneši) | C16: t.m | D16: 130 | E16: 0 | F16: 0 | G16: =ROUND(E16*F16,2) -> 0 | H16: 0 | I16: 0 | J16: =ROUND(I16+H16+G16,2) -> 0 | K16: =ROUND(D16*E16,2) -> 0 | L16: =ROUND(G16*D16,2) -> 0 | M16: =ROUND(H16*D16,2) -> 0 | N16: =ROUND(I16*D16,2) -> 0 | O16: =ROUND(N16+M16+L16,2) -> 0
A17: =A16+1 -> 2 | B17: Būvtāfele (nostiprināšana pie žoga Valsts autoceļš V619 Dagda - Pauļukalns pusē) | C17: gb | D17: 1 | E17: 0 | F17: 0 | G17: =ROUND(E17*F17,2) -> 0 | H17: 0 | I17: 0 | J17: =ROUND(I17+H17+G17,2) -> 0 | K17: =ROUND(D17*E17,2) -> 0 | L17: =ROUND(G17*D17,2) -> 0 | M17: =ROUND(H17*D17,2) -> 0 | N17: =ROUND(I17*D17,2) -> 0 | O17: =ROUND(N17+M17+L17,2) -> 0
A18: =A17+1 -> 3 | B18: Strādnieku konteineru uzstādīšana/ noma (4. mēneši) | C18: kpl | D18: 1 | E18: 0 | F18: 0 | G18: =ROUND(E18*F18,2) -> 0 | H18: 0 | I18: 0 | J18: =ROUND(I18+H18+G18,2) -> 0 | K18: =ROUND(D18*E18,2) -> 0 | L18: =ROUND(G18*D18,2) -> 0 | M18: =ROUND(H18*D18,2) -> 0 | N18: =ROUND(I18*D18,2) -> 0 | O18: =ROUND(N18+M18+L18,2) -> 0
A19: =A18+1 -> 4 | B19: Ofisa konteineru uzstādīšana/ noma (4. mēneši) | C19: kpl | D19: 1 | E19: 0 | F19: 0 | G19: =ROUND(E19*F19,2) -> 0 | H19: 0 | I19: 0 | J19: =ROUND(I19+H19+G19,2) -> 0 | K19: =ROUND(D19*E19,2) -> 0 | L19: =ROUND(G19*D19,2) -> 0 | M19: =ROUND(H19*D19,2) -> 0 | N19: =ROUND(I19*D19,2) -> 0 | O19: =ROUND(N19+M19+L19,2) -> 0
A20: =A19+1 -> 5 | B20: BIO tualešu noma, apkalpošana (4. mēneši) | C20: gb | D20: 1 | E20: 0 | F20: 0 | G20: =ROUND(E20*F20,2) -> 0 | H20: 0 | I20: 0 | J20: =ROUND(I20+H20+G20,2) -> 0 | K20: =ROUND(D20*E20,2) -> 0 | L20: =ROUND(G20*D20,2) -> 0 | M20: =ROUND(H20*D20,2) -> 0 | N20: =ROUND(I20*D20,2) -> 0 | O20: =ROUND(N20+M20+L20,2) -> 0
A21: =A20+1 -> 6 | B21: Piekļuves kontroles sistēma (EDLUS) (4. mēneši) | C21: obj | D21: 1 | E21: 0 | F21: 0 | G21: =ROUND(E21*F21,2) -> 0 | H21: 0 | I21: 0 | J21: =ROUND(I21+H21+G21,2) -> 0 | K21: =ROUND(D21*E21,2) -> 0 | L21: =ROUND(G21*D21,2) -> 0 | M21: =ROUND(H21*D21,2) -> 0 | N21: =ROUND(I21*D21,2) -> 0 | O21: =ROUND(N21+M21+L21,2) -> 0
A22: =A21+1 -> 7 | B22: Ugunsdrošības nodrošināšana objektā | C22: obj | D22: 1 | E22: 0 | F22: 0 | G22: =ROUND(E22*F22,2) -> 0 | H22: 0 | I22: 0 | J22: =ROUND(I22+H22+G22,2) -> 0 | K22: =ROUND(D22*E22,2) -> 0 | L22: =ROUND(G22*D22,2) -> 0 | M22: =ROUND(H22*D22,2) -> 0 | N22: =ROUND(I22*D22,2) -> 0 | O22: =ROUND(N22+M22+L22,2) -> 0
A23: =A22+1 -> 8 | B23: Pagaidu elektropieslēgums, apgaismojums (prožektors ar stabu 2 gb.) | C23: obj | D23: 1 | E23: 0 | F23: 0 | G23: =ROUND(E23*F23,2) -> 0 | H23: 0 | I23: 0 | J23: =ROUND(I23+H23+G23,2) -> 0 | K23: =ROUND(D23*E23,2) -> 0 | L23: =ROUND(G23*D23,2) -> 0 | M23: =ROUND(H23*D23,2) -> 0 | N23: =ROUND(I23*D23,2) -> 0 | O23: =ROUND(N23+M23+L23,2) -> 0
A24: =A23+1 -> 9 | B24: Elektroenērģijas izmaksas būvniecības periodā | C24: obj | D24: 1 | E24: 0 | F24: 0 | G24: =ROUND(E24*F24,2) -> 0 | H24: 0 | I24: 0 | J24: =ROUND(I24+H24+G24,2) -> 0 | K24: =ROUND(D24*E24,2) -> 0 | L24: =ROUND(G24*D24,2) -> 0 | M24: =ROUND(H24*D24,2) -> 0 | N24: =ROUND(I24*D24,2) -> 0 | O24: =ROUND(N24+M24+L24,2) -> 0
A25: =A24+1 -> 10 | B25: Būvgružu konteineri | C25: obj | D25: 1 | E25: 0 | F25: 0 | G25: 0 | H25: 0 | I25: 0 | J25: =ROUND(I25+H25+G25,2) -> 0 | K25: =ROUND(D25*E25,2) -> 0 | L25: =ROUND(G25*D25,2) -> 0 | M25: =ROUND(H25*D25,2) -> 0 | N25: =ROUND(I25*D25,2) -> 0 | O25: =ROUND(N25+M25+L25,2) -> 0
A26: =A25+1 -> 11 | B26: Objekta ģenerāltīrīšana pēc būvdarbu pabeigšanas | C26: obj | D26: 1 | E26: 0 | F26: 0 | G26: =ROUND(E26*F26,2) -> 0 | H26: 0 | I26: 0 | J26: =ROUND(I26+H26+G26,2) -> 0 | K26: =ROUND(D26*E26,2) -> 0 | L26: =ROUND(G26*D26,2) -> 0 | M26: =ROUND(H26*D26,2) -> 0 | N26: =ROUND(I26*D26,2) -> 0 | O26: =ROUND(N26+M26+L26,2) -> 0
A28: Tiešās izmaksas kopā, t. Sk. Darba devēja sociālais nodoklis (23,59 %) | K28: =SUM(K16:K26) -> 0 | L28: =SUM(L16:L26) -> 0 | M28: =SUM(M16:M26) -> 0 | N28: =SUM(N16:N26) -> 0 | O28: =SUM(L28:N28) -> 0
B30: =Koptāme!B16 -> Tāmi sagatavoja:
B31: =Koptāme!B17 -> Datums:

Sheet 2. Zemes darbi
A2: Lokālā tāme Nr. 2
A3: Zemes darbi un piebraucamā ceļa izbūve
A4: (Darba veids vai konstruktīvā elementa nosaukums)
A5: =Koptāme!A3 -> Pasūtītājs: SIA "FRAVIA", reģ. Nr. 41503080013
A6: =Koptāme!A4 -> Būvobjekts: LOGISTIKAS ĒKAS JAUNBŪVE
A7: =Koptāme!A5 -> Adrese: Daugavpils iela 3A, Dagda, LV-5674
A9: =Koptāme!A8 -> 0 | J9: Tāmes izmaksas bez PVN | L9: =O27 -> 0 | M9: EUR bez PVN
A11: Nr.p.k. | B11: Būvdarbu nosaukums | C11: Mērv. | D11: Daudzums | E11: Vienības izmaksas (EUR) | K11: Kopā uz visu apjomu (EUR)
E12: Laika norma (c/h) | F12: Darba samaksas likme (EUR/h) | G12: darba alga | H12: Būvizstrādājumi | I12: mehānismi | J12: kopā | K12: Darbietilpība (c/h) | L12: darba alga | M12: Būvizstrādājumi | N12: mehānismi | O12: summa
A13: 1 | B13: 2 | C13: 3 | D13: 4 | E13: 5 | F13: 6 | G13: 7 | H13: 8 | I13: 9 | J13: 10 | K13: 11 | L13: 12 | M13: 13 | N13: 14 | O13: 15
B15: Zemes darbi zem ēkas
A16: 1 | B16: Ēkas asu nospraušana dabā | C16: kpl | D16: 2 | E16: 0 | F16: 0 | G16: =ROUND(E16*F16,2) -> 0 | H16: 0 | I16: 0 | J16: =ROUND(I16+H16+G16,2) -> 0 | K16: =ROUND(D16*E16,2) -> 0 | L16: =ROUND(G16*D16,2) -> 0 | M16: =ROUND(H16*D16,2) -> 0 | N16: =ROUND(I16*D16,2) -> 0 | O16: =ROUND(N16+M16+L16,2) -> 0
A17: =A16+1 -> 2 | B17: Auglīgas zemes kārtas noņemšana, novietošana objektā | C17: m3 | D17: 212.4 | E17: 0 | F17: 0 | G17: =ROUND(E17*F17,2) -> 0 | H17: 0 | I17: 0 | J17: =ROUND(I17+H17+G17,2) -> 0 | K17: =ROUND(D17*E17,2) -> 0 | L17: =ROUND(G17*D17,2) -> 0 | M17: =ROUND(H17*D17,2) -> 0 | N17: =ROUND(I17*D17,2) -> 0 | O17: =ROUND(N17+M17+L17,2) -> 0
A18: =A17+1 -> 3 | B18: Grunts izstrāde būvbedrē mehanizēti, ģeometriskais apjoms (ar grunts novietošanu objektā) | C18: m3 | D18: 651.95 | E18: 0 | F18: 0 | G18: =ROUND(E18*F18,2) -> 0 | H18: 0 | I18: 0 | J18: =ROUND(I18+H18+G18,2) -> 0 | K18: =ROUND(D18*E18,2) -> 0 | L18: =ROUND(G18*D18,2) -> 0 | M18: =ROUND(H18*D18,2) -> 0 | N18: =ROUND(I18*D18,2) -> 0 | O18: =ROUND(N18+M18+L18,2) -> 0
B19: Piebraucamā ceļa izbūve līdz transformatoru ēkai | C19: m2 | D19: 180
A20: 4 | B20: Esošā irdeno smilšu slāņa blietēšana Ev2>50 MN/m2 | C20: m2 | D20: =D19 -> 180 | E20: 0 | F20: 0 | G20: =ROUND(E20*F20,2) -> 0 | H20: 0 | I20: 0 | J20: =ROUND(I20+H20+G20,2) -> 0 | K20: =ROUND(D20*E20,2) -> 0 | L20: =ROUND(G20*D20,2) -> 0 | M20: =ROUND(H20*D20,2) -> 0 | N20: =ROUND(I20*D20,2) -> 0 | O20: =ROUND(N20+M20+L20,2) -> 0
A21: 5 | B21: Blietēta smilts slāņa izveide dabīgā reljefa izlīdzināšanai | C21: m3 | D21: 45 | E21: 0 | F21: 0 | G21: =ROUND(E21*F21,2) -> 0 | H21: 0 | I21: 0 | J21: =ROUND(I21+H21+G21,2) -> 0 | K21: =ROUND(D21*E21,2) -> 0 | L21: =ROUND(G21*D21,2) -> 0 | M21: =ROUND(H21*D21,2) -> 0 | N21: =ROUND(I21*D21,2) -> 0 | O21: =ROUND(N21+M21+L21,2) -> 0
A22: 6 | B22: -Pievesta smilts (sablīvējuma koef. 0.98) | C22: m3 | D22: =D21*1.3 -> 58.5 | E22: 0 | F22: 0 | G22: =ROUND(E22*F22,2) -> 0 | H22: 0 | I22: 0 | J22: =ROUND(I22+H22+G22,2) -> 0 | K22: =ROUND(D22*E22,2) -> 0 | L22: =ROUND(G22*D22,2) -> 0 | M22: =ROUND(H22*D22,2) -> 0 | N22: =ROUND(I22*D22,2) -> 0 | O22: =ROUND(N22+M22+L22,2) -> 0
A23: 7 | B23: Blietēta smilts slāņa izveide dabīgā reljefa izlīdzināšanai | C23: m3 | D23: 45 | E23: 0 | F23: 0 | G23: =ROUND(E23*F23,2) -> 0 | H23: 0 | I23: 0 | J23: =ROUND(I23+H23+G23,2) -> 0 | K23: =ROUND(D23*E23,2) -> 0 | L23: =ROUND(G23*D23,2) -> 0 | M23: =ROUND(H23*D23,2) -> 0 | N23: =ROUND(I23*D23,2) -> 0 | O23: =ROUND(N23+M23+L23,2) -> 0
A24: 8 | B24: Blietēta dolomīta šķembu (fr.0-70mm) slāņa izveide 200 mm | C24: m3 | D24: =D19*0.2 -> 36 | E24: 0 | F24: 0 | G24: =ROUND(E24*F24,2) -> 0 | H24: 0 | I24: 0 | J24: =ROUND(I24+H24+G24,2) -> 0 | K24: =ROUND(D24*E24,2) -> 0 | L24: =ROUND(G24*D24,2) -> 0 | M24: =ROUND(H24*D24,2) -> 0 | N24: =ROUND(I24*D24,2) -> 0 | O24: =ROUND(N24+M24+L24,2) -> 0
B25: -Pievestas dolomīta šķembas (fr.0-70) | C25: m3 | D25: =D24*1.3 -> 46.8 | E25: 0 | F25: 0 | G25: =ROUND(E25*F25,2) -> 0 | H25: 0 | I25: 0 | J25: =ROUND(I25+H25+G25,2) -> 0 | K25: =ROUND(D25*E25,2) -> 0 | L25: =ROUND(G25*D25,2) -> 0 | M25: =ROUND(H25*D25,2) -> 0 | N25: =ROUND(I25*D25,2) -> 0 | O25: =ROUND(N25+M25+L25,2) -> 0
A27: Tiešās izmaksas kopā, t. Sk. Darba devēja sociālais nodoklis (23,59 %) | K27: =SUM(K15:K25) -> 0 | L27: =SUM(L15:L25) -> 0 | M27: =SUM(M15:M25) -> 0 | N27: =SUM(N15:N25) -> 0 | O27: =SUM(L27:N27) -> 0
B29: =Koptāme!B16 -> Tāmi sagatavoja:
B30: =Koptāme!B17 -> Datums:

Sheet 3. Pamatu plātne
A2: Lokālā tāme Nr. 3
A3: Stabveida pamatu , cokola un grīdas betonēšanas darbi
A4: (Darba veids vai konstruktīvā elementa nosaukums)
A5: =Koptāme!A3 -> Pasūtītājs: SIA "FRAVIA", reģ. Nr. 41503080013
A6: =Koptāme!A4 -> Būvobjekts: LOGISTIKAS ĒKAS JAUNBŪVE
A7: =Koptāme!A5 -> Adrese: Daugavpils iela 3A, Dagda, LV-5674
A9: =Koptāme!A8 -> 0 | J9: Tāmes izmaksas bez PVN | L9: =O42 -> 0 | M9: EUR bez PVN
A11: Nr.p.k. | B11: Būvdarbu nosaukums | C11: Mērv. | D11: Daudzums | E11: Vienības izmaksas (EUR) | K11: Kopā uz visu apjomu (EUR)
E12: Laika norma (c/h) | F12: Darba samaksas likme (EUR/h) | G12: darba alga | H12: Būvizstrādājumi | I12: mehānismi | J12: kopā | K12: Darbietilpība (c/h) | L12: darba alga | M12: Būvizstrādājumi | N12: mehānismi | O12: summa
A13: 1 | B13: 2 | C13: 3 | D13: 4 | E13: 5 | F13: 6 | G13: 7 | H13: 8 | I13: 9 | J13: 10 | K13: 11 | L13: 12 | M13: 13 | N13: 14 | O13: 15
B15: Stabveida pamatu izbūve, betona cokola izveide un betona grīdas izbūve
A16: 1 | B16: Esošā irdeno smilšu slāņa blietēšana Ev2>50 MN/m2 | C16: m2 | D16: 1062 | E16: 0 | F16: 0 | G16: =ROUND(E16*F16,2) -> 0 | H16: 0 | I16: 0 | J16: =ROUND(I16+H16+G16,2) -> 0 | K16: =ROUND(D16*E16,2) -> 0 | L16: =ROUND(G16*D16,2) -> 0 | M16: =ROUND(H16*D16,2) -> 0 | N16: =ROUND(I16*D16,2) -> 0 | O16: =ROUND(N16+M16+L16,2) -> 0
A17: =A16+1 -> 2 | B17: Blietēta smilts slāņa izveide 200 mm | C17: m3 | D17: 212.4 | E17: 0 | F17: 0 | G17: =ROUND(E17*F17,2) -> 0 | H17: 0 | I17: 0 | J17: =ROUND(I17+H17+G17,2) -> 0 | K17: =ROUND(D17*E17,2) -> 0 | L17: =ROUND(G17*D17,2) -> 0 | M17: =ROUND(H17*D17,2) -> 0 | N17: =ROUND(I17*D17,2) -> 0 | O17: =ROUND(N17+M17+L17,2) -> 0
A18: =A17+1 -> 3 | B18: -Pievesta smilts (sablīvējuma koef. 0.98) | C18: m3 | D18: 276.12 | E18: 0 | F18: 0 | G18: =ROUND(E18*F18,2) -> 0 | H18: 0 | I18: 0 | J18: =ROUND(I18+H18+G18,2) -> 0 | K18: =ROUND(D18*E18,2) -> 0 | L18: =ROUND(G18*D18,2) -> 0 | M18: =ROUND(H18*D18,2) -> 0 | N18: =ROUND(I18*D18,2) -> 0 | O18: =ROUND(N18+M18+L18,2) -> 0
A19: =A18+1 -> 4 | B19: Šķembu pamatojuma ierīkošana zem kolonnam un cokola 100mm | C19: m3 | D19: 18.55 | E19: 0 | F19: 0 | G19: =ROUND(E19*F19,2) -> 0 | H19: 0 | I19: 0 | J19: =ROUND(I19+H19+G19,2) -> 0 | K19: =ROUND(D19*E19,2) -> 0 | L19: =ROUND(G19*D19,2) -> 0 | M19: =ROUND(H19*D19,2) -> 0 | N19: =ROUND(I19*D19,2) -> 0 | O19: =ROUND(N19+M19+L19,2) -> 0
A20: =A19+1 -> 5 | B20: - Pievestas šķembas (frakcija 16-45 mm) (sablīvējuma koef. 0.98) | C20: m3 | D20: 24.12 | E20: 0 | F20: 0 | G20: =ROUND(E20*F20,2) -> 0 | H20: 0 | I20: 0 | J20: =ROUND(I20+H20+G20,2) -> 0 | K20: =ROUND(D20*E20,2) -> 0 | L20: =ROUND(G20*D20,2) -> 0 | M20: =ROUND(H20*D20,2) -> 0 | N20: =ROUND(I20*D20,2) -> 0 | O20: =ROUND(N20+M20+L20,2) -> 0
A21: =A20+1 -> 6 | B21: Stabveida pamatu izbūve | C21: m3 | D21: 79 | E21: 0 | F21: 0 | G21: =ROUND(E21*F21,2) -> 0 | H21: 0 | I21: 0 | J21: =ROUND(I21+H21+G21,2) -> 0 | K21: =ROUND(D21*E21,2) -> 0 | L21: =ROUND(G21*D21,2) -> 0 | M21: =ROUND(H21*D21,2) -> 0 | N21: =ROUND(I21*D21,2) -> 0 | O21: =ROUND(N21+M21+L21,2) -> 0
A22: =A21+1 -> 7 | B22: -Armatūra ar piegādi | C22: tonnas | D22: 7.2 | E22: 0 | F22: 0 | G22: =ROUND(E22*F22,2) -> 0 | H22: 0 | I22: 0 | J22: =ROUND(I22+H22+G22,2) -> 0 | K22: =ROUND(D22*E22,2) -> 0 | L22: =ROUND(G22*D22,2) -> 0 | M22: =ROUND(H22*D22,2) -> 0 | N22: =ROUND(I22*D22,2) -> 0 | O22: =ROUND(N22+M22+L22,2) -> 0
A23: =A22+1 -> 8 | B23: -Veidņi un veidņu sistēmas piederumi | C23: kompl. | D23: 33 | E23: 0 | F23: 0 | G23: =ROUND(E23*F23,2) -> 0 | H23: 0 | I23: 0 | J23: =ROUND(I23+H23+G23,2) -> 0 | K23: =ROUND(D23*E23,2) -> 0 | L23: =ROUND(G23*D23,2) -> 0 | M23: =ROUND(H23*D23,2) -> 0 | N23: =ROUND(I23*D23,2) -> 0 | O23: =ROUND(N23+M23+L23,2) -> 0
A24: =A23+1 -> 9 | B24: -Betons C30/37 ar piegādi un sūkni | C24: m3 | D24: 81.37 | E24: 0 | F24: 0 | G24: =ROUND(E24*F24,2) -> 0 | H24: 0 | I24: 0 | J24: =ROUND(I24+H24+G24,2) -> 0 | K24: =ROUND(D24*E24,2) -> 0 | L24: =ROUND(G24*D24,2) -> 0 | M24: =ROUND(H24*D24,2) -> 0 | N24: =ROUND(I24*D24,2) -> 0 | O24: =ROUND(N24+M24+L24,2) -> 0
A25: =A24+1 -> 10 | B25: Pamatu cokola izbūve | C25: m3 | D25: 61.5 | E25: 0 | F25: 0 | G25: =ROUND(E25*F25,2) -> 0 | H25: 0 | I25: 0 | J25: =ROUND(I25+H25+G25,2) -> 0 | K25: =ROUND(D25*E25,2) -> 0 | L25: =ROUND(G25*D25,2) -> 0 | M25: =ROUND(H25*D25,2) -> 0 | N25: =ROUND(I25*D25,2) -> 0 | O25: =ROUND(N25+M25+L25,2) -> 0
A26: =A25+1 -> 11 | B26: -Armatūra ar piegādi | C26: tonnas | D26: 5.76 | E26: 0 | F26: 0 | G26: =ROUND(E26*F26,2) -> 0 | H26: 0 | I26: 0 | J26: =ROUND(I26+H26+G26,2) -> 0 | K26: =ROUND(D26*E26,2) -> 0 | L26: =ROUND(G26*D26,2) -> 0 | M26: =ROUND(H26*D26,2) -> 0 | N26: =ROUND(I26*D26,2) -> 0 | O26: =ROUND(N26+M26+L26,2) -> 0
A27: =A26+1 -> 12 | B27: -Veidņi un veidņu sistēmas piederumi | C27: metri. | D27: 343 | E27: 0 | F27: 0 | G27: =ROUND(E27*F27,2) -> 0 | H27: 0 | I27: 0 | J27: =ROUND(I27+H27+G27,2) -> 0 | K27: =ROUND(D27*E27,2) -> 0 | L27: =ROUND(G27*D27,2) -> 0 | M27: =ROUND(H27*D27,2) -> 0 | N27: =ROUND(I27*D27,2) -> 0 | O27: =ROUND(N27+M27+L27,2) -> 0
A28: =A27+1 -> 13 | B28: -Betons C30/37 ar piegādi un sūkni | C28: m3 | D28: 63.35 | E28: 0 | F28: 0 | G28: =ROUND(E28*F28,2) -> 0 | H28: 0 | I28: 0 | J28: =ROUND(I28+H28+G28,2) -> 0 | K28: =ROUND(D28*E28,2) -> 0 | L28: =ROUND(G28*D28,2) -> 0 | M28: =ROUND(H28*D28,2) -> 0 | N28: =ROUND(I28*D28,2) -> 0 | O28: =ROUND(N28+M28+L28,2) -> 0
... A35: =A34+1 -> 20 | B35: -Armatūra 12mm viens slānis ar piegādi (acs 5x5) | C35: tonnas | D35: 1.08 | E35: 0 | F35: 0 | G35: =ROUND(E35*F35,2) -> 0 | H35: 0 | I35: 0 | J35: =ROUND(I35+H35+G35,2) -> 0 | K35: =ROUND(D35*E35,2) -> 0 | L35: =ROUND(G35*D35,2) -> 0 | M35: =ROUND(H35*D35,2) -> 0 | N35: =ROUND(I35*D35,2) -> 0 | O35: =ROUND(N35+M35+L35,2) -> 0
A36: =A34+1 -> 20 | B36: -Betons C30/37 ar piegādi un sūkni | C36: m3 | D36: 159.14 | E36: 0 | F36: 0 | G36: =ROUND(E36*F36,2) -> 0 | H36: 0 | I36: 0 | J36: =ROUND(I36+H36+G36,2) -> 0 | K36: =ROUND(D36*E36,2) -> 0 | L36: =ROUND(G36*D36,2) -> 0 | M36: =ROUND(H36*D36,2) -> 0 | N36: =ROUND(I36*D36,2) -> 0 | O36: =ROUND(N36+M36+L36,2) -> 0
A37: =A36+1 -> 21 | B37: Betona grīdas slīpēšana ar cietinātāja iestrādi | C37: m2 | D37: 1062 | E37: 0 | F37: 0 | G37: =ROUND(E37*F37,2) -> 0 | H37: 0 | I37: 0 | J37: =ROUND(I37+H37+G37,2) -> 0 | K37: =ROUND(D37*E37,2) -> 0 | L37: =ROUND(G37*D37,2) -> 0 | M37: =ROUND(H37*D37,2) -> 0 | N37: =ROUND(I37*D37,2) -> 0 | O37: =ROUND(N37+M37+L37,2) -> 0
A38: =A37+1 -> 22 | B38: Temperatūras šuves (aizpildīšana ar elastīgu hermētiķi) | C38: metri. | D38: 302 | E38: 0 | F38: 0 | G38: =ROUND(E38*F38,2) -> 0 | H38: 0 | I38: 0 | J38: =ROUND(I38+H38+G38,2) -> 0 | K38: =ROUND(D38*E38,2) -> 0 | L38: =ROUND(G38*D38,2) -> 0 | M38: =ROUND(H38*D38,2) -> 0 | N38: =ROUND(I38*D38,2) -> 0 | O38: =ROUND(N38+M38+L38,2) -> 0
A39: =A38+1 -> 23 | B39: Bruģējums uz šķembām izveide ārpus angāra 150mm x 1500mm | C39: m2 | D39: 270 | E39: 0 | F39: 0 | G39: =ROUND(E39*F39,2) -> 0 | H39: 0 | I39: 0 | J39: =ROUND(I39+H39+G39,2) -> 0 | K39: =ROUND(D39*E39,2) -> 0 | L39: =ROUND(G39*D39,2) -> 0 | M39: =ROUND(H39*D39,2) -> 0 | N39: =ROUND(I39*D39,2) -> 0 | O39: =ROUND(N39+M39+L39,2) -> 0
A40: =A39+1 -> 24 | B40: -Pievestas šķembas (frakcija 16-65 mm) (sablīvējuma koef. 0.98) | C40: m3 | D40: 62.1 | E40: 0 | F40: 0 | G40: =ROUND(E40*F40,2) -> 0 | H40: 0 | I40: 0 | J40: =ROUND(I40+H40+G40,2) -> 0 | K40: =ROUND(D40*E40,2) -> 0 | L40: =ROUND(G40*D40,2) -> 0 | M40: =ROUND(H40*D40,2) -> 0 | N40: =ROUND(I40*D40,2) -> 0 | O40: =ROUND(N40+M40+L40,2) -> 0
A42: Tiešās izmaksas kopā, t. Sk. Darba devēja sociālais nodoklis (23,59 %) | K42: =SUM(K16:K41) -> 0 | L42: =SUM(L16:L41) -> 0 | M42: =SUM(M16:M41) -> 0 | N42: =SUM(N16:N41) -> 0 | O42: =SUM(L42:N42) -> 0
B44: =Koptāme!B16 -> Tāmi sagatavoja:
B45: =Koptāme!B17 -> Datums:

Sheet 4. Metāla konstrukcijas
A2: Lokālā tāme Nr. 4
A3: Metāla karkasa konstrukcijas
A4: (Darba veids vai konstruktīvā elementa nosaukums)
A5: =Koptāme!A3 -> Pasūtītājs: SIA "FRAVIA", reģ. Nr. 41503080013
A6: =Koptāme!A4 -> Būvobjekts: LOGISTIKAS ĒKAS JAUNBŪVE
A7: =Koptāme!A5 -> Adrese: Daugavpils iela 3A, Dagda, LV-5674
A9: =Koptāme!A8 -> 0 | J9: Tāmes izmaksas bez PVN | L9: =O22 -> 0 | M9: EUR bez PVN
A11: Nr.p.k. | B11: Būvdarbu nosaukums | C11: Mērv. | D11: Daudzums | E11: Vienības izmaksas (EUR) | K11: Kopā uz visu apjomu (EUR)
E12: Laika norma (c/h) | F12: Darba samaksas likme (EUR/h) | G12: darba alga | H12: Būvizstrādājumi | I12: mehānismi | J12: kopā | K12: Darbietilpība (c/h) | L12: darba alga | M12: Būvizstrādājumi | N12: mehānismi | O12: summa
A13: 1 | B13: 2 | C13: 3 | D13: 4 | E13: 5 | F13: 6 | G13: 7 | H13: 8 | I13: 9 | J13: 10 | K13: 11 | L13: 12 | M13: 13 | N13: 14 | O13: 15
B15: Tērauda konstrukcijas
A16: 1 | B16: MKD izstrāde metāla konstrukcijām | C16: kpl | D16: 1 | E16: 0 | F16: 0 | G16: =ROUND(E16*F16,2) -> 0 | H16: 0 | I16: 0 | J16: =ROUND(I16+H16+G16,2) -> 0 | K16: =ROUND(D16*E16,2) -> 0 | L16: =ROUND(G16*D16,2) -> 0 | M16: =ROUND(H16*D16,2) -> 0 | N16: =ROUND(I16*D16,2) -> 0 | O16: =ROUND(N16+M16+L16,2) -> 0
A17: =A16+1 -> 2 | B17: Tērauda profilu konstrukcijas ar izgatavošanu (atbilstoši MKD, ieskaitot atgriezumus, loksnes, plāksnes, nepieciešamas rezerves, ar rūpnieciskie izgrieztiem caurumiem montāžai) | C17: tn | D17: 40.6 | E17: 0 | F17: 0 | G17: =ROUND(E17*F17,2) -> 0 | H17: 0 | I17: 0 | J17: =ROUND(I17+H17+G17,2) -> 0 | K17: =ROUND(D17*E17,2) -> 0 | L17: =ROUND(G17*D17,2) -> 0 | M17: =ROUND(H17*D17,2) -> 0 | N17: =ROUND(I17*D17,2) -> 0 | O17: =ROUND(N17+M17+L17,2) -> 0
A18: =A17+1 -> 3 | B18: Metāla konstrukciju montāža objektā ieskaitot mehānismus | C18: tn | D18: 40.6 | E18: 0 | F18: 0 | G18: =ROUND(E18*F18,2) -> 0 | H18: 0 | I18: 0 | J18: =ROUND(I18+H18+G18,2) -> 0 | K18: =ROUND(D18*E18,2) -> 0 | L18: =ROUND(G18*D18,2) -> 0 | M18: =ROUND(H18*D18,2) -> 0 | N18: =ROUND(I18*D18,2) -> 0 | O18: =ROUND(N18+M18+L18,2) -> 0
A19: =A18+1 -> 4 | B19: -Palīgmateriāli metāla konstrukciju montāžai, ieskaitot stiprinājumus, bultskrūves, ķīmiskos enkurus | C19: kpl | D19: 1 | E19: 0 | F19: 0 | G19: =ROUND(E19*F19,2) -> 0 | H19: 0 | I19: 0 | J19: =ROUND(I19+H19+G19,2) -> 0 | K19: =ROUND(D19*E19,2) -> 0 | L19: =ROUND(G19*D19,2) -> 0 | M19: =ROUND(H19*D19,2) -> 0 | N19: =ROUND(I19*D19,2) -> 0 | O19: =ROUND(N19+M19+L19,2) -> 0
A20: =A19+1 -> 5 | B20: Konstrukciju piegādes izmaksas | C20: kpl | D20: 1 | E20: 0 | F20: 0 | G20: =ROUND(E20*F20,2) -> 0 | H20: 0 | I20: 0 | J20: =ROUND(I20+H20+G20,2) -> 0 | K20: =ROUND(D20*E20,2) -> 0 | L20: =ROUND(G20*D20,2) -> 0 | M20: =ROUND(H20*D20,2) -> 0 | N20: =ROUND(I20*D20,2) -> 0 | O20: =ROUND(N20+M20+L20,2) -> 0 | Q20: =SUM(O16:O20)/D17 -> 0 | R20: EUR/tn
A22: Tiešās izmaksas kopā, t. Sk. Darba devēja sociālais nodoklis (23,59 %) | K22: =SUM(K15:K20) -> 0 | L22: =SUM(L15:L20) -> 0 | M22: =SUM(M15:M20) -> 0 | N22: =SUM(N15:N20) -> 0 | O22: =SUM(L22:N22) -> 0
B24: =Koptāme!B16 -> Tāmi sagatavoja:
B25: =Koptāme!B17 -> Datums:

Sheet 5. Sienas
A2: Lokālā tāme Nr. 5
A3: Ārsienas, iekšsienas
A4: (Darba veids vai konstruktīvā elementa nosaukums)
A5: =Koptāme!A3 -> Pasūtītājs: SIA "FRAVIA", reģ. Nr. 41503080013
A6: =Koptāme!A4 -> Būvobjekts: LOGISTIKAS ĒKAS JAUNBŪVE
A7: =Koptāme!A5 -> Adrese: Daugavpils iela 3A, Dagda, LV-5674
A9: =Koptāme!A8 -> 0 | J9: Tāmes izmaksas bez PVN | L9: =O21 -> 0 | M9: EUR bez PVN
A11: Nr.p.k. | B11: Būvdarbu nosaukums | C11: Mērv. | D11: Daudzums | E11: Vienības izmaksas (EUR) | K11: Kopā uz visu apjomu (EUR)
E12: Laika norma (c/h) | F12: Darba samaksas likme (EUR/h) | G12: darba alga | H12: Būvizstrādājumi | I12: mehānismi | J12: kopā | K12: Darbietilpība (c/h) | L12: darba alga | M12: Būvizstrādājumi | N12: mehānismi | O12: summa
A13: 1 | B13: 2 | C13: 3 | D13: 4 | E13: 5 | F13: 6 | G13: 7 | H13: 8 | I13: 9 | J13: 10 | K13: 11 | L13: 12 | M13: 13 | N13: 14 | O13: 15
B15: Trapecveida profils VP45 ārsienas apšuvums | C15: m2
A16: =A15+1 -> 1 | B16: Trapecveida profila VP45 (b=0,50 mm) (vai ekvivalenta) ārsienu montāža ieskaitot nepieciešamos mehānismus. Montēt vertikāli | C16: m2 | D16: 941.19 | E16: 0 | F16: 0 | G16: =ROUND(F16*E16,2) -> 0 | H16: 0 | I16: 0 | J16: =ROUND(I16+H16+G16,2) -> 0 | K16: =ROUND(D16*E16,2) -> 0 | L16: =ROUND(G16*D16,2) -> 0 | M16: =ROUND(H16*D16,2) -> 0 | N16: =ROUND(I16*D16,2) -> 0 | O16: =ROUND(N16+M16+L16,2) -> 0
A17: =A16+1 -> 2 | B17: Trapecveida poliestra dienas gaismas profila VP45 (vai ekvivalenta, kas savietojams ar piedāvāto ārsienu trapecveida profilu) montāža ieskaitot nepieciešamos mehānismus. Montēt vertikāli | C17: m2 | D17: 81.81 | E17: 0 | F17: 0 | G17: =ROUND(F17*E17,2) -> 0 | H17: 0 | I17: 0 | J17: =ROUND(I17+H17+G17,2) -> 0 | K17: =ROUND(D17*E17,2) -> 0 | L17: =ROUND(G17*D17,2) -> 0 | M17: =ROUND(H17*D17,2) -> 0 | N17: =ROUND(I17*D17,2) -> 0 | O17: =ROUND(N17+M17+L17,2) -> 0
A18: 3 | B18: -Palīgmateriāli un palīgdetaļas (Standarta uzlikas, skrūves, pašlīmējošās lentas , blīvējumi etc.) | C18: kpl | D18: 1 | E18: 0 | F18: 0 | G18: =ROUND(F18*E18,2) -> 0 | H18: 0 | I18: 0 | J18: =ROUND(I18+H18+G18,2) -> 0 | K18: =ROUND(D18*E18,2) -> 0 | L18: =ROUND(G18*D18,2) -> 0 | M18: =ROUND(H18*D18,2) -> 0 | N18: =ROUND(I18*D18,2) -> 0 | O18: =ROUND(N18+M18+L18,2) -> 0
A19: 4 | B19: Ugunsdrošas starpsienas izbūve no MW sendvičpaneļiem 120mm | C19: m2 | D19: 112 | E19: 0 | F19: 0 | G19: =ROUND(F19*E19,2) -> 0 | H19: 0 | I19: 0 | J19: =ROUND(I19+H19+G19,2) -> 0 | K19: =ROUND(D19*E19,2) -> 0 | L19: =ROUND(G19*D19,2) -> 0 | M19: =ROUND(H19*D19,2) -> 0 | N19: =ROUND(I19*D19,2) -> 0 | O19: =ROUND(N19+M19+L19,2) -> 0
A21: Tiešās izmaksas kopā, t. Sk. Darba devēja sociālais nodoklis (23,59 %) | K21: =SUM(K15:K19) -> 0 | L21: =SUM(L15:L19) -> 0 | M21: =SUM(M15:M19) -> 0 | N21: =SUM(N15:N19) -> 0 | O21: =SUM(L21:N21) -> 0
B23: =Koptāme!B16 -> Tāmi sagatavoja:
B24: =Koptāme!B17 -> Datums:

Sheet 6. Jumts
A2: Lokālā tāme Nr. 6
A3: Jumta izbūves darbi
A4: (Darba veids vai konstruktīvā elementa nosaukums)
A5: =Koptāme!A3 -> Pasūtītājs: SIA "FRAVIA", reģ. Nr. 41503080013
A6: =Koptāme!A4 -> Būvobjekts: LOGISTIKAS ĒKAS JAUNBŪVE
A7: =Koptāme!A5 -> Adrese: Daugavpils iela 3A, Dagda, LV-5674
A9: =Koptāme!A8 -> 0 | J9: Tāmes izmaksas bez PVN | L9: =O24 -> 0 | M9: EUR bez PVN
A11: Nr.p.k. | B11: Būvdarbu nosaukums | C11: Mērv. | D11: Daudzums | E11: Vienības izmaksas (EUR) | K11: Kopā uz visu apjomu (EUR)
E12: Laika norma (c/h) | F12: Darba samaksas likme (EUR/h) | G12: darba alga | H12: Būvizstrādājumi | I12: mehānismi | J12: kopā | K12: Darbietilpība (c/h) | L12: darba alga | M12: Būvizstrādājumi | N12: mehānismi | O12: summa
A13: 1 | B13: 2 | C13: 3 | D13: 4 | E13: 5 | F13: 6 | G13: 7 | H13: 8 | I13: 9 | J13: 10 | K13: 11 | L13: 12 | M13: 13 | N13: 14 | O13: 15
B15: Trapecveida profils PP46 jumta apšuvums | J15: =ROUND(I15+H15+G15,2) -> 0 | K15: =ROUND(D15*E15,2) -> 0 | L15: =ROUND(G15*D15,2) -> 0 | M15: =ROUND(H15*D15,2) -> 0 | N15: =ROUND(I15*D15,2) -> 0 | O15: =ROUND(N15+M15+L15,2) -> 0
A16: =A15+1 -> 1 | B16: Trapecveida profila PP46 (b=0,63 mm) vai ekvivalenta jumta seguma montāža ieskaitot nepieciešamos mehānismus. Montēt vertikāli | C16: m2 | D16: 1086 | E16: 0 | F16: 0 | G16: =ROUND(F16*E16,2) -> 0 | H16: 0 | I16: 0 | J16: =ROUND(I16+H16+G16,2) -> 0 | K16: =ROUND(D16*E16,2) -> 0 | L16: =ROUND(G16*D16,2) -> 0 | M16: =ROUND(H16*D16,2) -> 0 | N16: =ROUND(I16*D16,2) -> 0 | O16: =ROUND(N16+M16+L16,2) -> 0
A17: =A16+1 -> 2 | B17: -Palīgmateriāli un palīgdetaļas (skrūves, pašlīmējošās lentas , blīvējumi etc.) | C17: kpl | D17: 1 | E17: 0 | F17: 0 | H17: 0 | I17: 0 | J17: =ROUND(I17+H17+G17,2) -> 0 | K17: =ROUND(D17*E17,2) -> 0 | L17: =ROUND(G17*D17,2) -> 0 | M17: =ROUND(H17*D17,2) -> 0 | N17: =ROUND(I17*D17,2) -> 0 | O17: =ROUND(N17+M17+L17,2) -> 0
B18: Jumta detaļas | J18: =ROUND(I18+H18+G18,2) -> 0 | K18: =ROUND(D18*E18,2) -> 0 | L18: =ROUND(G18*D18,2) -> 0 | M18: =ROUND(H18*D18,2) -> 0 | N18: =ROUND(I18*D18,2) -> 0 | O18: =ROUND(N18+M18+L18,2) -> 0
A19: =A17+1 -> 3 | B19: Kores apdares skārda detaļas montāža ar nosedzošo VP-profila veida zem kores skārda elementu, RAL 7016 | C19: t.m | D19: 54 | E19: 0 | F19: 0 | G19: =ROUND(F19*E19,2) -> 0 | H19: 0 | I19: 0 | J19: =ROUND(I19+H19+G19,2) -> 0 | K19: =ROUND(D19*E19,2) -> 0 | L19: =ROUND(G19*D19,2) -> 0 | M19: =ROUND(H19*D19,2) -> 0 | N19: =ROUND(I19*D19,2) -> 0 | O19: =ROUND(N19+M19+L19,2) -> 0
A20: =A19+1 -> 4 | B20: Lietus ūdens tekņu montāža D120mm, RAL 7016 | C20: t.m | D20: 103 | E20: 0 | F20: 0 | G20: =ROUND(F20*E20,2) -> 0 | H20: 0 | I20: 0 | J20: =ROUND(I20+H20+G20,2) -> 0 | K20: =ROUND(D20*E20,2) -> 0 | L20: =ROUND(G20*D20,2) -> 0 | M20: =ROUND(H20*D20,2) -> 0 | N20: =ROUND(I20*D20,2) -> 0 | O20: =ROUND(N20+M20+L20,2) -> 0
A21: =A20+1 -> 5 | B21: Lietus ūdens noteku montāža D120mm, RAL 7016 | C21: t.m | D21: 80 | E21: 0 | F21: 0 | G21: =ROUND(F21*E21,2) -> 0 | H21: 0 | I21: 0 | J21: =ROUND(I21+H21+G21,2) -> 0 | K21: =ROUND(D21*E21,2) -> 0 | L21: =ROUND(G21*D21,2) -> 0 | M21: =ROUND(H21*D21,2) -> 0 | N21: =ROUND(I21*D21,2) -> 0 | O21: =ROUND(N21+M21+L21,2) -> 0
A22: =A21+1 -> 6 | B22: Karnīzes apšuvuma profils trapecveida profilai malai, RAL 7016 | C22: t.m | D22: 108 | E22: 0 | F22: 0 | G22: =ROUND(F22*E22,2) -> 0 | H22: 0 | I22: 0 | J22: =ROUND(I22+H22+G22,2) -> 0 | K22: =ROUND(D22*E22,2) -> 0 | L22: =ROUND(G22*D22,2) -> 0 | M22: =ROUND(H22*D22,2) -> 0 | N22: =ROUND(I22*D22,2) -> 0 | O22: =ROUND(N22+M22+L22,2) -> 0
A24: Tiešās izmaksas kopā, t. Sk. Darba devēja sociālais nodoklis (23,59 %) | K24: =SUM(K16:K22) -> 0 | L24: =SUM(L16:L22) -> 0 | M24: =SUM(M16:M22) -> 0 | N24: =SUM(N16:N22) -> 0 | O24: =SUM(L24:N24) -> 0
B26: =Koptāme!B16 -> Tāmi sagatavoja:
B27: =Koptāme!B17 -> Datums:

Sheet 7. Vārti un durvis
A2: Lokālā tāme Nr. 7
A3: Vārti un durvis
A5: =Koptāme!A3 -> Pasūtītājs: SIA "FRAVIA", reģ. Nr. 41503080013
A6: =Koptāme!A4 -> Būvobjekts: LOGISTIKAS ĒKAS JAUNBŪVE
A7: =Koptāme!A5 -> Adrese: Daugavpils iela 3A, Dagda, LV-5674
A9: =Koptāme!A8 -> 0 | J9: Tāmes izmaksas bez PVN | L9: =O23 -> 0 | M9: EUR bez PVN
A11: Nr.p.k. | B11: Būvdarbu nosaukums | C11: Mērv. | D11: Daudzums | E11: Vienības izmaksas (EUR) | K11: Kopā uz visu apjomu (EUR)
E12: Laika norma (c/h) | F12: Darba samaksas likme (EUR/h) | G12: darba alga | H12: Būvizstrādājumi | I12: mehānismi | J12: kopā | K12: Darbietilpība (c/h) | L12: darba alga | M12: Būvizstrādājumi | N12: mehānismi | O12: summa
A13: 1 | B13: 2 | C13: 3 | D13: 4 | E13: 5 | F13: 6 | G13: 7 | H13: 8 | I13: 9 | J13: 10 | K13: 11 | L13: 12 | M13: 13 | N13: 14 | O13: 15
B15: VĀRTI
A16: =A15+1 -> 1 | B16: V-1 4500x4500 mm. RAL 7016. Uz augšu bīdāmi sekcijveida vārti ar durvīm. Durvju brīvais augstums 2m. Durvju slieksnis max 2cm. Vārtu pacelšanas sliedi pieskaņot jumta slīpumam. Vārtus aprīkot ar drošības mehānsimu, kas novērš vārtu krišanu lejup. Vadulas pie aprāmējuma stiprināt ar kronšteiniem. Vārtus aprīkot ar viegli pamanāmām un aizsniedzamām avārijas atslēgšanas ierīcēm, kas ļauj tos atvērt ja enerģijas piegādes trūkumua dēļ, durvis un vārti neatveras automātiski. Umax 2.0 W/m2K. | C16: gb | D16: 1 | E16: 0 | F16: 0 | G16: =ROUND(F16*E16,2) -> 0 | H16: 0 | I16: 0 | J16: =ROUND(I16+H16+G16,2) -> 0 | K16: =ROUND(D16*E16,2) -> 0 | L16: =ROUND(G16*D16,2) -> 0 | M16: =ROUND(H16*D16,2) -> 0 | N16: =ROUND(I16*D16,2) -> 0 | O16: =ROUND(N16+M16+L16,2) -> 0
A17: =A16+1 -> 2 | B17: V-2 4500x4500 mm. RAL 7016. Uz augšu bīdāmi sekcijveida vārti bez durvīm. Vārtu pacelšanas sliedi pieskaņot jumta slīpumam. Vārtus aprīkot ar drošības mehānsimu, kas novērš vārtu krišanu lejup. Vadulas pie aprāmējuma stiprināt ar kronšteiniem. Vārtus aprīkot ar viegli pamanāmām un aizsniedzamām avārijas atslēgšanas ierīcēm, kas ļauj tos atvērt ja enerģijas piegādes trūkumua dēļ, durvis un vārti neatveras automātiski. Umax 2.0 W/m2K. | C17: gb | D17: 2 | E17: 0 | F17: 0 | G17: =ROUND(F17*E17,2) -> 0 | H17: 0 | I17: 0 | J17: =ROUND(I17+H17+G17,2) -> 0 | K17: =ROUND(D17*E17,2) -> 0 | L17: =ROUND(G17*D17,2) -> 0 | M17: =ROUND(H17*D17,2) -> 0 | N17: =ROUND(I17*D17,2) -> 0 | O17: =ROUND(N17+M17+L17,2) -> 0
A18: =A17+1 -> 3 | B18: V-3 3700x4500 mm. RAL 7016. Uz augšu bīdāmi sekcijveida vārti ar durvīm. Durvju brīvais augstums 2m. Durvju slieksnis max 2cm. Vārtu pacelšanas sliedi pieskaņot jumta slīpumam. Vārtus aprīkot ar drošības mehānsimu, kas novērš vārtu krišanu lejup. Vadulas pie aprāmējuma stiprināt ar kronšteiniem. Vārtus aprīkot ar viegli pamanāmām un aizsniedzamām avārijas atslēgšanas ierīcēm, kas ļauj tos atvērt ja enerģijas piegādes trūkumua dēļ, durvis un vārti neatveras automātiski. Umax 2.0 W/m2K. | C18: gb | D18: 2 | E18: 0 | F18: 0 | G18: =ROUND(F18*E18,2) -> 0 | H18: 0 | I18: 0 | J18: =ROUND(I18+H18+G18,2) -> 0 | K18: =ROUND(D18*E18,2) -> 0 | L18: =ROUND(G18*D18,2) -> 0 | M18: =ROUND(H18*D18,2) -> 0 | N18: =ROUND(I18*D18,2) -> 0 | O18: =ROUND(N18+M18+L18,2) -> 0
A19: =A18+1 -> 4 | B19: V-4 3700x4500 mm. RAL 7016. Uz augšu bīdāmi sekcijveida vārti bez durvīm. Vārtu pacelšanas sliedi pieskaņot jumta slīpumam. Vārtus aprīkot ar drošības mehānsimu, kas novērš vārtu krišanu lejup. Vadulas pie aprāmējuma stiprināt ar kronšteiniem. Vārtus aprīkot ar viegli pamanāmām un aizsniedzamām avārijas atslēgšanas ierīcēm, kas ļauj tos atvērt ja enerģijas piegādes trūkumua dēļ, durvis un vārti neatveras automātiski. Umax 2.0 W/m2K. | C19: gb | D19: 4 | E19: 0 | F19: 0 | G19: =ROUND(F19*E19,2) -> 0 | H19: 0 | I19: 0 | J19: =ROUND(I19+H19+G19,2) -> 0 | K19: =ROUND(D19*E19,2) -> 0 | L19: =ROUND(G19*D19,2) -> 0 | M19: =ROUND(H19*D19,2) -> 0 | N19: =ROUND(I19*D19,2) -> 0 | O19: =ROUND(N19+M19+L19,2) -> 0
A20: =A19+1 -> 5 | B20: Skārda apdares elementu montāža vārtiem. Tonis RAL 7016 | C20: t.m | D20: 117.5 | E20: 0 | F20: 0 | G20: =ROUND(F20*E20,2) -> 0 | H20: 0 | I20: 0 | J20: =ROUND(I20+H20+G20,2) -> 0 | K20: =ROUND(D20*E20,2) -> 0 | L20: =ROUND(G20*D20,2) -> 0 | M20: =ROUND(H20*D20,2) -> 0 | N20: =ROUND(I20*D20,2) -> 0 | O20: =ROUND(N20+M20+L20,2) -> 0
A21: =A20+1 -> 6 | B21: Durvju un vārtu montāžas palīgmateriāli | C21: kpl | D21: 1 | E21: 0 | F21: 0 | G21: =ROUND(F21*E21,2) -> 0 | H21: 0 | I21: 0 | J21: =ROUND(I21+H21+G21,2) -> 0 | K21: =ROUND(D21*E21,2) -> 0 | L21: =ROUND(G21*D21,2) -> 0 | M21: =ROUND(H21*D21,2) -> 0 | N21: =ROUND(I21*D21,2) -> 0 | O21: =ROUND(N21+M21+L21,2) -> 0
A23: Tiešās izmaksas kopā, t. Sk. Darba devēja sociālais nodoklis (23,59 %) | K23: =SUM(K15:K21) -> 0 | L23: =SUM(L15:L21) -> 0 | M23: =SUM(M15:M21) -> 0 | N23: =SUM(N15:N21) -> 0 | O23: =SUM(L23:N23) -> 0
B25: =Koptāme!B16 -> Tāmi sagatavoja:
B26: =Koptāme!B17 -> Datums:

Sheet Sheet1
B41: 8mm | C41: 35 | D41: 0.84 | E41: 6.395 | F41: =C41*D41*E41 -> 188.013
B42: 8mm | C42: 35 | D42: 0.84 | E42: 7.095 | F42: =C42*D42*E42 -> 208.593
B43: 8mm | C43: 56 | D43: 0.84 | E43: 7.585 | F43: =C43*D43*E43 -> 356.7984
B44: 8mm | C44: 187 | D44: 0.84 | E44: 7.645 | F44: =C44*D44*E44 -> 1200.8766
F46: =SUM(F41:F44) -> 1954.281
B47: 9mm | C47: 1 | D47: 0.84 | E47: 1675 | F47: =E47/1000 -> 1.675 | G47: =C47*D47*F47 -> 1.407
B48: 9mm | C48: 1 | D48: 0.84 | E48: 2353 | F48: =E48/1000 -> 2.353 | G48: =C48*D48*F48 -> 1.97652
B49: 9mm | C49: 1 | D49: 0.84 | E49: 2580 | F49: =E49/1000 -> 2.58 | G49: =C49*D49*F49 -> 2.1672
B50: 9mm | C50: 1 | D50: 0.84 | E50: 2659 | F50: =E50/1000 -> 2.659 | G50: =C50*D50*F50 -> 2.23356
B51: 9mm | C51: 1 | D51: 0.84 | E51: 2718 | F51: =E51/1000 -> 2.718 | G51: =C51*D51*F51 -> 2.28312
B52: 9mm | C52: 1 | D52: 0.84 | E52: 2885 | F52: =E52/1000 -> 2.885 | G52: =C52*D52*F52 -> 2.4234
B53: 9mm | C53: 1 | D53: 0.84 | E53: 3191 | F53: =E53/1000 -> 3.191 | G53: =C53*D53*F53 -> 2.68044
B54: 9mm | C54: 1 | D54: 0.84 | E54: 3387 | F54: =E54/1000 -> 3.387 | G54: =C54*D54*F54 -> 2.84508
B55: 9mm | C55: 1 | D55: 0.84 | E55: 3397 | F55: =E55/1000 -> 3.397 | G55: =C55*D55*F55 -> 2.85348
B56: 9mm | C56: 1 | D56: 0.84 | E56: 3407 | F56: =E56/1000 -> 3.407 | G56: =C56*D56*F56 -> 2.86188
B57: 9mm | C57: 1 | D57: 0.84 | E57: 3633 | F57: =E57/1000 -> 3.633 | G57: =C57*D57*F57 -> 3.05172
B58: 9mm | C58: 1 | D58: 0.84 | E58: 3712 | F58: =E58/1000 -> 3.712 | G58: =C58*D58*F58 -> 3.11808
... B92: 9mm | C92: 1 | D92: 0.84 | E92: 8152 | F92: =E92/1000 -> 8.152 | G92: =C92*D92*F92 -> 6.84768
G94: =SUM(G47:G92) -> 772.84704
G97: =G94+F46 -> 2727.128
G100: =G97/1.2 -> 2272.6067
