Workbook

Sheet Paredz.kopt.
C1: APSTIPRINU
A2: __________________________________
A3: (pasūtītāja paraksts un tā atšifrējums)
C4: Z.V.
A5: 202_. gada ____________________
A7: PAREDZAMĀS LĪGUMCENAS KOPTĀME
A9: ='1.1 Pamati, ā.inž.'!$A$4 -> Objekta nosaukums: VESELĪBAS UN SOCIĀLĀS APRŪPES CENTRS
A10: ='1.1 Pamati, ā.inž.'!$A$5 -> Būves nosaukums: VESELĪBAS UN SOCIĀLĀS APRŪPES CENTRS
A11: ='1.1 Pamati, ā.inž.'!$A$6 -> Objekta adrese: Liliju iela 109
A12: ='1.1 Pamati, ā.inž.'!$A$7 -> Pasūtījuma Nr.:
C14: Tāme sastādīta [datums]
A15: Nr.p.k. | B15: Objekta nosaukums | C15: Objekta izmaksas (Euro)
A16: 1 | B16: ='Buvn.kopt.'!B16 -> Bloks Nr.1 un ieejas bloks | C16: =Kops.1!E43 -> 0
A17: 2 | B17: ='Buvn.kopt.'!B17 -> Bloks Nr.2 | C17: =Kops.2!E43 -> 0
B18: Kopā: | C18: =SUM(C16:C17) -> 0
B19: finanšu rezerve neparedzētajiem darbiem 10% | C19: =ROUND(C18*0.1,2) -> 0
B20: PVN (21%) | C20: =ROUND((C19+C18)*0.21,2) -> 0
B21: Pavisam būvniecības izmaksas | C21: =SUM(C18:C20) -> 0
B23: Ar būvniecību saistītie pārējie izdevumi:
B24: būvuzraudzība
B25: būvprojekta autoruzraudzība
B26: izpētes un projektēšanas darbi
B27: būvprojekta ekspertīze
B28: Kopā | C28: =SUM(C21:C27) -> 0
A34: ='1.1 Pamati, ā.inž.'!$A$47 -> Sastādīja:
A38: ='1.1 Pamati, ā.inž.'!$A$51 -> Pārbaudīja:

Sheet Buvn.kopt.
C1: APSTIPRINU
A2: __________________________________
A3: (pasūtītāja paraksts un tā atšifrējums)
C4: Z.V.
A5: 201_. gada ____________________
A7: BŪVNIECĪBAS KOPTĀME
A9: ='1.1 Pamati, ā.inž.'!$A$4 -> Objekta nosaukums: VESELĪBAS UN SOCIĀLĀS APRŪPES CENTRS
A10: ='1.1 Pamati, ā.inž.'!$A$5 -> Būves nosaukums: VESELĪBAS UN SOCIĀLĀS APRŪPES CENTRS
A11: ='1.1 Pamati, ā.inž.'!$A$6 -> Objekta adrese: Liliju iela 109
A12: ='1.1 Pamati, ā.inž.'!$A$7 -> Pasūtījuma Nr.:
C14: ='Paredz.kopt.'!C14 -> Tāme sastādīta [datums]
A15: Nr.p.k. | B15: Objekta nosaukums | C15: Objekta izmaksas (Euro)
A16: 1 | B16: =Kops.1!A3 -> Bloks Nr.1 un ieejas bloks | C16: =Kops.1!E43 -> 0
A17: 2 | B17: =Kops.2!A3 -> Bloks Nr.2 | C17: =Kops.2!E43 -> 0
B18: Kopā: | C18: =SUM(C16:C17) -> 0
A21: PVN (21%) | C21: =ROUND(C18*0.21,2) -> 0
A25: ='1.1 Pamati, ā.inž.'!$A$47 -> Sastādīja:
A29: ='1.1 Pamati, ā.inž.'!$A$51 -> Pārbaudīja:

Sheet Kops.1
A2: Kopsavilkuma aprēķins Nr.1
A3: Bloks Nr.1 un ieejas bloks
A4: (darba veids vai konstruktīvā elementa nosaukums)
A7: ='1.1 Pamati, ā.inž.'!$A$4 -> Objekta nosaukums: VESELĪBAS UN SOCIĀLĀS APRŪPES CENTRS
A8: ='1.1 Pamati, ā.inž.'!$A$5 -> Būves nosaukums: VESELĪBAS UN SOCIĀLĀS APRŪPES CENTRS
A9: ='1.1 Pamati, ā.inž.'!$A$6 -> Objekta adrese: Liliju iela 109
A10: ='1.1 Pamati, ā.inž.'!$A$7 -> Pasūtījuma Nr.:
C12: Par kopējo summu, Euro | E12: =E43 -> 0
C13: Kopējā darbietilpība c/h | E13: =I39 -> 0
I15: ='Buvn.kopt.'!$C$14 -> Tāme sastādīta [datums]
A16: Nr.p.k. | B16: Kods, tāmes Nr. | C16: Būvdarbu veids vai konstruktīvā elementa nosaukums | E16: Tāmes izmaksas | F16: Tai skaitā
F17: Darba alga | G17: Būvizstrādājumi | H17: Mehānismi | I17: Darbietilpība c/h
A19: 0 | B19: 1 | C19: Būvlaukuma ierīkošana un uzturēšana
A20: 1 | B20: 1.1 | C20: Zemes darbi, pamatu izbūve, pieslēgums ārējiem inženiertīkliem, labiekārtošana | E20: =F20+G20+H20 -> 0 | F20: ='1.1 Pamati, ā.inž.'!M43 -> 0 | G20: ='1.1 Pamati, ā.inž.'!N43 -> 0 | H20: ='1.1 Pamati, ā.inž.'!O43 -> 0 | I20: ='1.1 Pamati, ā.inž.'!L43 -> 0
A21: 2 | B21: 1.2 | C21: Prefabricētie elementi | E21: =F21+G21+H21 -> 0 | F21: ='1.2 Prefabricētie elementi'!M60 -> 0 | G21: ='1.2 Prefabricētie elementi'!N60 -> 0 | H21: ='1.2 Prefabricētie elementi'!O60 -> 0 | I21: ='1.2 Prefabricētie elementi'!L60 -> 0
A22: 3 | B22: 1.3 | C22: Jumts | E22: =F22+G22+H22 -> 0 | F22: ='1.3 Jumts'!M44 -> 0 | G22: ='1.3 Jumts'!N44 -> 0 | H22: ='1.3 Jumts'!O44 -> 0 | I22: ='1.3 Jumts'!L44 -> 0
A23: 4 | B23: 1.4 | C23: Grīdas | E23: =F23+G23+H23 -> 0 | F23: ='1.4 Grīdas'!M17 -> 0 | G23: ='1.4 Grīdas'!N17 -> 0 | H23: ='1.4 Grīdas'!O17 -> 0 | I23: ='1.4 Grīdas'!L17 -> 0
A24: 5 | B24: 1.5 | C24: Ārsienas, starpsienas | E24: =F24+G24+H24 -> 0 | F24: ='1.5 Sienas'!M27 -> 0 | G24: ='1.5 Sienas'!N27 -> 0 | H24: ='1.5 Sienas'!O27 -> 0 | I24: ='1.5 Sienas'!L27 -> 0
A25: 6 | B25: 1.6 | C25: Ailu aizpildījumi | E25: =F25+G25+H25 -> 0 | F25: ='1.6 Ailes'!M48 -> 0 | G25: ='1.6 Ailes'!N48 -> 0 | H25: ='1.6 Ailes'!O48 -> 0 | I25: ='1.6 Ailes'!L48 -> 0
A26: 7 | B26: 1.7 | C26: Iekšējie apdares darbi | E26: =F26+G26+H26 -> 0 | F26: ='1.7 Apdare'!M38 -> 0 | G26: ='1.7 Apdare'!N38 -> 0 | H26: ='1.7 Apdare'!O38 -> 0 | I26: ='1.7 Apdare'!L38 -> 0
A27: 8 | B27: 1.8 | C27: Aprīkojums iekštelpu | E27: =F27+G27+H27 -> 0 | F27: ='1.8 Apr. iekšt.'!M18 -> 0 | G27: ='1.8 Apr. iekšt.'!N18 -> 0 | H27: ='1.8 Apr. iekšt.'!O18 -> 0 | I27: ='1.8 Apr. iekšt.'!L18 -> 0
A28: 9 | B28: 1.9 | C28: Sanmezglu aprīkojums | E28: =F28+G28+H28 -> 0 | F28: ='1.9 Sanm.'!M34 -> 0 | G28: ='1.9 Sanm.'!N34 -> 0 | H28: ='1.9 Sanm.'!O34 -> 0 | I28: ='1.9 Sanm.'!L34 -> 0
A29: 10 | B29: 1.1 | C29: Koplietošanas telpu aprīkojums | E29: =F29+G29+H29 -> 0 | F29: ='1.10 Kopl.,aprīk'!M37 -> 0 | G29: ='1.10 Kopl.,aprīk'!N37 -> 0 | H29: ='1.10 Kopl.,aprīk'!O37 -> 0 | I29: ='1.10 Kopl.,aprīk'!L37 -> 0
A30: 11 | B30: 1.11 | C30: Aprīkojums ārtelpu | E30: =F30+G30+H30 -> 0 | F30: ='1.11 Apr.ārt.'!M17 -> 0 | G30: ='1.11 Apr.ārt.'!N17 -> 0 | H30: ='1.11 Apr.ārt.'!O17 -> 0 | I30: ='1.11 Apr.ārt.'!L17 -> 0
A31: 12 | B31: 1.12 | C31: Apkure | E31: =F31+G31+H31 -> 0 | F31: ='1.12 Apkure'!O64 -> 0 | G31: ='1.12 Apkure'!P64 -> 0 | H31: ='1.12 Apkure'!Q64 -> 0 | I31: ='1.12 Apkure'!N64 -> 0
A32: 13 | B32: 1.13 | C32: Ventilācija | E32: =F32+G32+H32 -> 0 | F32: ='1.13 Vent.'!O69 -> 0 | G32: ='1.13 Vent.'!P69 -> 0 | H32: ='1.13 Vent.'!Q69 -> 0 | I32: ='1.13 Vent.'!N69 -> 0
A33: 14 | B33: 1.14 | C33: Gaisa kondicionēšana | E33: =F33+G33+H33 -> 0 | F33: ='1.14 Kond.'!O39 -> 0 | G33: ='1.14 Kond.'!P39 -> 0 | H33: ='1.14 Kond.'!Q39 -> 0 | I33: ='1.14 Kond.'!N39 -> 0
A34: 15 | B34: 1.15 | C34: Ūdensapgāde un kanalizācija | E34: =F34+G34+H34 -> 0 | F34: ='1.15 UK'!O148 -> 0 | G34: ='1.15 UK'!P148 -> 0 | H34: ='1.15 UK'!Q148 -> 0 | I34: ='1.15 UK'!N148 -> 0
A35: 16 | B35: 1.16 | C35: Elektroapgāde | E35: =F35+G35+H35 -> 0 | F35: ='1.16 EL'!M101 -> 0 | G35: ='1.16 EL'!N101 -> 0 | H35: ='1.16 EL'!O101 -> 0 | I35: ='1.16 EL'!L101 -> 0
A36: 17 | B36: 1.17 | C36: Elektronisko sakaru sistēmas | E36: =F36+G36+H36 -> 0 | F36: ='1.17 ESS'!O98 -> 0 | G36: ='1.17 ESS'!P98 -> 0 | H36: ='1.17 ESS'!Q98 -> 0 | I36: ='1.17 ESS'!N98 -> 0
A37: 18 | B37: 1.18 | C37: Ugunsgrēka atklāšanas un trauksmes signalizācijas sistēma | E37: =F37+G37+H37 -> 0 | F37: ='1.18 UAS'!O41 -> 0 | G37: ='1.18 UAS'!P41 -> 0 | H37: ='1.18 UAS'!Q41 -> 0 | I37: ='1.18 UAS'!N41 -> 0
E38: =F38+G38+H38 -> 0
A39: Kopā: | E39: =SUM(E18:E38) -> 0 | F39: =SUM(F18:F38) -> 0 | G39: =SUM(G18:G38) -> 0 | H39: =SUM(H18:H38) -> 0 | I39: =SUM(I18:I38) -> 0
A40: Virsizdevumi | D40: 0.1 | E40: =ROUND(E39*D40,2) -> 0
A41: t.sk. darba aizsardzība | E41: =ROUND(E40*0.05,2) -> 0
A42: Peļņa | D42: 0.07 | E42: =ROUND(E39*D42,2) -> 0
A43: PAVISAM KOPĀ: | E43: =E39+E40+E42 -> 0
A47: ='1.1 Pamati, ā.inž.'!$A$47 -> Sastādīja:
A51: ='1.1 Pamati, ā.inž.'!$A$51 -> Pārbaudīja:

Sheet 1.0 Buvlaukums
A1: Lokālā tāme Nr.1.0
A2: =Kops.1!C19 -> Būvlaukuma ierīkošana un uzturēšana
A4: Objekta nosaukums: VESELĪBAS UN SOCIĀLĀS APRŪPES CENTRS
A5: Būves nosaukums: VESELĪBAS UN SOCIĀLĀS APRŪPES CENTRS
A6: Objekta adrese: Liliju iela 109, Mārupe
A7: Pasūtījuma Nr.:
A9: Tāme sastādīta 2026.gada tirgus cenās | M9: Tāmes izmaksas Euro: | O9: =P39 -> 0
P11: =Kops.1!$E$15 -> 0
A12: Nr.p.k. | B12: Kods | C12: Būvdarbu nosaukums | D12: Mērvienība | E12: Daudzums | F12: Vienības izmaksas | L12: Kopā uz visu apjomu
F13: laika norma (c/h) | G13: darba samaksas likme (euro/h) | H13: Darba alga | I13: Būvizstrādājumi | J13: Mehānismi | K13: kopā | L13: darbietilpība (c/h) | M13: Darba alga | N13: Būvizstrādājumi | O13: Mehānismi | P13: summa
C15: Būvlaukuma ierīkošana un uzturēšana | K15: =ROUND(H15+I15+J15,2) -> 0 | L15: =ROUND(F15*E15,2) -> 0 | M15: =ROUND(H15*E15,2) -> 0 | N15: =ROUND(I15*E15,2) -> 0 | O15: =ROUND(J15*E15,2) -> 0 | P15: =ROUND(M15+N15+O15,2) -> 0
A16: 1 | C16: Pagaidu ceļa izbūve | D16: m2 | E16: 600 | H16: =ROUND(G16*F16,2) -> 0 | K16: =ROUND(H16+I16+J16,2) -> 0 | L16: =ROUND(F16*E16,2) -> 0 | M16: =ROUND(H16*E16,2) -> 0 | N16: =ROUND(I16*E16,2) -> 0 | O16: =ROUND(J16*E16,2) -> 0 | P16: =ROUND(M16+N16+O16,2) -> 0
A17: 2 | C17: Uzstādāms pagaidu žogs. Piegāde un montāža | D17: m | E17: 280 | H17: =ROUND(G17*F17,2) -> 0 | K17: =ROUND(H17+I17+J17,2) -> 0 | L17: =ROUND(F17*E17,2) -> 0 | M17: =ROUND(H17*E17,2) -> 0 | N17: =ROUND(I17*E17,2) -> 0 | O17: =ROUND(J17*E17,2) -> 0 | P17: =ROUND(M17+N17+O17,2) -> 0
C18: Pagaidu žoga noma | D18: mēn | E18: 10 | H18: =ROUND(G18*F18,2) -> 0 | K18: =ROUND(H18+I18+J18,2) -> 0 | L18: =ROUND(F18*E18,2) -> 0 | M18: =ROUND(H18*E18,2) -> 0 | N18: =ROUND(I18*E18,2) -> 0 | O18: =ROUND(J18*E18,2) -> 0 | P18: =ROUND(M18+N18+O18,2) -> 0
A19: 3 | C19: Būvnieku kantoris konteinera tipa 2.5x6x2.35m piegāde un montāža | D19: gb | E19: 1 | H19: =ROUND(G19*F19,2) -> 0 | K19: =ROUND(H19+I19+J19,2) -> 0 | L19: =ROUND(F19*E19,2) -> 0 | M19: =ROUND(H19*E19,2) -> 0 | N19: =ROUND(I19*E19,2) -> 0 | O19: =ROUND(J19*E19,2) -> 0 | P19: =ROUND(M19+N19+O19,2) -> 0
C20: tas pats noma | D20: mēn | E20: 10
A21: 4 | C21: Būvnieku sadzīves telpa konteineru tipa 2.5x6x2.35m piegāde un montāža | D21: gb | E21: 3 | H21: =ROUND(G21*F21,2) -> 0 | K21: =ROUND(H21+I21+J21,2) -> 0 | L21: =ROUND(F21*E21,2) -> 0 | M21: =ROUND(H21*E21,2) -> 0 | N21: =ROUND(I21*E21,2) -> 0 | O21: =ROUND(J21*E21,2) -> 0 | P21: =ROUND(M21+N21+O21,2) -> 0
C22: tas pats noma | D22: mēn | E22: 10
A23: 5 | C23: Noliktava konteinera tipa 2.5x3x2.35m piegāde un montāža | D23: gb | E23: 1 | H23: =ROUND(G23*F23,2) -> 0 | K23: =ROUND(H23+I23+J23,2) -> 0 | L23: =ROUND(F23*E23,2) -> 0 | M23: =ROUND(H23*E23,2) -> 0 | N23: =ROUND(I23*E23,2) -> 0 | O23: =ROUND(J23*E23,2) -> 0 | P23: =ROUND(M23+N23+O23,2) -> 0
C24: tas pats noma | D24: mēn | E24: 10 | H24: =ROUND(G24*F24,2) -> 0 | K24: =ROUND(H24+I24+J24,2) -> 0 | L24: =ROUND(F24*E24,2) -> 0 | M24: =ROUND(H24*E24,2) -> 0 | N24: =ROUND(I24*E24,2) -> 0 | O24: =ROUND(J24*E24,2) -> 0 | P24: =ROUND(M24+N24+O24,2) -> 0
A25: 6 | C25: EDLUS sistēmas pieslēgšana | D25: kpl | E25: 1 | H25: =ROUND(G25*F25,2) -> 0 | K25: =ROUND(H25+I25+J25,2) -> 0 | L25: =ROUND(F25*E25,2) -> 0 | M25: =ROUND(H25*E25,2) -> 0 | N25: =ROUND(I25*E25,2) -> 0 | O25: =ROUND(J25*E25,2) -> 0 | P25: =ROUND(M25+N25+O25,2) -> 0
C26: EDLUS sistēmas apkalpošana | D26: mēn | E26: 10 | H26: =ROUND(G26*F26,2) -> 0 | K26: =ROUND(H26+I26+J26,2) -> 0 | L26: =ROUND(F26*E26,2) -> 0 | M26: =ROUND(H26*E26,2) -> 0 | N26: =ROUND(I26*E26,2) -> 0 | O26: =ROUND(J26*E26,2) -> 0 | P26: =ROUND(M26+N26+O26,2) -> 0
A27: 7 | C27: BIO tualete noma piegāde un montāža | D27: gb | E27: 1 | H27: =ROUND(G27*F27,2) -> 0 | K27: =ROUND(H27+I27+J27,2) -> 0 | L27: =ROUND(F27*E27,2) -> 0 | M27: =ROUND(H27*E27,2) -> 0 | N27: =ROUND(I27*E27,2) -> 0 | O27: =ROUND(J27*E27,2) -> 0 | P27: =ROUND(M27+N27+O27,2) -> 0
C28: BIO tualetes moduļa apkalpošana, noma 1gb. | D28: mēn | E28: 10 | H28: =ROUND(G28*F28,2) -> 0 | K28: =ROUND(H28+I28+J28,2) -> 0 | L28: =ROUND(F28*E28,2) -> 0 | M28: =ROUND(H28*E28,2) -> 0 | N28: =ROUND(I28*E28,2) -> 0 | O28: =ROUND(J28*E28,2) -> 0 | P28: =ROUND(M28+N28+O28,2) -> 0
A29: 8 | C29: Pirmās palīdzības aptieciņa | D29: gb | E29: 1 | H29: =ROUND(G29*F29,2) -> 0 | K29: =ROUND(H29+I29+J29,2) -> 0 | L29: =ROUND(F29*E29,2) -> 0 | M29: =ROUND(H29*E29,2) -> 0 | N29: =ROUND(I29*E29,2) -> 0 | O29: =ROUND(J29*E29,2) -> 0 | P29: =ROUND(M29+N29+O29,2) -> 0
A30: 9 | C30: Ugunsdzēsības stenda montāža | D30: gb | E30: 1 | H30: =ROUND(G30*F30,2) -> 0 | K30: =ROUND(H30+I30+J30,2) -> 0 | L30: =ROUND(F30*E30,2) -> 0 | M30: =ROUND(H30*E30,2) -> 0 | N30: =ROUND(I30*E30,2) -> 0 | O30: =ROUND(J30*E30,2) -> 0 | P30: =ROUND(M30+N30+O30,2) -> 0
A31: 10 | C31: Elektroapgades pieslegums ar elektrosadalni | D31: kpl | E31: 1 | H31: =ROUND(G31*F31,2) -> 0 | K31: =ROUND(H31+I31+J31,2) -> 0 | L31: =ROUND(F31*E31,2) -> 0 | M31: =ROUND(H31*E31,2) -> 0 | N31: =ROUND(I31*E31,2) -> 0 | O31: =ROUND(J31*E31,2) -> 0 | P31: =ROUND(M31+N31+O31,2) -> 0
A32: 11 | C32: Ūdensvada pieslegums | D32: kpl | E32: 1 | H32: =ROUND(G32*F32,2) -> 0 | K32: =ROUND(H32+I32+J32,2) -> 0 | L32: =ROUND(F32*E32,2) -> 0 | M32: =ROUND(H32*E32,2) -> 0 | N32: =ROUND(I32*E32,2) -> 0 | O32: =ROUND(J32*E32,2) -> 0 | P32: =ROUND(M32+N32+O32,2) -> 0
A33: 12 | C33: Apgaismojums, prožektoru montāža | D33: gb | E33: 8 | H33: =ROUND(G33*F33,2) -> 0 | K33: =ROUND(H33+I33+J33,2) -> 0 | L33: =ROUND(F33*E33,2) -> 0 | M33: =ROUND(H33*E33,2) -> 0 | N33: =ROUND(I33*E33,2) -> 0 | O33: =ROUND(J33*E33,2) -> 0 | P33: =ROUND(M33+N33+O33,2) -> 0
A34: 13 | C34: Objekta apsardze - pagaidu videonovērošanas sistēmas ierīkošana | D34: kpl | E34: 1 | H34: =ROUND(G34*F34,2) -> 0 | K34: =ROUND(H34+I34+J34,2) -> 0 | L34: =ROUND(F34*E34,2) -> 0 | M34: =ROUND(H34*E34,2) -> 0 | N34: =ROUND(I34*E34,2) -> 0 | O34: =ROUND(J34*E34,2) -> 0 | P34: =ROUND(M34+N34+O34,2) -> 0
C35: Pagaidu videonovērošanas sistēmas uzturēšana | D35: mēn | E35: 10 | H35: =ROUND(G35*F35,2) -> 0 | K35: =ROUND(H35+I35+J35,2) -> 0 | L35: =ROUND(F35*E35,2) -> 0 | M35: =ROUND(H35*E35,2) -> 0 | N35: =ROUND(I35*E35,2) -> 0 | O35: =ROUND(J35*E35,2) -> 0 | P35: =ROUND(M35+N35+O35,2) -> 0
A36: 14 | C36: Maksa par elektroenerģiju | D36: mēn | E36: 10
A37: 15 | C37: Maksa par ūdeni | D37: mēn | E37: 10
A38: 16 | C38: Koku izzāģēšana | D38: kpl | E38: 1
C39: Tiešās izmaksas kopā, t. sk. darba devēja sociālais nodoklis | L39: =SUM(L15:L35) -> 0 | M39: =SUM(M15:M35) -> 0 | N39: =SUM(N15:N35) -> 0 | O39: =SUM(O15:O35) -> 0 | P39: =SUM(P15:P35) -> 0
A43: Sastādīja:
A47: Pārbaudīja:

Sheet 1.1 Pamati, ā.inž.
A1: Lokālā tāme Nr.1.1
A2: =Kops.1!C20 -> Zemes darbi, pamatu izbūve, pieslēgums ārējiem inženiertīkliem, labiekārtošana
A4: Objekta nosaukums: VESELĪBAS UN SOCIĀLĀS APRŪPES CENTRS
A5: Būves nosaukums: VESELĪBAS UN SOCIĀLĀS APRŪPES CENTRS
A6: Objekta adrese: Liliju iela 109
A7: Pasūtījuma Nr.:
A9: Tāme sastādīta 2026.gada tirgus cenās | M9: Tāmes izmaksas Euro: | O9: =P43 -> 0
P11: =Kops.1!$I$15 -> Tāme sastādīta [datums]
A12: Nr.p.k. | B12: Kods | C12: Būvdarbu nosaukums | D12: Mērvienība | E12: Daudzums | F12: Vienības izmaksas | L12: Kopā uz visu apjomu
F13: laika norma (c/h) | G13: darba samaksas likme (euro/h) | H13: Darba alga | I13: Būvizstrādājumi | J13: Mehānismi | K13: kopā | L13: darbietilpība (c/h) | M13: Darba alga | N13: Būvizstrādājumi | O13: Mehānismi | P13: summa
C14: Zemes darbi
A15: 1 | C15: Auglīgās augsnes kārtas ~0,20m nostumšana un sastumšana kaudzē | D15: m2 | E15: 535
A16: 2 | C16: Grunts izstrāde ~0,40m | D16: m3 | E16: =E15*0.4 -> 214
A17: 3 | C17: Pamatu aizbēršana ar esošu grunti, blietējot pa kārtām | D17: m3 | E17: =E16-E18 -> 40.208
A18: 4 | C18: Liekās grunts izvešana uz būvuzņēmēja atbērtni | D18: m3 | E18: =E21*0.4 -> 173.792
A19: 5 | C19: Gruntsūdens līmeņa pazemināšana, pēc nepieciešamības | D19: kpl | E19: 1
C20: Pamatu plātne
A21: 6 | C21: Grunts blietēšana | D21: m2 | E21: 434.48
A22: 7 | C22: XPS siltumizolācijas montāža 200mm biezumā uz grunts | D22: m3 | E22: 106.13
A23: 8 | C23: Pamatu plātnes stiegrošana ar B500B klases stiegrām, t.sk., distanceri, locījumi un montāžas palīgmateriāli | D23: kg | E23: =E24*112.69 -> 8558.8055
A24: 9 | C24: Pamatu plātnes veidņošana un betonēšana 180mm biezumā ar betonu C30/37. GP-1 | D24: m3 | E24: 75.95
A25: 10 | C25: Deformācijas šuvju izbūve | D25: m | E25: 18.7
C26: Stabveida pamati
A27: 11 | C27: Blietētas šķembu kārtas fr.5-45mm izbūve 100mm biezumā | D27: m3 | E27: 0.6
A28: 12 | C28: Stabveida pamatu stiegrošana ar B500B klases stiegrām, t.sk., distanceri, locījumi un montāžas palīgmateriāli | D28: kg | E28: =E29*75.69 -> 106.7229
A29: 13 | C29: Stabveida pamatu veidņošana un betonēšana ar betonu C30/37. P-1 | D29: m3 | E29: 1.41
C30: Ārējais lievenis
A31: 14 | C31: Blietētas šķembu kārtas fr.5-45mm izbūve 100mm biezumā | D31: m3 | E31: 2.41
A32: 15 | C32: Ārējā lieveņa stiegrošana ar B500B klases stiegrām, t.sk., distanceri, locījumi un montāžas palīgmateriāli | D32: kg | E32: =E33*112.69 -> 391.0343
A33: 16 | C33: Ārējā lieveņa veidņošana un betonēšana 180mm biezumā ar betonu C30/37. PL-1 | D33: m3 | E33: 3.47
C34: Pamatu plātnes sijas
A35: 17 | C35: Pamatu plātnes siju stiegrošana ar B500B klases stiegrām, t.sk., distanceri, locījumi un montāžas palīgmateriāli | D35: kg | E35: =E36*115.69 -> 1686.7602
A36: 18 | C36: Pamatu plātnes siju veidņošana un betonēšana ar betonu C30/37. GS-1 | D36: m3 | E36: 14.58
C37: Ārējie inženiertīkli
A38: =A36+1 -> 19 | C38: Pieslēgums ārējam ūdensvadam un kanalizācijai | D38: kpl | E38: 1
A39: =A38+1 -> 20 | C39: Pieslēgums ārējam elektrotīklam | D39: kpl | E39: 1
C40: Labiekārtošana
A41: =A39+1 -> 21 | C41: Teritorijas labiekārtošana, ieskaitot grunts pārvietošanu, līdzināšanu, zāliena ierīkošanu | D41: m2 | E41: 800
A42: =A41+1 -> 22 | C42: Labiekārtojuma elementu ierīkošana | D42: kpl | E42: 1
C43: Tiešās izmaksas kopā, t. sk. darba devēja sociālais nodoklis | L43: =SUM(L14:L42) -> 0 | M43: =SUM(M14:M42) -> 0 | N43: =SUM(N14:N42) -> 0 | O43: =SUM(O14:O42) -> 0 | P43: =SUM(P14:P42) -> 0
A47: Sastādīja:
A51: Pārbaudīja:

Sheet 1.2 Prefabricētie elementi
A1: Lokālā tāme Nr.1.2
A2: 1.2 Prefabricētie elementi
A4: ='1.1 Pamati, ā.inž.'!$A$4 -> Objekta nosaukums: VESELĪBAS UN SOCIĀLĀS APRŪPES CENTRS
A5: ='1.1 Pamati, ā.inž.'!$A$5 -> Būves nosaukums: VESELĪBAS UN SOCIĀLĀS APRŪPES CENTRS
A6: ='1.1 Pamati, ā.inž.'!$A$6 -> Objekta adrese: Liliju iela 109
A7: ='1.1 Pamati, ā.inž.'!$A$7 -> Pasūtījuma Nr.:
A9: ='1.1 Pamati, ā.inž.'!$A$9 -> Tāme sastādīta 2026.gada tirgus cenās | M9: Tāmes izmaksas Euro: | O9: =P60 -> 0
P11: =Kops.1!$I$15 -> Tāme sastādīta [datums]
A12: Nr.p.k. | B12: Kods | C12: Būvdarbu nosaukums | D12: Mērvienība | E12: Daudzums | F12: Vienības izmaksas | L12: Kopā uz visu apjomu
F13: laika norma (c/h) | G13: darba samaksas likme (euro/h) | H13: Darba alga | I13: Būvizstrādājumi | J13: Mehānismi | K13: kopā | L13: darbietilpība (c/h) | M13: Darba alga | N13: Būvizstrādājumi | O13: Mehānismi | P13: summa
C14: Jumts JK-1 | K14: =ROUND(H14+I14+J14,2) -> 0 | L14: =ROUND(F14*E14,2) -> 0 | M14: =ROUND(H14*E14,2) -> 0 | N14: =ROUND(I14*E14,2) -> 0 | O14: =ROUND(J14*E14,2) -> 0 | P14: =ROUND(M14+N14+O14,2) -> 0
C15: Jumta JK-1 ražošana | D15: m2 | E15: 403.4 | H15: =ROUND(G15*F15,2) -> 0 | K15: =ROUND(H15+I15+J15,2) -> 0 | L15: =ROUND(F15*E15,2) -> 0 | M15: =ROUND(H15*E15,2) -> 0 | N15: =ROUND(I15*E15,2) -> 0 | O15: =ROUND(J15*E15,2) -> 0 | P15: =ROUND(M15+N15+O15,2) -> 0
C16: Bērza b/bb int saplāksnis 12mm | D16: m2 | E16: 403.4 | H16: =ROUND(G16*F16,2) -> 0 | K16: =ROUND(H16+I16+J16,2) -> 0 | L16: =ROUND(F16*E16,2) -> 0 | M16: =ROUND(H16*E16,2) -> 0 | N16: =ROUND(I16*E16,2) -> 0 | O16: =ROUND(J16*E16,2) -> 0 | P16: =ROUND(M16+N16+O16,2) -> 0
C17: Siltumizolācijas Isover Insulsafe 26kg/m3, 400mm biezumā | D17: m3 | E17: 161.36 | H17: =ROUND(G17*F17,2) -> 0 | K17: =ROUND(H17+I17+J17,2) -> 0 | L17: =ROUND(F17*E17,2) -> 0 | M17: =ROUND(H17*E17,2) -> 0 | N17: =ROUND(I17*E17,2) -> 0 | O17: =ROUND(J17*E17,2) -> 0 | P17: =ROUND(M17+N17+O17,2) -> 0
C18: OSB 22mm | D18: m2 | E18: 403.4 | H18: =ROUND(G18*F18,2) -> 0 | K18: =ROUND(H18+I18+J18,2) -> 0 | L18: =ROUND(F18*E18,2) -> 0 | M18: =ROUND(H18*E18,2) -> 0 | N18: =ROUND(I18*E18,2) -> 0 | O18: =ROUND(J18*E18,2) -> 0 | P18: =ROUND(M18+N18+O18,2) -> 0
C19: koka konstrukcijas C24 klase, t.sk., būvkalumi, stiprinājumi un palīgmateriāli | D19: m3 | E19: 11.52 | H19: =ROUND(G19*F19,2) -> 0
C20: Jumts JK-2 | H20: =ROUND(G20*F20,2) -> 0 | K20: =ROUND(H20+I20+J20,2) -> 0 | L20: =ROUND(F20*E20,2) -> 0 | M20: =ROUND(H20*E20,2) -> 0 | N20: =ROUND(I20*E20,2) -> 0 | O20: =ROUND(J20*E20,2) -> 0 | P20: =ROUND(M20+N20+O20,2) -> 0
C21: Jumta JK-2 ražošana | D21: m2 | E21: 85.5 | H21: =ROUND(G21*F21,2) -> 0 | K21: =ROUND(H21+I21+J21,2) -> 0 | L21: =ROUND(F21*E21,2) -> 0 | M21: =ROUND(H21*E21,2) -> 0 | N21: =ROUND(I21*E21,2) -> 0 | O21: =ROUND(J21*E21,2) -> 0 | P21: =ROUND(M21+N21+O21,2) -> 0
C22: koka konstrukcijas C24 klase, t.sk., būvkalumi, stiprinājumi un palīgmateriāli | D22: m3 | E22: 2.44 | H22: =ROUND(G22*F22,2) -> 0 | K22: =ROUND(H22+I22+J22,2) -> 0 | L22: =ROUND(F22*E22,2) -> 0 | M22: =ROUND(H22*E22,2) -> 0 | N22: =ROUND(I22*E22,2) -> 0 | O22: =ROUND(J22*E22,2) -> 0 | P22: =ROUND(M22+N22+O22,2) -> 0
C23: Jumts JK-3 | H23: =ROUND(G23*F23,2) -> 0 | K23: =ROUND(H23+I23+J23,2) -> 0 | L23: =ROUND(F23*E23,2) -> 0 | M23: =ROUND(H23*E23,2) -> 0 | N23: =ROUND(I23*E23,2) -> 0 | O23: =ROUND(J23*E23,2) -> 0 | P23: =ROUND(M23+N23+O23,2) -> 0
C24: Jumta JK-2 ražošana | D24: m2 | E24: 74.4 | H24: =ROUND(G24*F24,2) -> 0 | K24: =ROUND(H24+I24+J24,2) -> 0 | L24: =ROUND(F24*E24,2) -> 0 | M24: =ROUND(H24*E24,2) -> 0 | N24: =ROUND(I24*E24,2) -> 0 | O24: =ROUND(J24*E24,2) -> 0 | P24: =ROUND(M24+N24+O24,2) -> 0
C25: Bērza b/bb int saplākšņa 12mm | D25: m2 | E25: 74.4 | H25: =ROUND(G25*F25,2) -> 0 | K25: =ROUND(H25+I25+J25,2) -> 0 | L25: =ROUND(F25*E25,2) -> 0 | M25: =ROUND(H25*E25,2) -> 0 | N25: =ROUND(I25*E25,2) -> 0 | O25: =ROUND(J25*E25,2) -> 0 | P25: =ROUND(M25+N25+O25,2) -> 0
C26: Siltumizolācijas Isover Insulsafe 26kg/m3, 400mm biezumā | D26: m3 | E26: 29.76 | H26: =ROUND(G26*F26,2) -> 0 | K26: =ROUND(H26+I26+J26,2) -> 0 | L26: =ROUND(F26*E26,2) -> 0 | M26: =ROUND(H26*E26,2) -> 0 | N26: =ROUND(I26*E26,2) -> 0 | O26: =ROUND(J26*E26,2) -> 0 | P26: =ROUND(M26+N26+O26,2) -> 0
C27: Kokšķiedra 22mm | D27: m2 | E27: 74.4 | H27: =ROUND(G27*F27,2) -> 0 | K27: =ROUND(H27+I27+J27,2) -> 0 | L27: =ROUND(F27*E27,2) -> 0 | M27: =ROUND(H27*E27,2) -> 0 | N27: =ROUND(I27*E27,2) -> 0 | O27: =ROUND(J27*E27,2) -> 0 | P27: =ROUND(M27+N27+O27,2) -> 0
C28: koka konstrukcijas C24 klase, t.sk., būvkalumi, stiprinājumi un palīgmateriāli | D28: m3 | E28: 2.12 | H28: =ROUND(G28*F28,2) -> 0 | K28: =ROUND(H28+I28+J28,2) -> 0 | L28: =ROUND(F28*E28,2) -> 0 | M28: =ROUND(H28*E28,2) -> 0 | N28: =ROUND(I28*E28,2) -> 0 | O28: =ROUND(J28*E28,2) -> 0 | P28: =ROUND(M28+N28+O28,2) -> 0
C29: Ārsiena AS-1 | H29: =ROUND(G29*F29,2) -> 0 | K29: =ROUND(H29+I29+J29,2) -> 0 | L29: =ROUND(F29*E29,2) -> 0 | M29: =ROUND(H29*E29,2) -> 0 | N29: =ROUND(I29*E29,2) -> 0 | O29: =ROUND(J29*E29,2) -> 0 | P29: =ROUND(M29+N29+O29,2) -> 0
C30: Ārsienas AS-1 ražošana | D30: m2 | E30: 332.7 | H30: =ROUND(G30*F30,2) -> 0 | K30: =ROUND(H30+I30+J30,2) -> 0 | L30: =ROUND(F30*E30,2) -> 0 | M30: =ROUND(H30*E30,2) -> 0 | N30: =ROUND(I30*E30,2) -> 0 | O30: =ROUND(J30*E30,2) -> 0 | P30: =ROUND(M30+N30+O30,2) -> 0
C31: Saplākšņa 12mm | D31: m2 | E31: 332.7 | H31: =ROUND(G31*F31,2) -> 0 | K31: =ROUND(H31+I31+J31,2) -> 0 | L31: =ROUND(F31*E31,2) -> 0 | M31: =ROUND(H31*E31,2) -> 0 | N31: =ROUND(I31*E31,2) -> 0 | O31: =ROUND(J31*E31,2) -> 0 | P31: =ROUND(M31+N31+O31,2) -> 0
C32: Siltumizolācijas Isover Insulsafe 26kg/m3, 400mm biezumā | D32: m3 | E32: 133.08 | H32: =ROUND(G32*F32,2) -> 0 | K32: =ROUND(H32+I32+J32,2) -> 0 | L32: =ROUND(F32*E32,2) -> 0 | M32: =ROUND(H32*E32,2) -> 0 | N32: =ROUND(I32*E32,2) -> 0 | O32: =ROUND(J32*E32,2) -> 0 | P32: =ROUND(M32+N32+O32,2) -> 0
C33: Kokšķiedras plāksnes Steico Universal Black 22mm | D33: m2 | E33: 332.7 | H33: =ROUND(G33*F33,2) -> 0 | K33: =ROUND(H33+I33+J33,2) -> 0 | L33: =ROUND(F33*E33,2) -> 0 | M33: =ROUND(H33*E33,2) -> 0 | N33: =ROUND(I33*E33,2) -> 0 | O33: =ROUND(J33*E33,2) -> 0 | P33: =ROUND(M33+N33+O33,2) -> 0
C34: Koka latojuma 25x50mm, solis 600mm | D34: m2 | E34: 332.7 | H34: =ROUND(G34*F34,2) -> 0 | K34: =ROUND(H34+I34+J34,2) -> 0 | L34: =ROUND(F34*E34,2) -> 0 | M34: =ROUND(H34*E34,2) -> 0 | N34: =ROUND(I34*E34,2) -> 0 | O34: =ROUND(J34*E34,2) -> 0 | P34: =ROUND(M34+N34+O34,2) -> 0
C35: Koka dēļu apšuvuma 21x150mm. Lazūra-impregnants koka virsmām Adler Pullex. Toni skatīt krāsu pasē | D35: m2 | E35: 332.7 | H35: =ROUND(G35*F35,2) -> 0 | K35: =ROUND(H35+I35+J35,2) -> 0 | L35: =ROUND(F35*E35,2) -> 0 | M35: =ROUND(H35*E35,2) -> 0 | N35: =ROUND(I35*E35,2) -> 0 | O35: =ROUND(J35*E35,2) -> 0 | P35: =ROUND(M35+N35+O35,2) -> 0
C36: koka konstrukcijas C24 klase, t.sk., būvkalumi, stiprinājumi un palīgmateriāli | D36: m3 | E36: 25.64 | H36: =ROUND(G36*F36,2) -> 0 | L36: =ROUND(F36*E36,2) -> 0 | M36: =ROUND(H36*E36,2) -> 0 | N36: =ROUND(I36*E36,2) -> 0 | O36: =ROUND(J36*E36,2) -> 0 | P36: =ROUND(M36+N36+O36,2) -> 0
C37: Ārsiena AS-2 | H37: =ROUND(G37*F37,2) -> 0 | K37: =ROUND(H37+I37+J37,2) -> 0 | L37: =ROUND(F37*E37,2) -> 0 | M37: =ROUND(H37*E37,2) -> 0 | N37: =ROUND(I37*E37,2) -> 0 | O37: =ROUND(J37*E37,2) -> 0 | P37: =ROUND(M37+N37+O37,2) -> 0
C38: Ārsienas AS-2 ražošana | D38: m2 | E38: 38.4 | H38: =ROUND(G38*F38,2) -> 0 | K38: =ROUND(H38+I38+J38,2) -> 0 | L38: =ROUND(F38*E38,2) -> 0 | M38: =ROUND(H38*E38,2) -> 0 | N38: =ROUND(I38*E38,2) -> 0 | O38: =ROUND(J38*E38,2) -> 0 | P38: =ROUND(M38+N38+O38,2) -> 0
C39: Koka dēļi 21x150mm. Lazūra-impregnants koka virsmām Adler Pullex. Toni skatīt krāsu pasē | D39: m2 | E39: 38.4 | H39: =ROUND(G39*F39,2) -> 0 | K39: =ROUND(H39+I39+J39,2) -> 0 | L39: =ROUND(F39*E39,2) -> 0 | M39: =ROUND(H39*E39,2) -> 0 | N39: =ROUND(I39*E39,2) -> 0 | O39: =ROUND(J39*E39,2) -> 0 | P39: =ROUND(M39+N39+O39,2) -> 0
C40: Koka latojums 25x50mm, solis 600mm | D40: m2 | E40: 38.4 | H40: =ROUND(G40*F40,2) -> 0 | K40: =ROUND(H40+I40+J40,2) -> 0 | L40: =ROUND(F40*E40,2) -> 0 | M40: =ROUND(H40*E40,2) -> 0 | N40: =ROUND(I40*E40,2) -> 0 | O40: =ROUND(J40*E40,2) -> 0 | P40: =ROUND(M40+N40+O40,2) -> 0
C41: Koka latojums 25x50mm, solis 600mm | D41: m2 | E41: 38.4 | H41: =ROUND(G41*F41,2) -> 0 | K41: =ROUND(H41+I41+J41,2) -> 0 | L41: =ROUND(F41*E41,2) -> 0 | M41: =ROUND(H41*E41,2) -> 0 | N41: =ROUND(I41*E41,2) -> 0 | O41: =ROUND(J41*E41,2) -> 0 | P41: =ROUND(M41+N41+O41,2) -> 0
C42: Kokšķiedras plāksnes Steico Universal Black 22mm | D42: m2 | E42: 38.4 | H42: =ROUND(G42*F42,2) -> 0 | K42: =ROUND(H42+I42+J42,2) -> 0 | L42: =ROUND(F42*E42,2) -> 0 | M42: =ROUND(H42*E42,2) -> 0 | N42: =ROUND(I42*E42,2) -> 0 | O42: =ROUND(J42*E42,2) -> 0 | P42: =ROUND(M42+N42+O42,2) -> 0
C43: Skaņas izolācijas Isover KL35, 75mm | D43: m2 | E43: 38.4 | H43: =ROUND(G43*F43,2) -> 0 | K43: =ROUND(H43+I43+J43,2) -> 0 | L43: =ROUND(F43*E43,2) -> 0 | M43: =ROUND(H43*E43,2) -> 0 | N43: =ROUND(I43*E43,2) -> 0 | O43: =ROUND(J43*E43,2) -> 0 | P43: =ROUND(M43+N43+O43,2) -> 0
C44: Koka karkasa 50x70mm | D44: m2 | E44: 38.4 | H44: =ROUND(G44*F44,2) -> 0 | K44: =ROUND(H44+I44+J44,2) -> 0 | L44: =ROUND(F44*E44,2) -> 0 | M44: =ROUND(H44*E44,2) -> 0 | N44: =ROUND(I44*E44,2) -> 0 | O44: =ROUND(J44*E44,2) -> 0 | P44: =ROUND(M44+N44+O44,2) -> 0
C45: Skaņas izolācijas Isover KL35, 75mm | D45: m2 | E45: 38.4 | H45: =ROUND(G45*F45,2) -> 0 | K45: =ROUND(H45+I45+J45,2) -> 0 | L45: =ROUND(F45*E45,2) -> 0 | M45: =ROUND(H45*E45,2) -> 0 | N45: =ROUND(I45*E45,2) -> 0 | O45: =ROUND(J45*E45,2) -> 0 | P45: =ROUND(M45+N45+O45,2) -> 0
C46: Koka karkasa 50x70mm | D46: m2 | E46: 38.4 | H46: =ROUND(G46*F46,2) -> 0 | K46: =ROUND(H46+I46+J46,2) -> 0 | L46: =ROUND(F46*E46,2) -> 0 | M46: =ROUND(H46*E46,2) -> 0 | N46: =ROUND(I46*E46,2) -> 0 | O46: =ROUND(J46*E46,2) -> 0 | P46: =ROUND(M46+N46+O46,2) -> 0
C47: Saplākšņa 12mm | D47: m2 | E47: 38.4 | H47: =ROUND(G47*F47,2) -> 0 | K47: =ROUND(H47+I47+J47,2) -> 0 | L47: =ROUND(F47*E47,2) -> 0 | M47: =ROUND(H47*E47,2) -> 0 | N47: =ROUND(I47*E47,2) -> 0 | O47: =ROUND(J47*E47,2) -> 0 | P47: =ROUND(M47+N47+O47,2) -> 0
C48: Siltumizolācijas Isover Insulsafe 26kg/m3 400mm biezumā | D48: m3 | E48: 15.36 | H48: =ROUND(G48*F48,2) -> 0 | K48: =ROUND(H48+I48+J48,2) -> 0 | L48: =ROUND(F48*E48,2) -> 0 | M48: =ROUND(H48*E48,2) -> 0 | N48: =ROUND(I48*E48,2) -> 0 | O48: =ROUND(J48*E48,2) -> 0 | P48: =ROUND(M48+N48+O48,2) -> 0
C49: Kokšķiedras plāksnes Steico Universal Black 22mm | D49: m2 | E49: 38.4 | H49: =ROUND(G49*F49,2) -> 0 | K49: =ROUND(H49+I49+J49,2) -> 0 | L49: =ROUND(F49*E49,2) -> 0 | M49: =ROUND(H49*E49,2) -> 0 | N49: =ROUND(I49*E49,2) -> 0 | O49: =ROUND(J49*E49,2) -> 0 | P49: =ROUND(M49+N49+O49,2) -> 0
... C53: koka konstrukcijas C24 klase, t.sk., būvkalumi, stiprinājumi un palīgmateriāli | D53: m3 | E53: 2.96 | H53: =ROUND(G53*F53,2) -> 0 | K53: =ROUND(H53+I53+J53,2) -> 0 | L53: =ROUND(F53*E53,2) -> 0 | M53: =ROUND(H53*E53,2) -> 0 | N53: =ROUND(I53*E53,2) -> 0 | O53: =ROUND(J53*E53,2) -> 0 | P53: =ROUND(M53+N53+O53,2) -> 0
C54: Dekoratīvie fasādes elementi. M-2 | H54: =ROUND(G54*F54,2) -> 0 | K54: =ROUND(H54+I54+J54,2) -> 0 | L54: =ROUND(F54*E54,2) -> 0 | M54: =ROUND(H54*E54,2) -> 0 | N54: =ROUND(I54*E54,2) -> 0 | O54: =ROUND(J54*E54,2) -> 0 | P54: =ROUND(M54+N54+O54,2) -> 0
C55: Vertikālais koka dēļu apšuvums | D55: m2 | E55: 291.53 | H55: =ROUND(G55*F55,2) -> 0 | K55: =ROUND(H55+I55+J55,2) -> 0 | L55: =ROUND(F55*E55,2) -> 0 | M55: =ROUND(H55*E55,2) -> 0 | N55: =ROUND(I55*E55,2) -> 0 | O55: =ROUND(J55*E55,2) -> 0 | P55: =ROUND(M55+N55+O55,2) -> 0
C56: dekoratīvās brusām 50x50 mm solis 50mm. Krāsots. Lazūra-impregnants koka virsmām Adler Pullex Silverwood Silber sudraba pelēks. Šķīdinātāja bāzes puscaurspīdīgs pārklājums koka fasādēm. Tonis Grauatuminium. Rūpnieciski krāsots ar Kraso Woodpainting tehnoloģiju. | D56: m3 | E56: 291.53 | H56: =ROUND(G56*F56,2) -> 0 | K56: =ROUND(H56+I56+J56,2) -> 0 | L56: =ROUND(F56*E56,2) -> 0 | M56: =ROUND(H56*E56,2) -> 0 | N56: =ROUND(I56*E56,2) -> 0 | O56: =ROUND(J56*E56,2) -> 0 | P56: =ROUND(M56+N56+O56,2) -> 0
C57: Prefabricēto elementu piegāde uz objektu | D57: kpl | E57: 1 | H57: =ROUND(G57*F57,2) -> 0 | K57: =ROUND(H57+I57+J57,2) -> 0 | L57: =ROUND(F57*E57,2) -> 0 | M57: =ROUND(H57*E57,2) -> 0 | N57: =ROUND(I57*E57,2) -> 0 | O57: =ROUND(J57*E57,2) -> 0 | P57: =ROUND(M57+N57+O57,2) -> 0
C58: Prefabricēto elementu montāža | D58: kpl | E58: 1 | H58: =ROUND(G58*F58,2) -> 0 | K58: =ROUND(H58+I58+J58,2) -> 0 | L58: =ROUND(F58*E58,2) -> 0 | M58: =ROUND(H58*E58,2) -> 0 | N58: =ROUND(I58*E58,2) -> 0 | O58: =ROUND(J58*E58,2) -> 0 | P58: =ROUND(M58+N58+O58,2) -> 0
H59: =ROUND(G59*F59,2) -> 0 | K59: =ROUND(H59+I59+J59,2) -> 0 | L59: =ROUND(F59*E59,2) -> 0 | M59: =ROUND(H59*E59,2) -> 0 | N59: =ROUND(I59*E59,2) -> 0 | O59: =ROUND(J59*E59,2) -> 0 | P59: =ROUND(M59+N59+O59,2) -> 0
C60: ='1.1 Pamati, ā.inž.'!$C$43 -> Tiešās izmaksas kopā, t. sk. darba devēja sociālais nodoklis | L60: =SUM(L14:L59) -> 0 | M60: =SUM(M14:M59) -> 0 | N60: =SUM(N14:N59) -> 0 | O60: =SUM(O14:O59) -> 0 | P60: =SUM(P14:P59) -> 0
A64: ='1.1 Pamati, ā.inž.'!$A$47 -> Sastādīja:
A68: ='1.1 Pamati, ā.inž.'!$A$51 -> Pārbaudīja:

Sheet 1.3 Jumts
A1: Lokālā tāme Nr.1.3
A2: Jumts
A4: ='1.1 Pamati, ā.inž.'!$A$4 -> Objekta nosaukums: VESELĪBAS UN SOCIĀLĀS APRŪPES CENTRS
A5: ='1.1 Pamati, ā.inž.'!$A$5 -> Būves nosaukums: VESELĪBAS UN SOCIĀLĀS APRŪPES CENTRS
A6: ='1.1 Pamati, ā.inž.'!$A$6 -> Objekta adrese: Liliju iela 109
A7: ='1.1 Pamati, ā.inž.'!$A$7 -> Pasūtījuma Nr.:
A9: ='1.1 Pamati, ā.inž.'!$A$9 -> Tāme sastādīta 2026.gada tirgus cenās | M9: Tāmes izmaksas Euro: | O9: =P44 -> 0
P11: =Kops.1!$I$15 -> Tāme sastādīta [datums]
A12: Nr.p.k. | B12: Kods | C12: Būvdarbu nosaukums | D12: Mērvienība | E12: Daudzums | F12: Vienības izmaksas | L12: Kopā uz visu apjomu
F13: laika norma (c/h) | G13: darba samaksas likme (euro/h) | H13: Darba alga | I13: Būvizstrādājumi | J13: Mehānismi | K13: kopā | L13: darbietilpība (c/h) | M13: Darba alga | N13: Būvizstrādājumi | O13: Mehānismi | P13: summa
C14: Jumts JK-1
A15: 1 | C15: Ģipškartona montāža 12mm | D15: m2 | E15: 403.4
A16: 2 | C16: Siltumizolācijas Isover KL 50mm montāža | D16: m2 | E16: 403.4
A17: 3 | C17: Koka karkasa 45x45mm montāža | D17: m2 | E17: 403.4
A18: 4 | C18: Difūzijas membrānas montāža, šuves salīmējot | D18: m2 | E18: 403.4
A19: 5 | C19: Koka latojuma 25x50mm montāža, solis 200mm | D19: m2 | E19: 403.4
A20: 6 | C20: Koka šķērslatojuma 25x100mm montāža, solis 200mm | D20: m2 | E20: =E19 -> 403.4
A21: 7 | C21: Gludā skārda jumta seguma b=0,6mm montāža | D21: m2 | E21: =E20 -> 403.4
C22: Jumts JK-2
A23: 8 | C23: Koka dēļu 21x150mm montāža. Koka dēļi lakoti ar matētu laku. Toni skatīt krāsu pasē | D23: m2 | E23: 85.5
A24: 9 | C24: Koka latojuma 25x50mm montāža, solis 200mm | D24: m2 | E24: =E23 -> 85.5
A25: 10 | C25: Koka šķērslatojuma 25x100mm montāža, solis 200mm | D25: m2 | E25: =E24 -> 85.5
A26: 11 | C26: Difūzijas membrānas montāža, šuves salīmējot | D26: m2 | E26: =E25 -> 85.5
A27: 12 | C27: Koka latojuma 25x50mm montāža, solis 200mm | D27: m2 | E27: =E26 -> 85.5
A28: 13 | C28: Koka šķērslatojuma 25x100mm montāža, solis 200mm | D28: m2 | E28: =E27 -> 85.5
A29: 14 | C29: Gludā skārda jumta seguma b=0,6mm montāža | D29: m2 | E29: =E28 -> 85.5
C30: Jumts JK-3
A31: 15 | C31: Ģipškartona montāža 12mm | D31: m2 | E31: 68.9
A32: 16 | C32: Difūzijas membrānas montāža, šuves salīmējot | D32: m2 | E32: 74.4
A33: 17 | C33: Putupolistirola Tenax EPS100 montāža slīpuma veidošanai 0-160mm | D33: m2 | E33: 74.4
A34: 18 | C34: Jumta seguma apakškārtas Technonicol Mida Self PV montāža | D34: m2 | E34: 74.4
A35: 19 | C35: Jumta seguma virskārtas Technoelast Standart EKP montāža | D35: m2 | E35: =E34 -> 74.4
C36: Jumts, dažādi darbi
A37: 20 | C37: Parapeta nosegelementa montāža. Krāsots skārds ar PURAL pārklājumu, tonis RAL 7015. Platumā 350mm. Skārda biezums 0.5 mm. | D37: m | E37: 39.2
A38: 21 | C38: Teknes montāža. Tērauda ar divpusēju PUR pārklājumu ar kopējo materiāla biezumu 0.55mm Tonis RAL7015. kplektēt kopā ar visiem nepieciešamajiem elementiem un stiprinājumiem. | D38: m | E38: 54
A39: 22 | C39: Notekcaurules d=110mm montāža. Tērauda ar divpusēju PUR pārklājumu ar kopējo materiāla biezumu 0.55mm Tonis RAL7015. kplektēt kopā ar visiem nepieciešamajiem elementiem un stiprinājumiem. | D39: m | E39: 20
A40: 23 | C40: Sniega barjeras montāža. Cinkotas ar karstās cinkošanas paņemienu. Tonis RAL 7015. | D40: m | E40: 51
A41: 24 | C41: Vējmalas montāža. Krāsots skārds ar PURAL pārklājumu, tonis RAL 7015. Platumā 350mm. Skārda biezums 0.5 mm. | D41: m | E41: 48
A42: 25 | C42: Jumta metāla kāpņu montāža. Cinkotas ar karstās cinkošanas paņemienu. Tonis RAL 7015. Kāpnēm jābūt tik augstām, lai augšējais pakāpiens atrastos ± 100mm virs karnīzes vai citas piekļuves platformas. Apakšējam pakāpienam jāatrodas 1,000–1,200 mm virs zemes vai citas apakšējās virsmas. Sienas kāpņu stiprinājumiem jābūt tādā izmērā, lai attālums starp kāpņu pakāpiena viduslīniju un karnīzi vai citu izvirzījumu būtu vismaz 200 mm. Aprīkot ar kāpņu drošības grozu | D42: gb | E42: 2
C44: ='1.1 Pamati, ā.inž.'!$C$43 -> Tiešās izmaksas kopā, t. sk. darba devēja sociālais nodoklis | L44: =SUM(L14:L43) -> 0 | M44: =SUM(M14:M43) -> 0 | N44: =SUM(N14:N43) -> 0 | O44: =SUM(O14:O43) -> 0 | P44: =SUM(P14:P43) -> 0
A48: ='1.1 Pamati, ā.inž.'!$A$47 -> Sastādīja:
A52: ='1.1 Pamati, ā.inž.'!$A$51 -> Pārbaudīja:

Sheet 1.4 Grīdas
A1: Lokālā tāme Nr.1.4
A2: Grīdas
A4: ='1.1 Pamati, ā.inž.'!$A$4 -> Objekta nosaukums: VESELĪBAS UN SOCIĀLĀS APRŪPES CENTRS
A5: ='1.1 Pamati, ā.inž.'!$A$5 -> Būves nosaukums: VESELĪBAS UN SOCIĀLĀS APRŪPES CENTRS
A6: ='1.1 Pamati, ā.inž.'!$A$6 -> Objekta adrese: Liliju iela 109
A7: ='1.1 Pamati, ā.inž.'!$A$7 -> Pasūtījuma Nr.:
A9: ='1.1 Pamati, ā.inž.'!$A$9 -> Tāme sastādīta 2026.gada tirgus cenās | M9: Tāmes izmaksas Euro: | O9: =P17 -> 0
P11: =Kops.1!$I$18 -> 0
A12: Nr.p.k. | B12: Kods | C12: Būvdarbu nosaukums | D12: Mērvienība | E12: Daudzums | F12: Vienības izmaksas | L12: Kopā uz visu apjomu
F13: laika norma (c/h) | G13: darba samaksas likme (euro/h) | H13: Darba alga | I13: Būvizstrādājumi | J13: Mehānismi | K13: kopā | L13: darbietilpība (c/h) | M13: Darba alga | N13: Būvizstrādājumi | O13: Mehānismi | P13: summa
C14: Grīda GK-1
A15: 1 | C15: Siltumizolācias slānis 20mm, izlīdzinošā cementa javas slāņa 80mm izbūve | D15: m2 | E15: 422.4
C17: ='1.1 Pamati, ā.inž.'!$C$43 -> Tiešās izmaksas kopā, t. sk. darba devēja sociālais nodoklis | L17: =SUM(L14:L16) -> 0 | M17: =SUM(M14:M16) -> 0 | N17: =SUM(N14:N16) -> 0 | O17: =SUM(O14:O16) -> 0 | P17: =SUM(P14:P16) -> 0
A22: ='1.1 Pamati, ā.inž.'!$A$47 -> Sastādīja:
A26: ='1.1 Pamati, ā.inž.'!$A$51 -> Pārbaudīja:

Sheet 1.5 Sienas
A1: Lokālā tāme Nr.1.5
A2: Ārsienas, starpsienas
A4: ='1.1 Pamati, ā.inž.'!$A$4 -> Objekta nosaukums: VESELĪBAS UN SOCIĀLĀS APRŪPES CENTRS
A5: ='1.1 Pamati, ā.inž.'!$A$5 -> Būves nosaukums: VESELĪBAS UN SOCIĀLĀS APRŪPES CENTRS
A6: ='1.1 Pamati, ā.inž.'!$A$6 -> Objekta adrese: Liliju iela 109
A7: ='1.1 Pamati, ā.inž.'!$A$7 -> Pasūtījuma Nr.:
A9: ='1.1 Pamati, ā.inž.'!$A$9 -> Tāme sastādīta 2026.gada tirgus cenās | M9: Tāmes izmaksas Euro: | O9: =P27 -> 0
P11: =Kops.1!$I$15 -> Tāme sastādīta [datums]
A12: Nr.p.k. | B12: Kods | C12: Būvdarbu nosaukums | D12: Mērvienība | E12: Daudzums | F12: Vienības izmaksas | L12: Kopā uz visu apjomu
F13: laika norma (c/h) | G13: darba samaksas likme (euro/h) | H13: Darba alga | I13: Būvizstrādājumi | J13: Mehānismi | K13: kopā | L13: darbietilpība (c/h) | M13: Darba alga | N13: Būvizstrādājumi | O13: Mehānismi | P13: summa
C14: Cokols | K14: =ROUND(H14+I14+J14,2) -> 0 | L14: =ROUND(F14*E14,2) -> 0 | M14: =ROUND(H14*E14,2) -> 0 | N14: =ROUND(I14*E14,2) -> 0 | O14: =ROUND(J14*E14,2) -> 0 | P14: =ROUND(M14+N14+O14,2) -> 0
A15: 1 | C15: Cokola apdare ar Cembrit rock plāksnēm (Tonis -coal) | D15: m2 | E15: 45.04
C16: Sastatnes
A17: 2 | C17: Sastatņu montāža, demontāža | D17: m2 | E17: 485.04
A18: 3 | C18: sastatņu noma | D18: m2 | E18: =E17 -> 485.04
C19: Ārsiena AS-1
A20: 4 | C20: Ģipškartona Knauf Blue 12,5mm montāža | D20: m2 | E20: 332.7
A21: 5 | C21: Saplākšņa 12mm montāža | D21: m2 | E21: =E20 -> 332.7
A22: 6 | C22: Skaņas izolācijas Isover KL35, 70mm montāža | D22: m2 | E22: =E21 -> 332.7
A23: 7 | C23: Koka karkasa 50x70mm montāža | D23: m2 | E23: =E22 -> 332.7
A24: 8 | C24: Starpsienas
A25: 9 | C25: Ģipškartona starpsienas Knauf tipa montāža 100mm, ieskaitot skaņas izolāciju | D25: m2 | E25: =153+210+44+56+40-85 -> 418
C27: ='1.1 Pamati, ā.inž.'!$C$43 -> Tiešās izmaksas kopā, t. sk. darba devēja sociālais nodoklis | L27: =SUM(L14:L26) -> 0 | M27: =SUM(M14:M26) -> 0 | N27: =SUM(N14:N26) -> 0 | O27: =SUM(O14:O26) -> 0 | P27: =SUM(P14:P26) -> 0
A31: ='1.1 Pamati, ā.inž.'!$A$47 -> Sastādīja:
A35: ='1.1 Pamati, ā.inž.'!$A$51 -> Pārbaudīja:

Sheet 1.6 Ailes
A1: Lokālā tāme Nr.1.6
A2: Ailu aizpildījumi
A4: ='1.1 Pamati, ā.inž.'!$A$4 -> Objekta nosaukums: VESELĪBAS UN SOCIĀLĀS APRŪPES CENTRS
A5: ='1.1 Pamati, ā.inž.'!$A$5 -> Būves nosaukums: VESELĪBAS UN SOCIĀLĀS APRŪPES CENTRS
A6: ='1.1 Pamati, ā.inž.'!$A$6 -> Objekta adrese: Liliju iela 109
A7: ='1.1 Pamati, ā.inž.'!$A$7 -> Pasūtījuma Nr.:
A9: ='1.1 Pamati, ā.inž.'!$A$9 -> Tāme sastādīta 2026.gada tirgus cenās | M9: Tāmes izmaksas Euro: | O9: =P48 -> 0
P11: =Kops.1!$I$15 -> Tāme sastādīta [datums]
A12: Nr.p.k. | B12: Kods | C12: Būvdarbu nosaukums | D12: Mērvienība | E12: Daudzums | F12: Vienības izmaksas | L12: Kopā uz visu apjomu
F13: laika norma (c/h) | G13: darba samaksas likme (euro/h) | H13: Darba alga | I13: Būvizstrādājumi | J13: Mehānismi | K13: kopā | L13: darbietilpība (c/h) | M13: Darba alga | N13: Būvizstrādājumi | O13: Mehānismi | P13: summa
C14: Logi. Sīkāku kplektāciju skatīt specifikācijā. Montāžu veikt saskaņā ar mezgliem
A15: 1 | C15: Koka loga 1200x2150mm montāža. IL-1 | D15: gb | E15: 1
A16: 2 | C16: PVC loga ar 3-stiklu paketi 2000x1900mm montāža. L-1 | D16: gb | E16: 8
A17: 3 | C17: PVC loga ar 3-stiklu paketi 1200x800mm montāža. L-2 | D17: gb | E17: 2
A18: 4 | C18: PVC loga ar 3-stiklu paketi 1200x2200mm montāža. L-3 | D18: gb | E18: 2
A19: 5 | C19: PVC loga ar 3-stiklu paketi 2200x2200mm montāža. L-4 | D19: gb | E19: 2
A20: 6 | C20: PVC loga ar 3-stiklu paketi 3300x2200mm montāža. L-5 | D20: gb | E20: 1
C21: Palodzes
A22: 7 | C22: Ārējās skārda palodzes montāža. Skārds ar PUR pārklājumu ar 30 mm pārkari. | D22: m | E22: 31.3
A23: 8 | C23: Iekšējās palodzes montāža. Izgatavot no līmēta, krāsotā koka vai melamīna 40 mm, ailas plātumā, ar 40 mm pārkari | D23: m | E23: 31.3
C24: Logu ailes
A25: 9 | C25: Ārējā ailu apdare | D25: gb | E25: 16
A26: 10 | C26: Iekšējā ailu apdare | D26: gb | E26: =E25 -> 16
C27: Stiklotās konstrukcijas ar durvīm. Sīkāku kplektāciju skatīt specifikācijā. Montāžu veikt saskaņā ar mezgliem
A28: 11 | C28: Alumīnija stiklotās konstrukcijas SF-1 ar durvīm AD-1 montāža. Izmērs 2200x2200mm | D28: gb | E28: 2
C29: Stiklotās konstrukcijas ar durvīm ailes
A30: 12 | C30: Ārējā ailu apdare | D30: gb | E30: 2
A31: 13 | C31: Iekšējā ailu apdare | D31: gb | E31: 2
C32: Bīdāmās sienas. Sīkāku kplektāciju skatīt specifikācijā. Montāžu veikt saskaņā ar mezgliem
A33: 14 | C33: Salokāmās bīdāmās sienu 3200x3200mm vadotnes sistēmas montāža. BS-1 | D33: gb | E33: 1
C34: Durvis. Sīkāku kplektāciju skatīt specifikācijā. Montāžu veikt saskaņā ar mezgliem
A35: 15 | C35: Tērauda ārdurvju 1000x2100mm montāža. AD-2 | D35: gb | E35: 1
A36: 16 | C36: Finierētu iekšdurvju 1200x2100mm montāža. ID-1 | D36: gb | E36: 1
A37: 17 | C37: Finierētu iekšdurvju 1000x2100mm montāža. ID-2 | D37: gb | E37: 6
A38: 18 | C38: Finierētu iekšdurvju 1000x2100mm montāža. ID-3 | D38: gb | E38: 1
A39: 19 | C39: Finierētu iekšdurvju 1000x2100mm montāža. ID-4 | D39: gb | E39: 5
A40: 20 | C40: Finierētu iekšdurvju 1200x2100mm montāža. ID-5 | D40: gb | E40: 1
A41: 21 | C41: Ugunsdrošu EI-30 alumīnija iekšdurvju 1200x2100mm montāža. ID-6 | D41: gb | E41: 2
A42: 22 | C42: Bīdāmo iekšdurvju 1000x2100mm montāža. ID-7 | D42: gb | E42: 1
A43: 23 | C43: Ugunsdrošu EI-60 alumīnija iekšdurvju 1000x2100mm montāža. ID-8 | D43: gb | E43: 1
C44: Ārdurvju ailes
A45: 24 | C45: Ārējā ailu apdare | D45: gb | E45: 1
A46: 25 | C46: Iekšējā ailu apdare | D46: gb | E46: 1
C48: ='1.1 Pamati, ā.inž.'!$C$43 -> Tiešās izmaksas kopā, t. sk. darba devēja sociālais nodoklis | L48: =SUM(L14:L47) -> 0 | M48: =SUM(M14:M47) -> 0 | N48: =SUM(N14:N47) -> 0 | O48: =SUM(O14:O47) -> 0 | P48: =SUM(P14:P47) -> 0
A52: ='1.1 Pamati, ā.inž.'!$A$47 -> Sastādīja:
A56: ='1.1 Pamati, ā.inž.'!$A$51 -> Pārbaudīja:

Sheet 1.7 Apdare
A1: Lokālā tāme Nr.1.7
A2: Iekšējie apdares darbi
A4: ='1.1 Pamati, ā.inž.'!$A$4 -> Objekta nosaukums: VESELĪBAS UN SOCIĀLĀS APRŪPES CENTRS
A5: ='1.1 Pamati, ā.inž.'!$A$5 -> Būves nosaukums: VESELĪBAS UN SOCIĀLĀS APRŪPES CENTRS
A6: ='1.1 Pamati, ā.inž.'!$A$6 -> Objekta adrese: Liliju iela 109
A7: ='1.1 Pamati, ā.inž.'!$A$7 -> Pasūtījuma Nr.:
A9: ='1.1 Pamati, ā.inž.'!$A$9 -> Tāme sastādīta 2026.gada tirgus cenās | M9: Tāmes izmaksas Euro: | O9: =P38 -> 0
P11: =Kops.1!$I$15 -> Tāme sastādīta [datums]
A12: Nr.p.k. | B12: Kods | C12: Būvdarbu nosaukums | D12: Mērvienība | E12: Daudzums | F12: Vienības izmaksas | L12: Kopā uz visu apjomu
F13: laika norma (c/h) | G13: darba samaksas likme (euro/h) | H13: Darba alga | I13: Būvizstrādājumi | J13: Mehānismi | K13: kopā | L13: darbietilpība (c/h) | M13: Darba alga | N13: Būvizstrādājumi | O13: Mehānismi | P13: summa
A14: =ROW()-13 -> 1 | C14: Griesti | K14: =ROUND(H14+I14+J14,2) -> 0 | L14: =ROUND(F14*E14,2) -> 0 | M14: =ROUND(H14*E14,2) -> 0 | N14: =ROUND(I14*E14,2) -> 0 | O14: =ROUND(J14*E14,2) -> 0 | P14: =ROUND(M14+N14+O14,2) -> 0
A15: =ROW()-13 -> 2 | C15: Ģipškartona griestu špaktelēšana, slīpēšana, gruntēšana un krāsošana. Gr-1 | D15: m2 | E15: 403.4
A16: =ROW()-13 -> 3 | C16: Griestu lūkas
A17: =ROW()-13 -> 4 | C17: Revīzijas lūkas ģipškartona griestu konstrukcijām montāža. Atvēršana ar piespiešanas mehānismu. Durvīs impregnētas ģipškartona plāksne. Izmēri 400x400 mm. Alulight. GL-1 | D17: gb | E17: 17
A18: =ROW()-13 -> 5 | C18: Revīzijas lūkas ģipškartona griestu konstrukcijām montāža. Atvēršana ar piespiešanas mehānismu. Durvīs impregnētas ģipškartona plāksne. Izmēri 300x300 mm. Alulight. GL-2 | D18: gb | E18: 7
A19: =ROW()-13 -> 6 | C19: Revīzijas lūkas ģipškartona griestu konstrukcijām montāža. Atvēršana ar piespiešanas mehānismu. Durvīs impregnētas ģipškartona plāksne. Izmēri 200x200 mm. Alulight. GL-3 | D19: gb | E19: 9
A20: =ROW()-13 -> 7 | C20: Revīzijas lūkas ģipškartona griestu konstrukcijām montāža. Atvēršana ar piespiešanas mehānismu. Durvīs impregnētas ģipškartona plāksne. Izmēri 600x600 mm. Alulight. GL-4 | D20: gb | E20: 5
A21: =ROW()-13 -> 8 | C21: Sienas
A22: =ROW()-13 -> 9 | C22: Sienu špaktelēšana, slīpēšana, gruntēšana un krāsošana ar pusmatētu, antialerģisku ūdens dispersijas akrila krāsu. Tonis - NCS S 1002Y Tikkurilla G487. IM-1 | D22: m2 | E22: =342.5-85*2 -> 172.5
A23: =ROW()-13 -> 10 | C23: Sienu špaktelēšana, slīpēšana, gruntēšana un krāsošana ar pusmatētu, antialerģisku ūdens dispersijas akrila krāsu. Tonis - NCS S 1002Y Tikkurilla G487. IM-2 | D23: m2 | E23: 424.3
A24: =ROW()-13 -> 11 | C24: Sienu špaktelēšana, slīpēšana, gruntēšana un krāsošana ar pusmatētu, antialerģisku, mitrumizturīgu krāsu. Tonis - NCS S 1002Y Tikkurilla G487. IM-3 | D24: m2 | E24: 171.6
A25: =ROW()-13 -> 12 | C25: Sienu flīzēšana un šuvošana. Sienas keramikas fīzes: Kerama Marazzi - Avellino light blue glossy 7.4 x 15 cm. Zem flīzēm paredzēt hidroizolāciju. IM-4 | D25: m2 | E25: 157.2
A26: =ROW()-13 -> 13 | C26: Sienu flīzēšana un šuvošana. Sienas keramikas fīzes: Kerama Marazzi - Avelino whitye glossy 7.41 x 15 cm. Zem flīzēm paredzēt hidroizolāciju. IM-5 | D26: m2 | E26: 63.5
A27: =ROW()-13 -> 14 | C27: Grīdas
A28: =ROW()-13 -> 15 | C28: Vinila seguma montāža. Tarkett Starfloor Click Ultimate 55 - Stylish Oak BEIGE. Pretslīdes klase R10. Klasifikācija: 33 kl. Kopējais biezums: 6,50 mm Aizsargslāņa biezums: 0,55 mm Ieklāšanas metode : click Integrēta akustika : 19dB – nevajag un nedrīkst likt papildus apakškārtu. G-1 | D28: m2 | E28: 260.2
A29: =ROW()-13 -> 16 | C29: Grīdu flīzēšana un šuvošana, t.sk., hidroizolācija nepieciešamajās vietās. Grīdu flīzes: Kerama Marazzi - Fondamenta ligt grey rectified 60 x 60 cm. G-2 | D29: m2 | E29: 47.1
A30: =ROW()-13 -> 17 | C30: Vinila seguma montāža. Vinila segums. Tarkett Starfloor Click Ultimate 55-Timeless Concrete LIGHT GREY. Pretslīdes klase R10 Klasifikācija: 33 kl Kopējais biezums: 6,50 mm Aizsargslāņa biezums: 0,55 mm Ieklāšanas metode : click Integrēta akustika : 19dB – nevajag un nedrīkst likt papildus apakškārtu. G-3 | D30: m2 | E30: 57.3
A31: =ROW()-13 -> 18 | C31: Grīdlīstes
A32: =ROW()-13 -> 19 | C32: Koka grīdlīstes montāža.h-80mm. Grīdlīstes ar atbilstošiem stūra profiliem | D32: m | E32: 253
A33: =ROW()-13 -> 20 | C33: Nerūsējošā tērauda sliekšņa montāža. PROGRESS PROFILES, PROTERMINAL, polished finish, AISI 304/1.4301-V2A, augstums 10 vai 12.5mm. | D33: m | E33: 14
A34: =ROW()-13 -> 21 | C34: Kājslauķi
A35: =ROW()-13 -> 22 | C35: Kājslauķu sistēmas 1000x2500mm ārtelpām montāža. ABIMAT Alucable Mat Senior ar birsti Piemērots rūpjiem netīrumiem Kopējais sistēmas augstums 16 mm, kopā ar birsti 23mm. Ūdens novadīšanu risināt UKT Piesaistes projektā. KS-1 | D35: gb | E35: 1
A36: =ROW()-13 -> 23 | C36: Kājslauķu sistēma 1500x2500mm iekštelpām montāža. ABIMAT Alucable Mat Medium ar poliamīda paklāja lamellām. Ar 50%gumiju/ 50%poliamīda paklāja lamellām Kopējais paklāju augstums 19 m. KS-1 | D36: gb | E36: 1
C38: ='1.1 Pamati, ā.inž.'!$C$43 -> Tiešās izmaksas kopā, t. sk. darba devēja sociālais nodoklis | L38: =SUM(L14:L37) -> 0 | M38: =SUM(M14:M37) -> 0 | N38: =SUM(N14:N37) -> 0 | O38: =SUM(O14:O37) -> 0 | P38: =SUM(P14:P37) -> 0
A43: ='1.1 Pamati, ā.inž.'!$A$47 -> Sastādīja:
A47: ='1.1 Pamati, ā.inž.'!$A$51 -> Pārbaudīja:

Sheet 1.8 Apr. iekšt.
A1: Lokālā tāme Nr.1.8
A2: =Kops.1!C27 -> Aprīkojums iekštelpu
A4: ='1.1 Pamati, ā.inž.'!$A$4 -> Objekta nosaukums: VESELĪBAS UN SOCIĀLĀS APRŪPES CENTRS
A5: ='1.1 Pamati, ā.inž.'!$A$5 -> Būves nosaukums: VESELĪBAS UN SOCIĀLĀS APRŪPES CENTRS
A6: ='1.1 Pamati, ā.inž.'!$A$6 -> Objekta adrese: Liliju iela 109
A7: ='1.1 Pamati, ā.inž.'!$A$7 -> Pasūtījuma Nr.:
A9: ='1.1 Pamati, ā.inž.'!$A$9 -> Tāme sastādīta 2026.gada tirgus cenās | M9: Tāmes izmaksas Euro: | O9: =P18 -> 0
P11: =Kops.1!$I$15 -> Tāme sastādīta [datums]
A12: Nr.p.k. | B12: Kods | C12: Būvdarbu nosaukums | D12: Mērvienība | E12: Daudzums | F12: Vienības izmaksas | L12: Kopā uz visu apjomu
F13: laika norma (c/h) | G13: darba samaksas likme (euro/h) | H13: Darba alga | I13: Būvizstrādājumi | J13: Mehānismi | K13: kopā | L13: darbietilpība (c/h) | M13: Darba alga | N13: Būvizstrādājumi | O13: Mehānismi | P13: summa
A14: =ROW()-13 -> 1 | C14: Inventārs
A15: =ROW()-13 -> 2 | C15: Evakuācijas shēma | D15: gb | E15: 2
A16: =ROW()-13 -> 3 | C16: Ugunsdzēšamais aparats | D16: gb | E16: 2
C18: ='1.1 Pamati, ā.inž.'!$C$43 -> Tiešās izmaksas kopā, t. sk. darba devēja sociālais nodoklis | L18: =SUM(L14:L17) -> 0 | M18: =SUM(M14:M17) -> 0 | N18: =SUM(N14:N17) -> 0 | O18: =SUM(O14:O17) -> 0 | P18: =SUM(P14:P17) -> 0
A23: ='1.1 Pamati, ā.inž.'!$A$47 -> Sastādīja:
A27: ='1.1 Pamati, ā.inž.'!$A$51 -> Pārbaudīja:

Sheet 1.9 Sanm.
A1: Lokālā tāme Nr.1.9
A2: Sanmezglu aprīkojums
A4: ='1.1 Pamati, ā.inž.'!$A$4 -> Objekta nosaukums: VESELĪBAS UN SOCIĀLĀS APRŪPES CENTRS
A5: ='1.1 Pamati, ā.inž.'!$A$5 -> Būves nosaukums: VESELĪBAS UN SOCIĀLĀS APRŪPES CENTRS
A6: ='1.1 Pamati, ā.inž.'!$A$6 -> Objekta adrese: Liliju iela 109
A7: ='1.1 Pamati, ā.inž.'!$A$7 -> Pasūtījuma Nr.:
A9: ='1.1 Pamati, ā.inž.'!$A$9 -> Tāme sastādīta 2026.gada tirgus cenās | M9: Tāmes izmaksas Euro: | O9: =P34 -> 0
P11: =Kops.1!$I$15 -> Tāme sastādīta [datums]
A12: Nr.p.k. | B12: Kods | C12: Būvdarbu nosaukums | D12: Mērvienība | E12: Daudzums | F12: Vienības izmaksas | L12: Kopā uz visu apjomu
F13: laika norma (c/h) | G13: darba samaksas likme (euro/h) | H13: Darba alga | I13: Būvizstrādājumi | J13: Mehānismi | K13: kopā | L13: darbietilpība (c/h) | M13: Darba alga | N13: Būvizstrādājumi | O13: Mehānismi | P13: summa
A14: =ROW()-13 -> 1 | C14: Guļušo mazgāšanas telpas aprīkojums
A15: =ROW()-13 -> 2 | C15: Elektriskais , regulējams dvieļu žāvētājs. WC-1 | D15: gb | E15: 1
A16: =ROW()-13 -> 3 | C16: Atkrituma tvertne ar pedāli AddStoris, 3l, hroms. WC-4 | D16: gb | E16: 1
A17: =ROW()-13 -> 4 | C17: Āķis Lounge, dubultais, hroms. WC-8 | D17: gb | E17: 1
A18: =ROW()-13 -> 5 | C18: Dušas aizkaru stienis, hroms. Dušas aizkari. WC-10 | D18: gb | E18: 1
A19: =ROW()-13 -> 6 | C19: Šķidro ziepju trauks ar turētāju Lounge, hroms. WC-12 | D19: gb | E19: 1
A20: =ROW()-13 -> 7 | C20: Guļošo mazgāšanas telpas sanitārās ierīces
A21: =ROW()-13 -> 8 | C21: Dušas traps 1185 mm: ACO Shower Drain C, vertikāls atloks H92 mm, reste Square Artikuls: 9010.88.09 | D21: gb | E21: 1
A22: =ROW()-13 -> 9 | C22: Izlietnes maisītājs Vernis Blend, bez sajaukšanas, infra-red, tīkla pieslēgums 230 V, hroms Artikuls: HG71501000 | D22: gb | E22: 1
A23: =ROW()-13 -> 10 | C23: Stūra ventilis Comfort, 1/2"x3/8", bez kompresijas uzgriežņa, hroms Artikuls: 52120699 | D23: gb | E23: 2
A24: =ROW()-13 -> 11 | C24: Izlietne Pro S, 600x380 mm, balta un izlietnes stiprinājums 10x120 (2gb.) Artikuls: H8189590001041 | D24: gb | E24: 1
A25: =ROW()-13 -> 12 | C25: Izlietnes sifons Lineis, 1¼ x 32mm, hromēts misiņš Artikuls: 31608002 | D25: gb | E25: 1
A26: =ROW()-13 -> 13 | C26: Izplūse "click clack" izplūse ar pārplūdi Artikuls: S8803AA | D26: gb | E26: 1
A27: =ROW()-13 -> 14 | C27: Dušas stienis Unica Comfort, 1100mm, kreisā puse/labā puse, balts/hroms Artikuls: HG26403400 | D27: gb | E27: 1
A28: =ROW()-13 -> 15 | C28: Dušas maisītājs Focus Care, hroms Artikuls: HG31916000 | D28: gb | E28: 1
A29: =ROW()-13 -> 16 | C29: Rokas duša Pulsify Select 105 1jet Green, hroms Artikuls: HG24121000 | D29: gb | E29: 1
A30: =ROW()-13 -> 17 | C30: Dušas vads Isiflex,1600 mm, hroms Artikuls: HG28276000 | D30: gb | E30: 1
A31: =ROW()-13 -> 18 | C31: Citi darbi
A32: =ROW()-13 -> 19 | C32: Sistēmas regulēšana, pārbaude | D32: kpl | E32: 1
C34: ='1.1 Pamati, ā.inž.'!$C$43 -> Tiešās izmaksas kopā, t. sk. darba devēja sociālais nodoklis | L34: =SUM(L14:L33) -> 0 | M34: =SUM(M14:M33) -> 0 | N34: =SUM(N14:N33) -> 0 | O34: =SUM(O14:O33) -> 0 | P34: =SUM(P14:P33) -> 0
A38: ='1.1 Pamati, ā.inž.'!$A$47 -> Sastādīja:
A42: ='1.1 Pamati, ā.inž.'!$A$51 -> Pārbaudīja:

Sheet 1.10 Kopl.,aprīk
A1: Lokālā tāme Nr.1.10
A2: Koplietošanas telpu aprīkojums
A4: ='1.1 Pamati, ā.inž.'!$A$4 -> Objekta nosaukums: VESELĪBAS UN SOCIĀLĀS APRŪPES CENTRS
A5: ='1.1 Pamati, ā.inž.'!$A$5 -> Būves nosaukums: VESELĪBAS UN SOCIĀLĀS APRŪPES CENTRS
A6: ='1.1 Pamati, ā.inž.'!$A$6 -> Objekta adrese: Liliju iela 109
A7: ='1.1 Pamati, ā.inž.'!$A$7 -> Pasūtījuma Nr.:
A9: ='1.1 Pamati, ā.inž.'!$A$9 -> Tāme sastādīta 2026.gada tirgus cenās | M9: Tāmes izmaksas Euro: | O9: =P37 -> 0
P11: =Kops.1!$I$15 -> Tāme sastādīta [datums]
A12: Nr.p.k. | B12: Kods | C12: Būvdarbu nosaukums | D12: Mērvienība | E12: Daudzums | F12: Vienības izmaksas | L12: Kopā uz visu apjomu
F13: laika norma (c/h) | G13: darba samaksas likme (euro/h) | H13: Darba alga | I13: Būvizstrādājumi | J13: Mehānismi | K13: kopā | L13: darbietilpība (c/h) | M13: Darba alga | N13: Būvizstrādājumi | O13: Mehānismi | P13: summa
C14: Koplietošanas telpas
A15: 1 | C15: HL traps DN40/50 "Primus", 123x123mm Artikuls: HL510NPr | D15: gb | E15: 4
A16: 2 | C16: Izlietnes maisītājs Vernis Blend, bez sajaukšanas, infra-red, tīkla pieslēgums 230 V, hroms Artikuls: HG71501000 | D16: gb | E16: 1
A17: 3 | C17: Stūra ventilis Comfort, 1/2"x3/8", bez kompresijas uzgriežņa, hroms Artikuls: 52120699 | D17: gb | E17: 1
A18: 4 | C18: Izlietne Pro S, 600x380 mm, balta un izlietnes stiprinājums 10x120 (2gb.) Artikuls: H8189590001041 | D18: gb | E18: 1
A19: 5 | C19: Izlietnes sifons Lineis, 1¼ x 32mm, hromēts misiņš Artikuls: 31608002 | D19: gb | E19: 1
A20: 6 | C20: Izplūse "click clack" izplūde ar pārplūdi Artikuls: S8803AA | D20: gb | E20: 1
C21: Koplietošnas sanmezgla sanitārās ierīces
A22: 33 | C22: Izlietnes maisītājs Vernis Blend, bez sajaukšanas, infra-red, tīkla pieslēgums 230 V, hroms Artikuls: HG71501000 | D22: gb | E22: 1
A23: 34 | C23: Stūra ventilis Comfort, 1/2"x3/8", bez kompresijas uzgriežņa, hroms Artikuls: 52120699 | D23: gb | E23: 2
A24: 35 | C24: Izlietne Pro Liberty, 600x550 mm, balta Artikuls: H8119500001041 | D24: gb | E24: 1
A25: 36 | C25: Iebūvējams izlietnes sifons, 1¼ x 50/40, plastmasa, pelēks/balts/hroms un izlietnes stiprinājumi Artikuls: 553753 | D25: gb | E25: 1
A26: 37 | C26: Izplūse "click clack" izplūde ar pārplūdi Artikuls: S8803AA | D26: gb | E26: 1
A27: 38 | C27: Iebūvējamais rāmis podam Duofix Sigma ar papildu elemntiem atbalsta rokturu stiprināšanai, 425/880x170 mm, h=1120 mm Artikuls: 111.375.00.5 | D27: gb | E27: 1
A28: 39 | C28: Geberit tualetes poda vadība ar elektronisku skalošanas aktivizāciju, darbināšana, izmantojot elektrotīklu, divu režīmu skalošana, noskalošanas panelis Sigma10, automātiska/bezkontakta, skrūvējams Artikuls: 115.906.SN.6 | D28: gb | E28: 1
A29: 40 | C29: Pods Pro Liberty Rimless, stiprināms pie 1 sienas, 360x700 mm, pagarināts, balts Artikuls: H8219600000001 | D29: gb | E29: 1
A30: 41 | C30: Poda sēdriņķis ar vāku Pro Liberty, balts Artikuls: H8989503000001 | D30: gb | E30: 1
A31: 42 | C31: Bidette hand shower 1jet S 1 EcoSmart+ for cold water with shower holder and shower hose 125 cm Artikuls: 29230000 | D31: gb | E31: 1
A32: 43 | C32: Single lever shower mixer for concealed installation for iBox universal Artikuls: 29230000 | D32: gb | E32: 1
A33: 44 | C33: iBox, universālais Artikuls: HG01800180 | D33: gb | E33: 1
C34: Revīzijas lūka
A35: 45 | C35: Revīzijas lūka ģipškartona konstrukcijām. Atvēršana ar piespiešanas mehānismu. Durvīs impregnētas ģipškartona plāksne. Lūka paredzēta ar flīžu apdari. Izmēri 200x200mm. SL-1 | D35: gb | E35: 2
C37: ='1.1 Pamati, ā.inž.'!$C$43 -> Tiešās izmaksas kopā, t. sk. darba devēja sociālais nodoklis | L37: =SUM(L14:L36) -> 0 | M37: =SUM(M14:M36) -> 0 | N37: =SUM(N14:N36) -> 0 | O37: =SUM(O14:O36) -> 0 | P37: =SUM(P14:P36) -> 0
A41: ='1.1 Pamati, ā.inž.'!$A$47 -> Sastādīja:
A45: ='1.1 Pamati, ā.inž.'!$A$51 -> Pārbaudīja:

Sheet 1.11 Apr.ārt.
A1: Lokālā tāme Nr.1.11
A2: =Kops.1!C30 -> Aprīkojums ārtelpu
A4: ='1.1 Pamati, ā.inž.'!$A$4 -> Objekta nosaukums: VESELĪBAS UN SOCIĀLĀS APRŪPES CENTRS
A5: ='1.1 Pamati, ā.inž.'!$A$5 -> Būves nosaukums: VESELĪBAS UN SOCIĀLĀS APRŪPES CENTRS
A6: ='1.1 Pamati, ā.inž.'!$A$6 -> Objekta adrese: Liliju iela 109
A7: ='1.1 Pamati, ā.inž.'!$A$7 -> Pasūtījuma Nr.:
A9: ='1.1 Pamati, ā.inž.'!$A$9 -> Tāme sastādīta 2026.gada tirgus cenās | M9: Tāmes izmaksas Euro: | O9: =P17 -> 0
P11: =Kops.1!$I$15 -> Tāme sastādīta [datums]
A12: Nr.p.k. | B12: Kods | C12: Būvdarbu nosaukums | D12: Mērvienība | E12: Daudzums | F12: Vienības izmaksas | L12: Kopā uz visu apjomu
F13: laika norma (c/h) | G13: darba samaksas likme (euro/h) | H13: Darba alga | I13: Būvizstrādājumi | J13: Mehānismi | K13: kopā | L13: darbietilpība (c/h) | M13: Darba alga | N13: Būvizstrādājumi | O13: Mehānismi | P13: summa
A14: =ROW()-13 -> 1 | C14: Inventārs
A15: =ROW()-13 -> 2 | C15: Karogu turētājs | D15: gb | E15: 1
A16: =ROW()-13 -> 3 | C16: Ēkas numuru zīme | D16: gb | E16: 1
C17: ='1.1 Pamati, ā.inž.'!$C$43 -> Tiešās izmaksas kopā, t. sk. darba devēja sociālais nodoklis | L17: =SUM(L14:L16) -> 0 | M17: =SUM(M14:M16) -> 0 | N17: =SUM(N14:N16) -> 0 | O17: =SUM(O14:O16) -> 0 | P17: =SUM(P14:P16) -> 0
A22: ='1.1 Pamati, ā.inž.'!$A$47 -> Sastādīja:
A26: ='1.1 Pamati, ā.inž.'!$A$51 -> Pārbaudīja:

Sheet 1.12 Apkure
A1: Lokālā tāme Nr.1.12
A2: Apkure
A4: ='1.1 Pamati, ā.inž.'!$A$4 -> Objekta nosaukums: VESELĪBAS UN SOCIĀLĀS APRŪPES CENTRS
A5: ='1.1 Pamati, ā.inž.'!$A$5 -> Būves nosaukums: VESELĪBAS UN SOCIĀLĀS APRŪPES CENTRS
A6: ='1.1 Pamati, ā.inž.'!$A$6 -> Objekta adrese: Liliju iela 109
A7: ='1.1 Pamati, ā.inž.'!$A$7 -> Pasūtījuma Nr.:
A9: ='1.1 Pamati, ā.inž.'!$A$9 -> Tāme sastādīta 2026.gada tirgus cenās | O9: Tāmes izmaksas Euro: | Q9: =R64 -> 0
R11: =Kops.1!$I$15 -> Tāme sastādīta [datums]
A12: Nr.p.k. | B12: Kods | C12: Būvdarbu nosaukums | F12: Mērvienība | G12: Daudzums | H12: Vienības izmaksas | N12: Kopā uz visu apjomu
H13: laika norma (c/h) | I13: darba samaksas likme (euro/h) | J13: Darba alga | K13: Būvizstrādājumi | L13: Mehānismi | M13: kopā | N13: darbietilpība (c/h) | O13: Darba alga | P13: Būvizstrādājumi | Q13: Mehānismi | R13: summa
A14: =ROW()-13 -> 1 | C14: Apkure (S1). 1. daļa | M14: =ROUND(J14+K14+L14,2) -> 0 | N14: =ROUND(H14*G14,2) -> 0 | O14: =ROUND(J14*G14,2) -> 0 | P14: =ROUND(K14*G14,2) -> 0 | Q14: =ROUND(L14*G14,2) -> 0 | R14: =ROUND(O14+P14+Q14,2) -> 0
A15: =ROW()-13 -> 2 | C15: Apkures siltumsūkņa ar apsaisti un automātiku montāža, programmēšana | F15: kpl. | G15: 1
A16: =ROW()-13 -> 3 | C16: Radiators "Purmo Compact" ar sienas stiprinājumiem un atgaisošanas skrūvi (ar sānu pieslēgumu) | D16: C22-500-500 | E16: Purmo | F16: kpl. | G16: 1
A17: =ROW()-13 -> 4 | C17: Radiators "Purmo Compact" ar sienas stiprinājumiem un atgaisošanas skrūvi (ar sānu pieslēgumu) | D17: C22-900-700 | E17: Purmo | F17: kpl. | G17: 1
A18: =ROW()-13 -> 5 | C18: Sienas elektriskais sildītājs | D18: 750W, 230V, 50Hz | F18: kpl. | G18: 1
A19: =ROW()-13 -> 6 | C19: Termostatiskais vārsts | D19: V-exact 15 | E19: IMI | F19: gb. | G19: 2
A20: =ROW()-13 -> 7 | C20: Termostatiskais sensors | D20: K 6000-09.500 | E20: IMI | F20: gb. | G20: 2
A21: =ROW()-13 -> 8 | C21: Noslēgvārsts | D21: Regulux 15 | E21: IMI | F21: gb. | G21: 2
A22: =ROW()-13 -> 9 | C22: Lodveida vārsts | D22: DN15 | F22: gb. | G22: 4
A23: =ROW()-13 -> 10 | C23: Lodveida vārsts | D23: DN20 | F23: gb. | G23: 4
A24: =ROW()-13 -> 11 | C24: Lodveida vārsts | D24: DN25 | F24: gb. | G24: 6
A25: =ROW()-13 -> 12 | C25: Lodveida vārsts | D25: DN32 | F25: gb. | G25: 4
A26: =ROW()-13 -> 13 | C26: Balansēšanas vārsts | D26: STAD-15, KVs=2,52 | E26: IMI | F26: gb. | G26: 1
A27: =ROW()-13 -> 14 | C27: Balansēšanas vārsts | D27: STAD-20, KVs=5,70 | E27: IMI | F27: gb. | G27: 3
A28: =ROW()-13 -> 15 | C28: Tērauda caurules "Prestabo" | D28: Ø15 | E28: Viega | F28: m. | G28: 30
A29: =ROW()-13 -> 16 | C29: Tērauda caurules "Prestabo" | D29: Ø22 | E29: Viega | F29: m. | G29: 11
A30: =ROW()-13 -> 17 | C30: Tērauda caurules "Prestabo" | D30: Ø28 | E30: Viega | F30: m. | G30: 52
A31: =ROW()-13 -> 18 | C31: Tērauda ūdens un gāzes caurules | D31: DN32 | F31: m. | G31: 65
A32: =ROW()-13 -> 19 | C32: Siltumizolācija b=20mm Prestabo caurulēm | D32: PHSALCT 18-20 | E32: Paroc | F32: m. | G32: 17
A33: =ROW()-13 -> 20 | C33: Siltumizolācija b=20mm Prestabo caurulēm | D33: PHSALCT 22-20 | E33: Paroc | F33: m. | G33: 11
A34: =ROW()-13 -> 21 | C34: Siltumizolācija b=20mm Prestabo caurulēm | D34: PHSALCT 28-20 | E34: Paroc | F34: m. | G34: 21
A35: =ROW()-13 -> 22 | C35: Siltumizolācija b=20mm tērauda DN32 caurulēm | D35: PHSALCT 42-20 | E35: Paroc | F35: m. | G35: 65
A36: =ROW()-13 -> 23 | C36: Siltumizolācija b=9mm (Tubolit S) | D36: TL-18/9-S | E36: Armacell | F36: m. | G36: 8
A37: =ROW()-13 -> 24 | C37: Siltumizolācija b=9mm (Tubolit S) | D37: TL-28/9-S | E37: Armacell | F37: m. | G37: 30
A38: =ROW()-13 -> 25 | C38: X-Pert S5+ caurule | D38: 17x2,0 | E38: Roth | F38: m. | G38: 1337
A39: =ROW()-13 -> 26 | C39: Stiprinājums PE-caurulēm | D39: 17/20 | E39: Roth | F39: gb. | G39: 3342
A40: =ROW()-13 -> 27 | C40: Siltumizolācijas rullis 20-2 EPS DES 5.0 | D40: 20mm | E40: Roth | F40: m2 | G40: 325
A41: =ROW()-13 -> 28 | C41: Malu izolācijas lente | D41: 160x10mm | E41: Roth | F41: m | G41: 400
A42: =ROW()-13 -> 29 | C42: MS koniskā savienošā uzmava | D42: 17mm | E42: Roth | F42: gb. | G42: 48
A43: =ROW()-13 -> 30 | C43: Kolektors ar patēriņa mērītāju HK3 | D43: Dynacon Eclipse 9340.-03.800 | E43: IMI | F43: kpl. | G43: 1
... A46: =ROW()-13 -> 33 | C46: Caurules novads | D46: 14/17 | E46: Roth | F46: gb. | G46: 48
A47: =ROW()-13 -> 34 | C47: Līmlente | D47: 1135000265 | E47: Roth | F47: gb. | G47: 11
A48: =ROW()-13 -> 35 | C48: Termodeformācijas šuve | D48: L=1,8m | E48: Roth | F48: gb. | G48: 21
A49: =ROW()-13 -> 36 | C49: Plastifikators | D49: ZE20 (20L) | E49: Roth | F49: gb. | G49: 3.5
A50: =ROW()-13 -> 37 | C50: Gofrētas caurules apvalks | D50: 19/25 | E50: Roth | F50: m. | G50: 220
A51: =ROW()-13 -> 38 | C51: Stiprinājums caurulēm tips D | D51: 1135000357 | E51: Roth | F51: gb. | G51: 276
A52: =ROW()-13 -> 39 | C52: Sienas termostats | F52: kpl. | G52: 20
A53: =ROW()-13 -> 40 | C53: Piedziņas mehānisms 24V | E53: Roth | F53: kpl. | G53: 24
A54: =ROW()-13 -> 41 | C54: Automātiskais atgaisotājs | D54: Ø15 | F54: gb. | G54: 14
A55: =ROW()-13 -> 42 | C55: Izlaides ventilis | D55: DN15 | F55: gb. | G55: 6
A56: =ROW()-13 -> 43 | C56: Prestabo cauruļu veidgbali | F56: kpl. | G56: 1
A57: =ROW()-13 -> 44 | C57: Pretkorozijas krāsa | E57: 2x krasošana | F57: kg | G57: 2
A58: =ROW()-13 -> 45 | C58: Cauruļu stiprinājumi | F58: kpl. | G58: 1
A59: =ROW()-13 -> 46 | C59: Elektrokomutācijas materiāli | F59: kpl. | G59: 1
A60: =ROW()-13 -> 47 | C60: Marķēšanas materiāli | F60: kpl. | G60: 1
A61: =ROW()-13 -> 48 | C61: Palīgmateriāli | F61: kpl. | G61: 1
A62: =ROW()-13 -> 49 | C62: Hidrauliskā pārbaude un ieregulēšana | F62: kpl. | G62: 1
C64: Tiešās izmaksas kopā, t. sk. darba devēja sociālais nodoklis | N64: =SUM(N14:N63) -> 0 | O64: =SUM(O14:O63) -> 0 | P64: =SUM(P14:P63) -> 0 | Q64: =SUM(Q14:Q63) -> 0 | R64: =SUM(R14:R63) -> 0
A68: ='1.1 Pamati, ā.inž.'!$A$47 -> Sastādīja:
A72: ='1.1 Pamati, ā.inž.'!$A$51 -> Pārbaudīja:

Sheet 1.13 Vent.
A1: Lokālā tāme Nr.1.13
A2: Ventilācija
A4: ='1.1 Pamati, ā.inž.'!$A$4 -> Objekta nosaukums: VESELĪBAS UN SOCIĀLĀS APRŪPES CENTRS
A5: ='1.1 Pamati, ā.inž.'!$A$5 -> Būves nosaukums: VESELĪBAS UN SOCIĀLĀS APRŪPES CENTRS
A6: ='1.1 Pamati, ā.inž.'!$A$6 -> Objekta adrese: Liliju iela 109
A7: ='1.1 Pamati, ā.inž.'!$A$7 -> Pasūtījuma Nr.:
A9: ='1.1 Pamati, ā.inž.'!$A$9 -> Tāme sastādīta 2026.gada tirgus cenās | O9: Tāmes izmaksas Euro: | Q9: =R69 -> 0
R11: =Kops.1!$I$15 -> Tāme sastādīta [datums]
A12: Nr.p.k. | B12: Kods | C12: Būvdarbu nosaukums | F12: Mērvienība | G12: Daudzums | H12: Vienības izmaksas | N12: Kopā uz visu apjomu
H13: laika norma (c/h) | I13: darba samaksas likme (euro/h) | J13: Darba alga | K13: Būvizstrādājumi | L13: Mehānismi | M13: kopā | N13: darbietilpība (c/h) | O13: Darba alga | P13: Būvizstrādājumi | Q13: Mehānismi | R13: summa
C14: PN1 1. daļa | M14: =ROUND(J14+K14+L14,2) -> 0 | N14: =ROUND(H14*G14,2) -> 0 | O14: =ROUND(J14*G14,2) -> 0 | P14: =ROUND(K14*G14,2) -> 0 | Q14: =ROUND(L14*G14,2) -> 0 | R14: =ROUND(O14+P14+Q14,2) -> 0
A15: 1 | C15: Ventilācijas pieplūdes-nosūces iekārta ar vadības bloku, ar gaisa vārstiem un lokaniem savienojumiem un ventiekārtas rāmi | D15: VERSO-R-1700-UH-HCW-R1-F7/M5-C5-L/A | E15: Komfovent | F15: kpl. | G15: 1
A16: 2 | C16: Āra restes ar rāmi(ieņemšanai) | D16: USS-800x300 | E16: Halton | F16: kpl. | G16: 1
A17: 3 | C17: Āra restes ar rāmi(izmešanai) | D17: USS-400x400 | E17: Halton | F17: kpl. | G17: 1
A18: 4 | C18: Trokšņa slāpētājs | D18: DLD 400 300 650 10 09 | E18: Lindab | F18: gb. | G18: 2
A19: 5 | C19: Trokšņa slāpētājs | D19: SLU 200 1200 50 | E19: Lindab | F19: gb. | G19: 2
A20: 6 | C20: Trokšņa slāpētājs | D20: SLU 250 1200 50 | E20: Lindab | F20: gb. | G20: 2
A21: 7 | C21: Trokšņa slāpētājs | D21: KVAp-100-600-1 | E21: Lindab | F21: gb. | G21: 12
A22: 8 | C22: Trokšņa slāpētājs | D22: SLU 160 600 50 | E22: Lindab | F22: gb. | G22: 1
A23: 9 | C23: Pieplūdes reste ar rāmi | D23: SV2 300x100 | E23: FlaktGroup | F23: kpl. | G23: 6
A24: 10 | C24: Pieplūdes difuzors ar kārbu ar plūsmas regulēšanas funkciju | D24: JDB/P-125(R1)WS=NA+TRH-100 | E24: Halton | F24: kpl. | G24: 1
A25: 11 | C25: Pieplūdes difuzors ar kārbu ar plūsmas regulēšanas funkciju | D25: JDB/P-125(R2)WS=NA+TRH-125 | E25: Halton | F25: kpl. | G25: 1
A26: 12 | C26: Pieplūdes difuzors ar kārbu ar plūsmas regulēšanas funkciju | D26: JDB/P-160(R4)WS=NA+TRH-160 | E26: Halton | F26: kpl. | G26: 3
... A46: 32 | C46: Ugunsdrošības vārsts | D46: CU2 300x300 CFTH | E46: RF-Technologies | F46: kpl. | G46: 1
A47: 33 | C47: Gaisa vadi no cinkotā skārda | D47: Ø100 | F47: m. | G47: 83
A48: 34 | C48: Gaisa vadi no cinkotā skārda | D48: Ø125 | F48: m. | G48: 24
A49: 35 | C49: Gaisa vadi no cinkotā skārda | D49: Ø160 | F49: m. | G49: 19
A50: 36 | C50: Gaisa vadi no cinkotā skārda | D50: Ø200 | F50: m. | G50: 41
A51: 37 | C51: Gaisa vadi no cinkotā skārda | D51: Ø250 | F51: m. | G51: 3
A52: 38 | C52: Gaisa vadi no cinkotā skārda | D52: Ø315 | F52: m. | G52: 6
A53: 39 | C53: Gaisa vadi no cinkotā skārda | D53: 300x100 | F53: m. | G53: 2
A54: 40 | C54: Gaisa vadi no cinkotā skārda | D54: 300x300 | F54: m. | G54: 10
A55: 41 | C55: Gaisa vadi no cinkotā skārda | D55: 400x300 | F55: m. | G55: 5
A56: 42 | C56: Gaisa vadi no cinkotā skārda | D56: 400x400 | F56: m. | G56: 1
A57: 43 | C57: Gaisa vadi no cinkotā skārda | D57: 800x300 | F57: m. | G57: 1
A58: 44 | C58: Siltumizolācija b=32mm | D58: ST AD 32 | E58: K-flex | F58: m2 | G58: 19
A59: 45 | C59: Tīrīšanas lūkas | F59: gb. | G59: 19
A60: 46 | C60: Stiprināšanas materiāli | F60: kpl. | G60: 1
A61: 47 | C61: Blīvēšanas materiāli | F61: kpl. | G61: 1
A62: 48 | C62: Gaisa vadu veidgbali | F62: kpl. | G62: 1
A63: 49 | C63: Marķēšanas materiāli | F63: kpl. | G63: 1
A64: 50 | C64: Palīgmateriāli | F64: kpl. | G64: 1
A65: 51 | C65: Elektrokomutācijas materiāli | F65: kpl. | G65: 1
A66: 52 | C66: Regulēšanas un palaišanas darbi | F66: kpl. | G66: 1
A67: 53 | C67: Ugunsdrošā aizdare ugunsdrošības vārstiem | F67: kpl. | G67: 10
C69: Tiešās izmaksas kopā, t. sk. darba devēja sociālais nodoklis | N69: =SUM(N14:N68) -> 0 | O69: =SUM(O14:O68) -> 0 | P69: =SUM(P14:P68) -> 0 | Q69: =SUM(Q14:Q68) -> 0 | R69: =SUM(R14:R68) -> 0
A73: ='1.1 Pamati, ā.inž.'!$A$47 -> Sastādīja:
A77: ='1.1 Pamati, ā.inž.'!$A$51 -> Pārbaudīja:

Sheet 1.14 Kond.
A1: Lokālā tāme Nr.1.14
A2: Gaisa kondicionēšana
A4: ='1.1 Pamati, ā.inž.'!$A$4 -> Objekta nosaukums: VESELĪBAS UN SOCIĀLĀS APRŪPES CENTRS
A5: ='1.1 Pamati, ā.inž.'!$A$5 -> Būves nosaukums: VESELĪBAS UN SOCIĀLĀS APRŪPES CENTRS
A6: ='1.1 Pamati, ā.inž.'!$A$6 -> Objekta adrese: Liliju iela 109
A7: ='1.1 Pamati, ā.inž.'!$A$7 -> Pasūtījuma Nr.:
A9: ='1.1 Pamati, ā.inž.'!$A$9 -> Tāme sastādīta 2026.gada tirgus cenās | O9: Tāmes izmaksas Euro: | Q9: =R39 -> 0
R11: =Kops.1!$I$15 -> Tāme sastādīta [datums]
A12: Nr.p.k. | B12: Kods | C12: Būvdarbu nosaukums | F12: Mērvienība | G12: Daudzums | H12: Vienības izmaksas | N12: Kopā uz visu apjomu
H13: laika norma (c/h) | I13: darba samaksas likme (euro/h) | J13: Darba alga | K13: Būvizstrādājumi | L13: Mehānismi | M13: kopā | N13: darbietilpība (c/h) | O13: Darba alga | P13: Būvizstrādājumi | Q13: Mehānismi | R13: summa
C14: K1 sistēma (VRF) 1. daļa | M14: =ROUND(J14+K14+L14,2) -> 0 | N14: =ROUND(H14*G14,2) -> 0 | O14: =ROUND(J14*G14,2) -> 0 | P14: =ROUND(K14*G14,2) -> 0 | Q14: =ROUND(L14*G14,2) -> 0 | R14: =ROUND(O14+P14+Q14,2) -> 0
A15: 1 | C15: Ārējais kondicioniera bloks ar stiprinājumiem | D15: FDC280KXZME1 | E15: Mitsubishi heavy | F15: kpl. | G15: 1
A16: 2 | C16: Iekšējais bloks ar kondensāta sūkni un stiprinājumiem | D16: FDUT28KXE6F-E | E16: Mitsubishi heavy | F16: kpl. | G16: 6
A17: 3 | C17: Iekšējais bloks ar kondensāta sūkni un stiprinājumiem | D17: FDTC56KXZE1 | E17: Mitsubishi heavy | F17: kpl. | G17: 2
A18: 4 | C18: Iekšējais bloks ar kondensāta sūkni un stiprinājumiem | D18: FDT36KXE6 | E18: Mitsubishi heavy | F18: kpl. | G18: 1
A19: 5 | C19: Iekšējais bloks ar kondensāta sūkni un stiprinājumiem | D19: FDTC22KXZE1 | E19: Mitsubishi heavy | F19: kpl. | G19: 1
A20: 6 | C20: Panelis | D20: TC-PSA-25W-E | E20: Mitsubishi heavy | F20: kpl. | G20: 1
A21: 7 | C21: Panelis | D21: TC-PSA-5AW-E | E21: Mitsubishi heavy | F21: kpl. | G21: 3
A22: 8 | C22: Vadības pults | D22: RC-EX3A | E22: Mitsubishi heavy | F22: gb. | G22: 9
A23: 9 | C23: Freons | D23: R-410A | F23: kg. | G23: 4.5
A24: 10 | C24: Freona plūsmas sadalītājs | D24: DIS-180-1G | E24: Mitsubishi heavy | F24: gb. | G24: 5
A25: 11 | C25: Freona plūsmas sadalītājs | D25: DIS-22-1G | E25: Mitsubishi heavy | F25: gb. | G25: 4
A26: 12 | C26: Vara dzesēšanas caurules ar izolāciju | D26: 1/4" | F26: m. | G26: 31
A27: 13 | C27: Vara dzesēšanas caurules ar izolāciju | D27: 3/8" | F27: m. | G27: 77
A28: 14 | C28: Vara dzesēšanas caurules ar izolāciju | D28: 1/2" | F28: m. | G28: 14
A29: 15 | C29: Vara dzesēšanas caurules ar izolāciju | D29: 5/8" | F29: m. | G29: 12
A30: 16 | C30: Vara dzesēšanas caurules ar izolāciju | D30: 3/4" | F30: m. | G30: 16
A31: 17 | C31: Vara dzesēšanas caurules ar izolāciju | D31: 7/8" | F31: m. | G31: 7
A32: 18 | C32: Cauruļu stiprinājumi | F32: kpl. | G32: 1
A33: 19 | C33: Vara cauruļu veidgbali | F33: kpl. | G33: 1
A34: 20 | C34: Elektrokomutācijas materiāli | F34: kpl. | G34: 1
A35: 21 | C35: Marķēšanas materiāli | F35: kpl. | G35: 1
A36: 22 | C36: Palīgmateriāli | F36: kpl. | G36: 1
A37: 23 | C37: Palaišanas darbi | F37: kpl. | G37: 1
C39: Tiešās izmaksas kopā, t. sk. darba devēja sociālais nodoklis | N39: =SUM(N14:N38) -> 0 | O39: =SUM(O14:O38) -> 0 | P39: =SUM(P14:P38) -> 0 | Q39: =SUM(Q14:Q38) -> 0 | R39: =SUM(R14:R38) -> 0
A43: ='1.1 Pamati, ā.inž.'!$A$47 -> Sastādīja:
A47: ='1.1 Pamati, ā.inž.'!$A$51 -> Pārbaudīja:

Sheet 1.15 UK
A1: Lokālā tāme Nr.1.15
A2: Ūdensapgāde un kanalizācija
A4: ='1.1 Pamati, ā.inž.'!$A$4 -> Objekta nosaukums: VESELĪBAS UN SOCIĀLĀS APRŪPES CENTRS
A5: ='1.1 Pamati, ā.inž.'!$A$5 -> Būves nosaukums: VESELĪBAS UN SOCIĀLĀS APRŪPES CENTRS
A6: ='1.1 Pamati, ā.inž.'!$A$6 -> Objekta adrese: Liliju iela 109
A7: ='1.1 Pamati, ā.inž.'!$A$7 -> Pasūtījuma Nr.:
A9: ='1.1 Pamati, ā.inž.'!$A$9 -> Tāme sastādīta 2026.gada tirgus cenās | O9: Tāmes izmaksas Euro: | Q9: =R148 -> 0
R11: =Kops.1!$I$15 -> Tāme sastādīta [datums]
A12: Nr.p.k. | B12: Kods | C12: Būvdarbu nosaukums | F12: Mērvienība | G12: Daudzums | H12: Vienības izmaksas | N12: Kopā uz visu apjomu
H13: laika norma (c/h) | I13: darba samaksas likme (euro/h) | J13: Darba alga | K13: Būvizstrādājumi | L13: Mehānismi | M13: kopā | N13: darbietilpība (c/h) | O13: Darba alga | P13: Būvizstrādājumi | Q13: Mehānismi | R13: summa
C14: U1. AUKSTĀ ŪDENSAPGĀDE | M14: =ROUND(J14+K14+L14,2) -> 0 | N14: =ROUND(H14*G14,2) -> 0 | O14: =ROUND(J14*G14,2) -> 0 | P14: =ROUND(K14*G14,2) -> 0 | Q14: =ROUND(L14*G14,2) -> 0 | R14: =ROUND(O14+P14+Q14,2) -> 0
A15: 1 | C15: PE-Xc/Al/PE caurule ar veidgbaliem | D15: OD20x2.25, PN10 (DN15) | E15: "Wavin" vai ekvivalenta | F15: m | G15: 94
A16: 2 | C16: PE-Xc/Al/PE caurule ar veidgbaliem | D16: OD25x2.5, PN10 (DN20) | E16: "Wavin" vai ekvivalenta | F16: m | G16: 41
A17: 3 | C17: PE-Xc/Al/PE caurule ar veidgbaliem | D17: OD32x3.0, PN10 (DN25) | E17: "Wavin" vai ekvivalenta | F17: m | G17: 64
A18: 4 | C18: PE-Xc/Al/PE caurule ar veidgbaliem | D18: OD40x4.0, PN10 (DN32) | E18: "Wavin" vai ekvivalenta | F18: m | G18: 2
A19: 5 | C19: PE-100 ūdensvada caurule ar veidgbaliem | D19: OD40, PN10 | E19: ievads | F19: m | G19: 1
A20: 6 | C20: Lodveida ventilis | D20: DN15, PN10 | F20: gb | G20: 7
A21: 7 | C21: Lodveida ventilis | D21: DN20, PN10 | F21: gb | G21: 11
A22: 8 | C22: Lodveida ventilis | D22: DN25, PN10 | F22: gb | G22: 9
A23: 9 | C23: Lodveida ventilis | D23: DN32, PN10 | E23: uz ievada | F23: gb | G23: 1
A24: 10 | C24: Pretvārsts | D24: DN20, PN10 | F24: gb | G24: 7
A25: 11 | C25: Lokanais savienojums, L=500 | D25: DN15 | F25: gb | G25: 17
A26: 12 | C26: Krāns trauku mazgājamai mašīnai | D26: DN15 | F26: gb | G26: 2
A27: 13 | C27: Krāns veļas mazgājamai mašīnai | D27: DN15 | F27: gb | G27: 2
A28: 14 | C28: Laistāmais krāns, neaizsalstošs (iestrādei fasādē) | D28: DN15 | E28: Oras vai ekvivalents | F28: kpl | G28: 4
A29: 15 | C29: Pieslēgums klozetpoda skalojamajai kastei | F29: gb | G29: 7
A30: 16 | C30: Pieslēgums roku mazgatnes jaucējkrānam | F30: gb | G30: 9
A31: 17 | C31: Pieslēgums trauku mazgātnes jaucējkrānam | F31: gb | G31: 1
A32: 18 | C32: Pieslēgums dušai | F32: gb | G32: 7
A33: 19 | C33: Cauruļu izolācija "Tubolit S Plus" | D33: caurulei OD20, b=6mm | E33: grīdā, vai ekvivalenta | F33: m | G33: 15
A34: 20 | C34: Cauruļu izolācija "Tubolit DG" | D34: caurulei OD20, b=13mm | E34: vai ekvivalenta | F34: m | G34: 79
A35: 21 | C35: Cauruļu izolācija "Tubolit DG" | D35: caurulei OD25, b=13mm | E35: vai ekvivalenta | F35: m | G35: 41
A36: 22 | C36: Cauruļu izolācija "Tubolit DG" | D36: caurulei OD32, b=13mm | E36: vai ekvivalenta | F36: m | G36: 64
A37: 23 | C37: Cauruļu izolācija "Tubolit DG" | D37: caurulei OD40, b=13mm | E37: vai ekvivalenta | F37: m | G37: 2
A38: 24 | C38: Ugunsdrošais blīvējums/manžete | D38: OD20-OD32 | E38: Atbilstoši ugunsdrošības klasei un Pielikumam Nr. 1 un Nr.2 | F38: vietas | G38: 6
A39: 25 | C39: Cauruļvadu un veidgbalu stiprinājumi | E39: atbilstoši ražotāja norādījumiem | F39: kpl | G39: 1
A40: 26 | C40: Tīklu skalošana, dezinfekcija, hidrauliskā parbaude | F40: m | G40: 201
C41: KOMERCUZSKAITES MĒRAPARĀTA MEZGLS:
A42: 27 | C42: Aukstā ūdens skaitītājs, ar iespēju pievienot impulsu devēju | D42: 15 | E42: Zenner | F42: gb | G42: 1
A43: 28 | C43: Tērauda cauruļvads | D43: 15 | F43: m | G43: 1
A44: 29 | C44: Lodveida ventilis | D44: DN15 | F44: gb | G44: 2
A45: 30 | C45: Diametru pāreja | D45: DN32/15 | F45: gb | G45: 2
A46: 31 | C46: Mehāniskais filtrs | D46: DN15 | F46: gb | G46: 1
A47: 32 | C47: Tukšošanas ventilis | D47: DN15 | F47: gb | G47: 1
A48: 33 | C48: Līkums, 90° | D48: DN32 | F48: gb | G48: 1
A49: 34 | C49: Manometrs P=0÷10 kgc/cm² | F49: gb | G49: 1
A50: 35 | C50: Pāreja PE/met | D50: OD40/DN32 | F50: gb | G50: 1
A51: 36 | C51: MĒRAPARĀTA MEZGLS DZĪVOKLIS NR.1
A52: 37 | C52: Aukstā ūdens skaitītājs, ar iespēju pievienot impulsu devēju | D52: 15 | E52: Zenner | F52: gb | G52: 1
A53: 38 | C53: Tērauda cauruļvads | D53: 15 | F53: m | G53: 1
A54: 39 | C54: Lodveida ventilis | D54: DN15 | F54: gb | G54: 2
A55: 40 | C55: Diametru pāreja | D55: DN25/15 | F55: gb | G55: 2
A56: 41 | C56: Mehāniskais filtrs | D56: DN15 | F56: gb | G56: 1
A57: 42 | C57: Manometrs P=0÷10 kgc/cm² | F57: gb | G57: 1
C58: S3. KARSTĀ ŪDENSAPGĀDE
A59: 43 | C59: PE-Xc/Al/PE caurule ar veidgbaliem | D59: OD20x2.25, PN10 (DN15) | E59: "Wavin" vai ekvivalenta | F59: m | G59: 76
A60: 44 | C60: PE-Xc/Al/PE caurule ar veidgbaliem | D60: OD25x2.5, PN10 (DN20) | E60: "Wavin" vai ekvivalenta | F60: m | G60: 62
A61: 45 | C61: PE-Xc/Al/PE caurule ar veidgbaliem | D61: OD32x3.0, PN10 (DN25) | E61: "Wavin" vai ekvivalenta | F61: m | G61: 5
A62: 46 | C62: Lodveida ventilis | D62: DN15, PN10 | F62: gb | G62: 2
A63: 47 | C63: Lodveida ventilis | D63: DN20, PN10 | F63: gb | G63: 14
A64: 48 | C64: Lodveida ventilis | D64: DN25, PN10 | F64: gb | G64: 2
A65: 49 | C65: Pretvārsts | D65: DN20, PN10 | F65: gb | G65: 7
A66: 50 | C66: Pretvārsts | D66: DN25, PN10 | E66: siltummezgla | F66: gb | G66: 1
A67: 51 | C67: Termojaucējvārsts | D67: DN20, PN10 | F67: gb | G67: 7
A68: 52 | C68: Lokanais savienojums, L=500 | D68: DN15 | F68: gb | G68: 10
A69: 53 | C69: Pieslēgums roku mazgatnes jaucējkrānam | F69: gb | G69: 9
A70: 54 | C70: Pieslēgums trauku mazgātnes jaucējkrānam | F70: gb | G70: 1
A71: 55 | C71: Cauruļu izolācija "Tubolit DG" | D71: caurulei OD20, b=9mm | E71: grīdā, vai ekvivalenta | F71: m | G71: 15
A72: 56 | C72: Cauruļu izolācija "Tubolit DG" | D72: caurulei OD20, b=20mm | E72: vai ekvivalenta | F72: m | G72: 61
A73: 57 | C73: Cauruļu izolācija "Tubolit DG" | D73: caurulei OD25, b=20mm | E73: vai ekvivalenta | F73: m | G73: 62
A74: 58 | C74: Cauruļu izolācija "Tubolit DG" | D74: caurulei OD32, b=30mm | E74: vai ekvivalenta | F74: m | G74: 5
A75: 59 | C75: Ugunsdrošais blīvējums/manžete | D75: caurulei OD20-OD32 | E75: Atbilstoši ugunsdrošības klasei un Pielikumam Nr. 1 un Nr.2 | F75: vietas | G75: 3
A76: 60 | C76: Cauruļu un veidgbalu stiprinājumi | E76: atbilstoši ražotāja norādījumiem | F76: kpl | G76: 1
A77: 61 | C77: Tīklu skalošana, dezinfekcija, hidrauliska parbaude | F77: m | G77: 143
C78: MĒRAPARĀTA MEZGLS IEEJAS BLOKĀ
A79: 62 | C79: Karstā ūdens skaitītājs, ar iespēju pievienot impulsu devēju | D79: 15 | E79: Zenner | F79: gb | G79: 1
A80: 63 | C80: Tērauda cauruļvads | D80: 15 | F80: m | G80: 1
A81: 64 | C81: Lodveida ventilis | D81: DN15 | F81: gb | G81: 2
A82: 65 | C82: Mehāniskais filtrs | D82: DN15 | F82: gb | G82: 1
A83: 66 | C83: Manometrs P=0÷10 kgc/cm² | F83: gb | G83: 1
A84: 67 | C84: MĒRAPARĀTA MEZGLS DZĪVOKLIS NR.1
A85: 68 | C85: Karstā ūdens skaitītājs, ar iespēju pievienot impulsu devēju | D85: 15 | E85: Zenner | F85: gb | G85: 1
A86: 69 | C86: Tērauda cauruļvads | D86: 15 | F86: m | G86: 1
A87: 70 | C87: Lodveida ventilis | D87: DN15 | F87: gb | G87: 2
A88: 71 | C88: Diametru pāreja | D88: DN25/15 | F88: gb | G88: 2
A89: 72 | C89: Mehāniskais filtrs | D89: DN15 | F89: gb | G89: 1
A90: 73 | C90: Manometrs P=0÷10 kgc/cm² | F90: gb | G90: 1
C91: S4. CIRKULĀCIJAS ŪDENSAPGĀDE
A92: 74 | C92: PE-Xc/Al/PE caurule ar veidgbaliem | D92: OD20x2.25, PN10 (DN15) | E92: "Wavin" vai ekvivalenta | F92: m | G92: 50
A93: 75 | C93: PE-Xc/Al/PE caurule ar veidgbaliem | D93: OD25x2.5, PN10 (DN20) | E93: "Wavin" vai ekvivalenta | F93: m | G93: 1
A94: 76 | C94: Lodveida ventilis | D94: DN15, PN10 | F94: gb | G94: 3
A95: 77 | C95: Lodveida ventilis | D95: DN20, PN10 | F95: gb | G95: 1
A96: 78 | C96: Balansējošais vārsts | D96: DN15, PN10 | E96: Danfos MTCV | F96: gb | G96: 3
A97: 79 | C97: Pretvārsts | D97: DN20, PN10 | E97: siltummezgla | F97: gb | G97: 1
A98: 80 | C98: Cauruļu izolācija "Tubolit DG" | D98: caurulei OD20, b=20mm | E98: vai ekvivalenta | F98: m | G98: 50
A99: 81 | C99: Cauruļu izolācija "Tubolit DG" | D99: caurulei OD25, b=20mm | E99: vai ekvivalenta | F99: m | G99: 1
A100: 82 | C100: Ugunsdrošais blīvējums/manžete | D100: OD20-OD25 | E100: Atbilstoši ugunsdrošības klasei un Pielikumam Nr. 1 un Nr.2 | F100: vietas | G100: 2
A101: 83 | C101: Cauruļu un veidgbalu stiprinājumi | E101: atbilstoši ražotāja norādījumiem | F101: kpl | G101: 1
A102: 84 | C102: Tīklu skalošana, dezinfekcija, hidrauliska parbaude | F102: m | G102: 51
C103: S5. SILTĀ ŪDENS SISTĒMA
...

Sheet 1.16 EL
A1: Lokālā tāme Nr.1.16
A2: Elektroapgāde
A4: ='1.1 Pamati, ā.inž.'!$A$4 -> Objekta nosaukums: VESELĪBAS UN SOCIĀLĀS APRŪPES CENTRS
A5: ='1.1 Pamati, ā.inž.'!$A$5 -> Būves nosaukums: VESELĪBAS UN SOCIĀLĀS APRŪPES CENTRS
A6: ='1.1 Pamati, ā.inž.'!$A$6 -> Objekta adrese: Liliju iela 109
A7: ='1.1 Pamati, ā.inž.'!$A$7 -> Pasūtījuma Nr.:
A9: ='1.1 Pamati, ā.inž.'!$A$9 -> Tāme sastādīta 2026.gada tirgus cenās | M9: Tāmes izmaksas Euro: | O9: =P101 -> 0
P11: =Kops.1!$I$15 -> Tāme sastādīta [datums]
A12: Nr.p.k. | B12: Kods | C12: Būvdarbu nosaukums | D12: Mērvienība | E12: Daudzums | F12: Vienības izmaksas | L12: Kopā uz visu apjomu
F13: laika norma (c/h) | G13: darba samaksas likme (euro/h) | H13: Darba alga | I13: Būvizstrādājumi | J13: Mehānismi | K13: kopā | L13: darbietilpība (c/h) | M13: Darba alga | N13: Būvizstrādājumi | O13: Mehānismi | P13: summa
C14: Sadalnes | K14: =ROUND(H14+I14+J14,2) -> 0 | L14: =ROUND(F14*E14,2) -> 0 | M14: =ROUND(H14*E14,2) -> 0 | N14: =ROUND(I14*E14,2) -> 0 | O14: =ROUND(J14*E14,2) -> 0 | P14: =ROUND(M14+N14+O14,2) -> 0
A15: 1 | C15: Sadalne GS, v/a; metāla korpuss, slēdzams; 30% brīvvietu perspektīvām slodzēm; PVC sadalnes panelis, pārspriegumaizsardzība; ievadaparāts, automātslēdži, zemēšanas (PE) un neitrāles (N) kopnei visā tās platumā bez urbumiem. skat. EL-05 | D15: gb. | E15: 1
A16: 2 | C16: Sadales panelis SS-1 ,v/a1; 30% brīvvietu perspektīvām slodzēm; PVC sadalnes panelis, pārspriegumaizsardzība; ievadaparāts, automātslēdži, zemēšanas (PE) un neitrāles (N) kopnei visā tās platumā bez urbumiem. skat. EL-12 | D16: gb. | E16: 1
A17: 3 | C17: UPS 400V, 1.2kW, 2.0kVA, 30min | D17: kpl. | E17: 1
A18: 4 | C18: Palīgmateriāli | D18: kpl. | E18: 1
C19: Kabeļi, aizsargcaurules materiāli.
A20: 5 | C20: Kabelis ar vara dzīslām 2x1.5mm² | D20: m | E20: 100
A21: 6 | C21: Kabelis ar vara dzīslām 3x1.5mm² | D21: m | E21: 1200
A22: 7 | C22: Kabelis ar vara dzīslām, montāžai ārā (piem., NYY-J) 3x1.5mm² | D22: m | E22: 80
A23: 8 | C23: Kabelis ar vara dzīslām 3x2.5mm² | D23: m | E23: 2000
A24: 9 | C24: Kabelis ar vara dzīslām, montāžai ārā (piem., NYY-J) 3x2.5mm² | D24: m | E24: 150
A25: 10 | C25: Kabelis ar vara dzīslām 4x1.5mm² | D25: m | E25: 130
A26: 11 | C26: Kabelis ar vara dzīslām 5x2.5mm² (atkarīgs no apkures veida) | D26: m | E26: 120
A27: 12 | C27: Kabelis ar vara dzīslām, montāžai ārā 5x2.5mm² | D27: m | E27: 40
A28: 13 | C28: Kabelis ar vara dzīslām 5x10mm² | D28: m | E28: 15
A29: 14 | C29: Ugunsdrošs kabelis (N)HXH FE 180/E60 3x1.5 | D29: m | E29: 150
A30: 15 | C30: Ugunsdrošs kabelis (N)HXH FE 180/E60 2x1.5 | D30: m | E30: 60
A31: 16 | C31: Caurule PVH d20mm, Cauruļu daudzumu papildus precizēt montāžas laikā | D31: m | E31: 1210
... A37: 22 | C37: Ugunsdrošais aizpildījums | D37: obj. | E37: 1
C38: Instalācijas materiāli
A39: 23 | C39: Zem apmetuma slēdzis (10A, 230V, IP-20), kplektā - slēdža mehānisms ar taustiņu un rāmi, montāžas kārbu | D39: gb. | E39: 11
A40: 24 | C40: Zem apmetuma slēdzis (10A, 230V, IP-44), kplektā - slēdža mehānisms ar taustiņu un rāmi, montāžas kārbu | D40: gb. | E40: 7
A41: 25 | C41: Zem apmetuma divtaustiņu slēdzis (10A, 230V,IP-20), kplektā - slēdža mehānisms ar taustiņiem un rāmi, montāžas kārbu | D41: gb. | E41: 2
A42: 26 | C42: Zem apmetuma divtaustiņu slēdzis (10A, 230V,IP-44), kplektā - slēdža mehānisms ar taustiņiem un rāmi, montāžas kārbu | D42: gb. | E42: 1
A43: 27 | C43: Zem apmetuma pārslēdzis (10A, 230V, IP-20), kplektā - pārslēdzēja mehānisms ar taustiņu un rāmi, montāžas kārbu | D43: gb. | E43: 14
A44: 28 | C44: Zem apmetuma krustslēdzis (10A, 230V, IP-20), kplektā - pārslēdzēja mehānisms ar taustiņu un rāmi, montāžas kārbu | D44: gb. | E44: 1
A45: 29 | C45: Dimmeris, 10A, 230V, IP20, kplektā - pārslēdzēja mehānisms ar taustiņu un rāmi, montāžas kārbu | D45: gb. | E45: 11
A46: 30 | C46: Divtaustiņu tasterslēdzis, kplektā - pārslēdzēja mehānisms ar taustiņu un rāmi, padziļināto montāžas kārbu | D46: gb. | E46: 1
A47: 31 | C47: Krēslas sensors | D47: gb. | E47: 1
A48: 32 | C48: Klātbūtnes/apgaismojuma līmeņa viedais sesnsors (Dali), Zublin Swiss Garde 360 master (gaitenim) | D48: gb. | E48: 1
A49: 33 | C49: Ieslēgšanas/izslēgšanas poga | D49: gb. | E49: 1
A50: 34 | C50: Klātbūtnes sensors sanitārajiem mezgliem | D50: gb. | E50: 6
A51: 35 | C51: Palīgmateriāli. Saskaņā ar montāžu darbu raksturojumu un apjomu | D51: obj. | E51: 1
C52: Rozetes
A53: 36 | C53: Rozete ar zemēšanas kontaktu, zem apmetuma, kplektā - montāžas kārba un rozešu mehānisms,rāmis 230V, 16A, IP20 | D53: gb. | E53: 168
A54: 37 | C54: Rozete ar zemēšanas kontaktu, zem apmetuma, kplektā - montāžas kārba un rozešu mehānisms,rāmis 230V, 16A, IP44 | D54: gb. | E54: 21
A55: 38 | C55: Rozete ar zemēšanas kontaktu, virsapmetuma, kplektā - montāžas kārba un rozešu mehānisms,rāmis 230V, 16A, IP65, montāžai uz fasādes | D55: gb. | E55: 4
A56: 39 | C56: Palīgmateriāliu | D56: obj. | E56: 1
A57: 40 | C57: Spēka izvads | D57: gb. | E57: 42
C58: Apgaismojuma armatūra
A59: 41 | C59: Izvads gaismekļiem | D59: gb. | E59: 1
A60: 42 | C60: Avārijas apg. gaismeklis, TM Technologie ONTEC W1 (ar asimetrisku gaismas plūsmu UATS pogu izgaismošanai), ar 1h ak. bat., IP20 | D60: gb. | E60: 3
A61: 43 | C61: Avārijas apg. gaismeklis, TM Technologie ONTEC R C1 (gaismas plūsma paredzēta gaitenim), ar 1h ak. bat., IP20 | D61: gb. | E61: 2
A62: 44 | C62: Avārijas apg. gaismeklis, TM Technologie ONTEC R M1 (simetriska gaismas plūsma, paredzēts istabiņām), ar 1h ak. bat., IP20 | D62: gb. | E62: 6
A63: 45 | C63: Evakuācijas apg. gaismeklis, TM Technologie ONTEC "Izeja", ar 1h ak. bat., IP20 | D63: gb. | E63: 2
A64: 46 | C64: Gaismeklis IntraLighting 5700, 25W, 830, FO, L1277mm, IP66, 3700lm, v/a | D64: gb. | E64: 6
A65: 47 | C65: Gaismeklis IntraLighting Atos RVS 42F, 4W, 830, IP44, 560lm, 62 grādi gaismas izkliede (iebūvēts) | D65: gb. | E65: 36
A66: 48 | C66: Gaismeklis IntraLighting Pipes T 45 (XS) deco, 10W, 930, IP20, 740lm, 30 grādi gaismas izkliede, dimmējamas (uz sliedēm) | D66: gb. | E66: 55
A67: 49 | C67: Sliedes gaismekļiem l=6,25m (Stucchi intrack, L veida) | D67: gb. | E67: 1
A68: 50 | C68: Sliedes gaismekļiem l=4.1m (Stucchi intrack, L veida) | D68: gb. | E68: 1
A69: 51 | C69: Sliedes gaismekļiem l=4.0m (Stucchi intrack) | D69: gb. | E69: 6
A70: 52 | C70: Sliedes gaismekļiem l=2.8m (Stucchi intrack) | D70: gb. | E70: 6
... A81: 63 | C81: Palīgmateriāli | D81: obj. | E81: 1
C82: KABEĻU KONSTRUKCIJAS
A83: 64 | C83: Kabeļu trepe 60x300mm, ar stiprinājumiem, savienojuma, pagrieziena elementiem | D83: m | E83: 9
A84: 65 | C84: Kabeļu trepe 60x200mm, ar stiprinājumiem, savienojuma, pagrieziena elementiem | D84: m | E84: 40
A85: 66 | C85: Kabeļu stiprinājumi | D85: obj. | E85: 1
C86: ZIBENSAIZSARDZĪBA
A87: 67 | C87: Alumīnija apaļvads RD 8, montāžai uz jumta OBO Bettermann | D87: m | E87: 190
A88: 68 | C88: Alumīnija apaļvads RD 8 PVC apvalkā, montāžai pa fasādi | D88: m | E88: 49
A89: 69 | C89: Vario ātrais savienotājs | D89: gb. | E89: 15
A90: 70 | C90: Stiepes deformācijas detaļa/ kompensators | D90: gb. | E90: 14
A91: 71 | C91: Atdalītājs slēgts RD8-10x16mm | D91: gb. | E91: 7
A92: 72 | C92: Universāls vadu turētājs jumtam M8 Rd 8-10mm | D92: gb. | E92: 180
A93: 73 | C93: Universāls vadu turētājs sienai M8 Rd 8-10mm | D93: gb. | E93: 98
A94: 74 | C94: Numura plāksne Rd8-10mm 311 N-ALU 8-10 | D94: gb. | E94: 7
A95: 75 | C95: Universāls atdalītājs FT 226 Rd 8-10/FL30 x 16 mm | D95: gb. | E95: 7
A96: 76 | C96: Mērījumu klemme Rd8-10mm | D96: gb. | E96: 7
A97: 77 | C97: Apaļvads PVC apvalka RD 10-PVC | D97: m | E97: 14
C98: CITI DARBI
A99: =A97+1 -> 78 | C99: Elektromērījumi, kontrolpārbaude | D99: kpl. | E99: 1
C101: ='1.1 Pamati, ā.inž.'!$C$43 -> Tiešās izmaksas kopā, t. sk. darba devēja sociālais nodoklis | L101: =SUM(L14:L100) -> 0 | M101: =SUM(M14:M100) -> 0 | N101: =SUM(N14:N100) -> 0 | O101: =SUM(O14:O100) -> 0 | P101: =SUM(P14:P100) -> 0
A105: ='1.1 Pamati, ā.inž.'!$A$47 -> Sastādīja:
A109: ='1.1 Pamati, ā.inž.'!$A$51 -> Pārbaudīja:

Sheet 1.17 ESS
A1: Lokālā tāme Nr.1.17
A2: Elektronisko sakaru sistēmas
A4: ='1.1 Pamati, ā.inž.'!$A$4 -> Objekta nosaukums: VESELĪBAS UN SOCIĀLĀS APRŪPES CENTRS
A5: ='1.1 Pamati, ā.inž.'!$A$5 -> Būves nosaukums: VESELĪBAS UN SOCIĀLĀS APRŪPES CENTRS
A6: ='1.1 Pamati, ā.inž.'!$A$6 -> Objekta adrese: Liliju iela 109
A7: ='1.1 Pamati, ā.inž.'!$A$7 -> Pasūtījuma Nr.:
A9: ='1.1 Pamati, ā.inž.'!$A$9 -> Tāme sastādīta 2026.gada tirgus cenās | O9: Tāmes izmaksas Euro: | Q9: =R98 -> 0
R11: =Kops.1!$I$15 -> Tāme sastādīta [datums]
A12: Nr.p.k. | B12: Kods | C12: Būvdarbu nosaukums | F12: Mērvienība | G12: Daudzums | H12: Vienības izmaksas | N12: Kopā uz visu apjomu
H13: laika norma (c/h) | I13: darba samaksas likme (euro/h) | J13: Darba alga | K13: Būvizstrādājumi | L13: Mehānismi | M13: kopā | N13: darbietilpība (c/h) | O13: Darba alga | P13: Būvizstrādājumi | Q13: Mehānismi | R13: summa
A14: =ROW()-13 -> 1 | C14: PIEKĻUVES KONTROLE UN APARDZES SISTĒMA
A15: =ROW()-13 -> 2 | C15: IEKĀRTAS
A16: =ROW()-13 -> 3 | C16: Sistēmas kontrolieris INTG-996001EUPS ar LAN moduli, barošanas bloku 8A un kārbu ar vienu 18Ah akumulatoru | D16: INTG-996001EUPS vai analogs | F16: kpl. | G16: 1
A17: =ROW()-13 -> 4 | C17: Montāžas kārba Small ar barošanas bloku uz 3A un vietu priekš 1x9Ah akumulatoram un 3 moduļiem | D17: 995200PEEU3 vai analogs | F17: kpl. | G17: 2
A18: =ROW()-13 -> 5 | C18: Piekļuves kontroles durvju paplašinātājs uz 2 durvīm un 2 nolasītajiem | D18: 996012PCB&K vai analogs | F18: kpl. | G18: 6
A19: =ROW()-13 -> 6 | C19: Akumulators | D19: 9Ah/12VDC | F19: kpl. | G19: 2
A20: =ROW()-13 -> 7 | C20: Akumulators | D20: 18Ah/12VDC | F20: kpl. | G20: 1
A21: =ROW()-13 -> 8 | C21: Kodu nolasītājs | D21: AY-K6255 vai analogs | F21: gb. | G21: 10
A22: =ROW()-13 -> 9 | C22: Proximity kartes | E22: Daudzumu precizēt ar pasūtītāju | F22: gb. | G22: 60
A23: =ROW()-13 -> 10 | C23: Durvju magnētiskais stāvokļa kontakts piekļuves kontroles sistēmai// IP68, 1.2 x 1.18 x 4.28, iebūvējams durvīs | D23: SP-MCB3-FP110 vai analogs | E23: Precizēt ar durvju specifikāciju | F23: kpl. | G23: 11
A24: =ROW()-13 -> 11 | C24: Elektromagnētiskā solenoīda slēdzene EL560/EL561/sertificēta evakuācijas saskaņā ar EN179 un EN1125, iekšējais rokturis vienmēr atslēdz slēdzeni | D24: EL560/EL561 vai analogs | F24: kpl. | G24: 8
A25: =ROW()-13 -> 12 | C25: Durvju pārrejas | F25: kpl. | G25: 8
A26: =ROW()-13 -> 13 | C26: Programmnodrošinājums licenses un ražotāju atbalsts uz 3 gādiem | D26: Inner Range Integriti vai analogs | F26: kpl. | G26: 1
A27: =ROW()-13 -> 14 | C27: KABEĻI UN MONTĀŽAS PALĪGMATERIĀLI
A28: =ROW()-13 -> 15 | C28: Iekštelpu kabelis datu tīkla CAT6 4x2x0.5, ekranēts | D28: CAT5e 4x2x0.5 | E28: skatīt 6. piezīmi | F28: m | G28: 390
A29: =ROW()-13 -> 16 | C29: Apsardzes signalizācijas moduļu tīkls 4x0,22 | D29: 4x0,22 | E29: skatīt 6. piezīmi | F29: m | G29: 350
A30: =ROW()-13 -> 17 | C30: Caurules 16...32mm | E30: skatīt 6. piezīmi | F30: m | G30: 250
A31: =ROW()-13 -> 18 | C31: Cauruļu stiprinājumi un līkumi | F31: kpl. | G31: 1
A32: =ROW()-13 -> 19 | C32: Caurules 50mm | E32: skatīt 6. piezīmi | F32: m | G32: 10
A33: =ROW()-13 -> 20 | C33: Cauruļu stiprinājumi un līkumi | F33: kpl. | G33: 1
A34: =ROW()-13 -> 21 | C34: Nozarkārbas | F34: kpl. | G34: 1
A35: =ROW()-13 -> 22 | C35: Ugunsdrošā aizpildījuma/blīvējuma kplekts | F35: kpl. | G35: 1
A36: =ROW()-13 -> 23 | C36: Marķēšanas materiāli | F36: kpl. | G36: 1
A37: =ROW()-13 -> 24 | C37: Palīgmateriāli (skrūves, skavas, un citi montāžai nepieciešamie izstrādājumi) | F37: kpl. | G37: 1
A38: =ROW()-13 -> 25 | C38: Personāla apmācība | F38: kpl. | G38: 1
A39: =ROW()-13 -> 26 | C39: DOMOFONA SISTĒMAI
A40: =ROW()-13 -> 27 | C40: IEKĀRTAS
A41: =ROW()-13 -> 28 | C41: Ārtelpu domofona stacija IP audio/video, divas abonomentu pogas, IP65, IK08, IEEE802.3af, standard PoE, 174 mm × 91 mm × 29 mm, 2 MP HD camera | D41: DS-KV8213-WME1 | F41: kpl. | G41: 2
A42: =ROW()-13 -> 29 | C42: Iekšējā domofona stacija, 187 mm × 137 mm × 25.7 mm, TCP/IP, SIP, RTSP, standard PoE, IEEE 802.3af | D42: DS-KH9310-WTE1 | F42: kpl. | G42: 1
A43: =ROW()-13 -> 30 | C43: KABEĻI UN MONTĀŽAS PALĪGMATERIĀLI
A44: =ROW()-13 -> 31 | C44: Iekštelpu kabelis datu tīkla CAT6 4x2x0.5, ekranēts | D44: CAT5e 4x2x0.5 | E44: skatīt 6. piezīmi | F44: m | G44: 210
A45: =ROW()-13 -> 32 | C45: Caurules 16...32mm | E45: skatīt 6. piezīmi | F45: m | G45: 70
A46: =ROW()-13 -> 33 | C46: Cauruļu stiprinājumi un līkumi | F46: kpl. | G46: 1
A47: =ROW()-13 -> 34 | C47: Ugunsdrošā aizpildījuma/blīvējuma kplekts | F47: kpl. | G47: 1
A48: =ROW()-13 -> 35 | C48: Marķēšanas materiāli | F48: kpl. | G48: 1
A49: =ROW()-13 -> 36 | C49: Palīgmateriāli (skrūves, skavas, un citi montāžai nepieciešamie izstrādājumi) | F49: kpl. | G49: 1
A50: =ROW()-13 -> 37 | C50: Personāla apmācība | F50: kpl. | G50: 1
A51: =ROW()-13 -> 38 | C51: Programēšanas darbi un programmatūra | F51: kpl. | G51: 1
A52: =ROW()-13 -> 39 | C52: VIDEONOVĒROŠANAS SISTĒMA
A53: =ROW()-13 -> 40 | C53: IEKĀRTAS
A54: =ROW()-13 -> 41 | C54: Ārtelpu videokamera 4MP, TCP/IP, ICMP, HTTP, HTTPS, FTP, DHCP, DNS, DDNS, RTP, RTSP, NTP, UPnP, SMTP, IGMP, 802.1X, QoS, IPv6, UDP, Bonjour, SSL/TLS, IP67, IK10 un stiprinājumi pie ēkas fasādes | D54: HikVision DS-2CD2646G2-IZS 2.8mm-12mm | F54: kpl. | G54: 7
A55: =ROW()-13 -> 42 | C55: MicroSDHC atmiņas karte 64GB WD Purple, Western Digital | D55: WDD64G1P0A | F55: gb | G55: 7
A56: =ROW()-13 -> 43 | C56: RJ45 spraudņi CAT5e | F56: gb | G56: 7
A57: =ROW()-13 -> 44 | C57: PoE pārsprieguma aizsardzībai/ 30 mm (W) x 30 mm (H) x 190 mm (L), Shielded RJ-45, 10/100/1000 Mbps, IP66 | D57: PD-OUT/SP11 | F57: kpl. | G57: 7
A58: =ROW()-13 -> 45 | C58: Videosistēmas ierakstu iekārta, 12 MP/8 MP/6 MP/5 MP/4 MP/3 MP/1080p/UXGA/720p/VGA /4CIF/DCIF/ 2CIF/CIF/QCI, 8TB 2 SATA | D58: 16 Channel NVR HikVision DS-7616NI-I2 | F58: kpl. | G58: 1
A59: =ROW()-13 -> 46 | C59: Cietais disks 8TB, Western Digital Purple Series 8TB 5400RPM SATAIII 128MB | D59: WD84PURZ | F59: kpl. | G59: 2
A60: =ROW()-13 -> 47 | C60: KABEĻI UN MONTĀŽAS PALĪGMATERIĀLI
A61: =ROW()-13 -> 48 | C61: Iekštelpu kabelis datu tīkla CAT5e 4x2x0.5, ekranēts | D61: CAT52 4x2x0,5 | E61: skatīt 6. piezīmi | F61: m | G61: 470
A62: =ROW()-13 -> 49 | C62: Kabelis H07Y-K1x6 (zemēšanai) | D62: H07Y-K1x6 | E62: skatīt 6. piezīmi | F62: m | G62: 250
A63: =ROW()-13 -> 50 | C63: Caurules 16...32mm | D63: 16...32mm | E63: skatīt 6. piezīmi | F63: m | G63: 200
A64: =ROW()-13 -> 51 | C64: Cauruļu stiprinājumi un līkumi | F64: kpl. | G64: 1
A65: =ROW()-13 -> 52 | C65: Palīgmateriāli (skrūves, skavas, un citi montāžai nepieciešamie izstrādājumi) | F65: kpl. | G65: 1
A66: =ROW()-13 -> 53 | C66: Ugunsdrošā aizpildījuma/blīvējuma kplekts | F66: kpl. | G66: 1
A67: =ROW()-13 -> 54 | C67: Marķēšanas materiāli | F67: kpl. | G67: 1
A68: =ROW()-13 -> 55 | C68: Programmēšanas darbi | F68: kpl. | G68: 1
A69: =ROW()-13 -> 56 | C69: DATU TĪKLS
A70: =ROW()-13 -> 57 | C70: IEKĀRTAS
A71: =ROW()-13 -> 58 | C71: Grīdas komutācijas skapis 42U 600x600x42U, dubultajām durvīm | D71: 542-4266-GSBN-BK | F71: kpl. | G71: 1
A72: =ROW()-13 -> 59 | C72: Ventilatoru panelis ar 4 ventilatoriem, 378x274, 230V, 30W, RAL 9004 | D72: 542-044-BK | F72: kpl. | G72: 1
A73: =ROW()-13 -> 60 | C73: Zemējuma komplekts | F73: kpl. | G73: 1
A74: =ROW()-13 -> 61 | C74: Termostats komutācijas skapju dzesēšanas ventilatoriem (NO), 10A@250VAC 35x35x60mm, DIN sliede 35mm, 0..+60C | D74: 95059 | F74: kpl. | G74: 1
A75: =ROW()-13 -> 62 | C75: Kabeļu organizators Excel 1U, 5 vertikāliem plasmasas stīpām, 19" | D75: 100-586 | F75: gb. | G75: 4
A76: =ROW()-13 -> 63 | C76: 19” 1U kabeļu organizators.kārtotājs, vertikālais 42 U skapim | F76: gb. | G76: 1
A77: =ROW()-13 -> 64 | C77: 19" Barošanas panelis 6xSchuko rozetes horizontālais, 48.5x62x45mm, 250, 19" | D77: 555-082 | F77: gb. | G77: 1
A78: =ROW()-13 -> 65 | C78: Rezerves barošana 1,8kVA Eaton UPS , 19"montājams | F78: gb. | G78: 1
A79: =ROW()-13 -> 66 | C79: RJ45 komutācijas panelis 44x482x29.7mm, Excel CAT5 24 portu ekranēts panelis 1U 19", LSA | F79: gb. | G79: 2
A80: =ROW()-13 -> 67 | C80: optiskais patch panelis uz 16 portiem ar 9 dupleksam SC ligzdām, 9 duplex pigtailiem | F80: kpl. | G80: 1
A81: =ROW()-13 -> 68 | C81: Tīkla komutators 24-port 10/100/1000BASE-T, 4x1GbE porta moduli, 44.1 x 4.37 x 41.6 cm, barošanas bloks 715W AC, | D81: EX4300-24T | F81: kpl. | G81: 1
A82: =ROW()-13 -> 69 | C82: Tīkla komutators 48-port 10/100/1000BASE-T, 4x1GbE porta moduli, 44.1 x 4.37 x 41.6 cm, barošanas bloks 715W AC, Poe | D82: EX4300-48P | F82: kpl. | G82: 1
A83: =ROW()-13 -> 70 | C83: EX4300-24P komutatora licence | F83: gb. | G83: 2
A84: =ROW()-13 -> 71 | C84: 4 portu dual module 1GbE SFP un 4gb SFP 1000BASE-LX; LC connector single-mode fiber | D84: EX-UM-4X4SFP+EX-SFP-1GE-LX | E84: 4 moduļi uz vienu komutatoru | F84: gb. | G84: 2
A85: =ROW()-13 -> 72 | C85: Datu tīkla rozetes montētas pie sienas 2xRJ45 | D85: 2xRJ45, CAT6 | F85: kpl. | G85: 8
A86: =ROW()-13 -> 73 | C86: Bezvadu pieslēguma punkts | D86: AP41 | F86: kpl. | G86: 5
A87: =ROW()-13 -> 74 | C87: KABEĻI UN MONTĀŽAS PALĪGMATERIĀLI
A88: =ROW()-13 -> 75 | C88: Iekštelpu kabelis datu tīkla CAT6 4x2x0.5, ekranēts | D88: CAT6 4x2x0,5 | E88: skatīt 6. piezīmi | F88: m | G88: 1250
A89: =ROW()-13 -> 76 | C89: Caurules 16...32mm | E89: skatīt 6. piezīmi | F89: m | G89: 430
A90: =ROW()-13 -> 77 | C90: Cauruļu stiprinājumi un līkumi | F90: kpl. | G90: 1
A91: =ROW()-13 -> 78 | C91: Komutācijas paneļa savienotājkabeļi (patch vadi RJ45-RJ45) 1m, F/UTP ekranēts, zilā krāsā, ISO 11801, EN 50173 & TIA/EIA 568 | F91: gb. | G91: 36
A92: =ROW()-13 -> 79 | C92: Optiskais komutācijas kabelis OS2 patch vads SC/APC-LC/UPC/SM 9/125 dupleks LSoH dzeltens 2m | F92: gb. | G92: 2
A93: =ROW()-13 -> 80 | C93: Palīgmateriāli (skrūves, skavas, un citi montāžai nepieciešamie izstrādājumi) | F93: kpl. | G93: 1
A94: =ROW()-13 -> 81 | C94: Ugunsdrošā aizpildījuma/blīvējuma kplekts | F94: kpl. | G94: 1
A95: =ROW()-13 -> 82 | C95: Programmēšanas darbi | F95: kpl. | G95: 1
A96: =ROW()-13 -> 83 | C96: Datu tīkla kabeļu mērījumi (visām sistēmām) | D96: CAT5 mērījumi | E96: (pieslēgumi) | F96: kabeļi | G96: 36
C98: ='1.1 Pamati, ā.inž.'!$C$43 -> Tiešās izmaksas kopā, t. sk. darba devēja sociālais nodoklis | N98: =SUM(N14:N97) -> 0 | O98: =SUM(O14:O97) -> 0 | P98: =SUM(P14:P97) -> 0 | Q98: =SUM(Q14:Q97) -> 0 | R98: =SUM(R14:R97) -> 0
A102: ='1.1 Pamati, ā.inž.'!$A$47 -> Sastādīja:
A106: ='1.1 Pamati, ā.inž.'!$A$51 -> Pārbaudīja:

Sheet 1.18 UAS
A1: Lokālā tāme Nr.1.18
A2: Ugunsgrēka atklāšanas un trauksmes signalizācijas sistēma
A4: ='1.1 Pamati, ā.inž.'!$A$4 -> Objekta nosaukums: VESELĪBAS UN SOCIĀLĀS APRŪPES CENTRS
A5: ='1.1 Pamati, ā.inž.'!$A$5 -> Būves nosaukums: VESELĪBAS UN SOCIĀLĀS APRŪPES CENTRS
A6: ='1.1 Pamati, ā.inž.'!$A$6 -> Objekta adrese: Liliju iela 109
A7: ='1.1 Pamati, ā.inž.'!$A$7 -> Pasūtījuma Nr.:
A9: ='1.1 Pamati, ā.inž.'!$A$9 -> Tāme sastādīta 2026.gada tirgus cenās | O9: Tāmes izmaksas Euro: | Q9: =R41 -> 0
R11: =Kops.1!$I$15 -> Tāme sastādīta [datums]
A12: Nr.p.k. | B12: Kods | C12: Būvdarbu nosaukums | F12: Mērvienība | G12: Daudzums | H12: Vienības izmaksas | N12: Kopā uz visu apjomu
H13: laika norma (c/h) | I13: darba samaksas likme (euro/h) | J13: Darba alga | K13: Būvizstrādājumi | L13: Mehānismi | M13: kopā | N13: darbietilpība (c/h) | O13: Darba alga | P13: Būvizstrādājumi | Q13: Mehānismi | R13: summa
C14: UATS SKAPIS | M14: =ROUND(J14+K14+L14,2) -> 0 | N14: =ROUND(H14*G14,2) -> 0 | O14: =ROUND(J14*G14,2) -> 0 | P14: =ROUND(K14*G14,2) -> 0 | Q14: =ROUND(L14*G14,2) -> 0 | R14: =ROUND(O14+P14+Q14,2) -> 0
A15: 1 | C15: Adrešu ugunsdrošības panelis Teletek IRIS (1-4) L M LV / 31020056, 430 x 330 x 117// 1 cilpa | D15: IRIS (1-4) L M LV / 31020056 | F15: gb. | G15: 1
A16: 2 | C16: Baterijas 1 x 12VDC@18Ah | D16: 1 x 12VDC@18Ah | F16: gb. | G16: 1
A17: 3 | C17: Baterijas 12V DC/12Ah | D17: 18011 | F17: gb. | G17: 1
C18: DETEKTORI
A19: 4 | C19: Siltuma detektors ar izolatoru 103x42mm | D19: SensoIRIS T110 IS | E19: 1. gb rezerves | F19: gb. | G19: 4
A20: 5 | C20: Optiskais dūmu detektors ar izolatoru 103x42mm | D20: SensoIRIS S130 IS | E20: 1. gb rezerves | F20: gb. | G20: 8
A21: 6 | C21: Optiskais dūmu detektors 103x42mm | D21: SensoIRIS S130 | E21: 4. gb rezerves | F21: gb. | G21: 44
A22: 7 | C22: Standarta detektoru pamatne | D22: SensoIRIS B124 | E22: 6. gb rezerves | F22: gb. | G22: 43
A23: 8 | C23: Detektoru bāze detektoriem ar sirēnu un stroblampu | D23: SensoIRIS BSST | E23: 2. gb rezerves | F23: gb. | G23: 15
A24: 9 | C24: Adrešu dūmu detektora iznesamais indikators 85x85x20 | D24: FRL – 1 | E24: 2. gb rezerves | F24: gb. | G24: 29
A25: 10 | C25: Adrešu manuālais trauksmes signāldevējs un izolatoru | D25: SensoIRIS MCP150 | E25: 1. gb rezerves | F25: gb. | G25: 4
A26: 11 | C26: Vadības moduļi (ieeju/izeju) | D26: SensoIRIS MIO22 | E26: 1. gb rezerves | F26: gb. | G26: 10
A27: 12 | C27: Ārtelpu sirēna IP65 SensoIRIS WSOU IS+WSB IP65 | D27: SensoIRIS WSOU IS | F27: gb. | G27: 1
C28: KABEĻU UN MONTĀŽAS PALĪGMATERIĀLI
A29: 13 | C29: Signalizācijas kabelis ekranēts | D29: JE-H(St)H FE180/E90 1x2x0,8+0.8 screened | E29: skatīt 6. piezīmi | F29: m | G29: 740
A30: 14 | C30: Komunikācijas kabelis C-WEB | D30: Cat 5e U/UTP E30 4x2x0.63+ | E30: skatīt 6. piezīmi | F30: m | G30: 30
A31: 15 | C31: PVC caurules d=16..32mm | D31: Evoel d16..32 mm | E31: skatīt 6. piezīmi | F31: m | G31: 230
A32: 16 | C32: Ugunsdroši kabeļu/caurules stiprinājumi | D32: Obo bettermann | F32: kpl. | G32: 1
A33: 17 | C33: Palīgmateriāli | F33: kpl. | G33: 1
A34: 18 | C34: Ugunsdrošā aizpildījuma/blīvējuma kplekts | F34: kpl. | G34: 1
A35: 19 | C35: Uzlīme 19.04.2016 MK Noteikumiem nr.238 “Ugundrošības noteikumi”, 136. pantu. | F35: kpl. | G35: 1
A36: 20 | C36: Marķēšanas materiāli | F36: kpl. | G36: 1
A37: 21 | C37: Konfigurēšanas darbi | F37: kpl. | G37: 1
A38: 22 | C38: Personāla apmācība | F38: kpl. | G38: 1
A39: 23 | C39: Izpildes dokumentācijas izstrāde | F39: kpl. | G39: 1
C41: ='1.1 Pamati, ā.inž.'!$C$43 -> Tiešās izmaksas kopā, t. sk. darba devēja sociālais nodoklis | N41: =SUM(N14:N40) -> 0 | O41: =SUM(O14:O40) -> 0 | P41: =SUM(P14:P40) -> 0 | Q41: =SUM(Q14:Q40) -> 0 | R41: =SUM(R14:R40) -> 0
A45: ='1.1 Pamati, ā.inž.'!$A$47 -> Sastādīja:
A49: ='1.1 Pamati, ā.inž.'!$A$51 -> Pārbaudīja:

Sheet Kops.2
A2: Kopsavilkuma aprēķins Nr.2
A3: Bloks Nr.2
A4: (darba veids vai konstruktīvā elementa nosaukums)
A7: ='1.1 Pamati, ā.inž.'!$A$4 -> Objekta nosaukums: VESELĪBAS UN SOCIĀLĀS APRŪPES CENTRS
A8: ='1.1 Pamati, ā.inž.'!$A$5 -> Būves nosaukums: VESELĪBAS UN SOCIĀLĀS APRŪPES CENTRS
A9: ='1.1 Pamati, ā.inž.'!$A$6 -> Objekta adrese: Liliju iela 109
A10: ='1.1 Pamati, ā.inž.'!$A$7 -> Pasūtījuma Nr.:
C12: Par kopējo summu, Euro | E12: =E43 -> 0
C13: Kopējā darbietilpība c/h | E13: =I39 -> 0
I15: ='Buvn.kopt.'!$C$14 -> Tāme sastādīta [datums]
A16: Nr.p.k. | B16: Kods, tāmes Nr. | C16: Būvdarbu veids vai konstruktīvā elementa nosaukums | E16: Tāmes izmaksas | F16: Tai skaitā
F17: Darba alga | G17: Būvizstrādājumi | H17: Mehānismi | I17: Darbietilpība c/h
E18: =F18+G18+H18 -> 0
A19: 0 | B19: 2 | C19: Būvlaukuma ierīkošana un uzturēšana
A20: 1 | B20: 2.1 | C20: Zemes darbi, pamatu izbūve, pieslēgums ārējiem inženiertīkliem, labiekārtošana | E20: =F20+G20+H20 -> 0 | F20: ='2.1 Pamati, ā.inž.'!M39 -> 0 | G20: ='2.1 Pamati, ā.inž.'!N39 -> 0 | H20: ='2.1 Pamati, ā.inž.'!O39 -> 0 | I20: ='2.1 Pamati, ā.inž.'!L39 -> 0
A21: 2 | B21: 2.2 | C21: Prefabricētie elementi | E21: =F21+G21+H21 -> 0 | F21: ='2.2 Prefabricētie elementi'!M37 -> 0 | G21: ='2.2 Prefabricētie elementi'!N37 -> 0 | H21: ='2.2 Prefabricētie elementi'!O37 -> 0 | I21: ='2.2 Prefabricētie elementi'!L37 -> 0
A22: 3 | B22: 2.3 | C22: Jumts | E22: =F22+G22+H22 -> 0 | F22: ='2.3 Jumts'!M36 -> 0 | G22: ='2.3 Jumts'!N36 -> 0 | H22: ='2.3 Jumts'!O36 -> 0 | I22: ='2.3 Jumts'!L36 -> 0
A23: 4 | B23: 2.4 | C23: Grīdas | E23: =F23+G23+H23 -> 0 | F23: ='2.4 Gridas'!M17 -> 0 | G23: ='2.4 Gridas'!N17 -> 0 | H23: ='2.4 Gridas'!O17 -> 0 | I23: ='2.4 Gridas'!L17 -> 0
A24: 5 | B24: 2.5 | C24: Ārsienas, starpsienas | E24: =F24+G24+H24 -> 0 | F24: ='2.5 Sienas'!M27 -> 0 | G24: ='2.5 Sienas'!N27 -> 0 | H24: ='2.5 Sienas'!O27 -> 0 | I24: ='2.5 Sienas'!L27 -> 0
A25: 6 | B25: 2.6 | C25: Ailu aizpildījumi | E25: =F25+G25+H25 -> 0 | F25: ='2.6 Ailes'!M42 -> 0 | G25: ='2.6 Ailes'!N42 -> 0 | H25: ='2.6 Ailes'!O42 -> 0 | I25: ='2.6 Ailes'!L42 -> 0
A26: 7 | B26: 2.7 | C26: Iekšējie apdares darbi | E26: =F26+G26+H26 -> 0 | F26: ='2.7 Apdare'!M34 -> 0 | G26: ='2.7 Apdare'!N34 -> 0 | H26: ='2.7 Apdare'!O34 -> 0 | I26: ='2.7 Apdare'!L34 -> 0
A27: 8 | B27: 2.8 | C27: Aprīkojums iekštelpu | E27: =F27+G27+H27 -> 0 | F27: ='2.8 Apr. iekšt.'!M18 -> 0 | G27: ='2.8 Apr. iekšt.'!N18 -> 0 | H27: ='2.8 Apr. iekšt.'!O18 -> 0 | I27: ='2.8 Apr. iekšt.'!L18 -> 0
A28: 9 | B28: 2.9 | C28: Sanmezglu aprīkojums | E28: =F28+G28+H28 -> 0 | F28: ='2.9 Sanm.'!M65 -> 0 | G28: ='2.9 Sanm.'!N65 -> 0 | H28: ='2.9 Sanm.'!O65 -> 0 | I28: ='2.9 Sanm.'!L65 -> 0
A29: 10 | B29: 2.1 | C29: Koplietošanas telpu aprīkojums | E29: =F29+G29+H29 -> 0 | F29: ='2.10 Kopl.,aprīk '!M48 -> 0 | G29: ='2.10 Kopl.,aprīk '!N48 -> 0 | H29: ='2.10 Kopl.,aprīk '!O48 -> 0 | I29: ='2.10 Kopl.,aprīk '!L48 -> 0
A30: 11 | B30: 2.11 | C30: Aprīkojums ārtelpu | E30: =F30+G30+H30 -> 0 | F30: ='2.11 Apr. ārt.'!M17 -> 0 | G30: ='2.11 Apr. ārt.'!N17 -> 0 | H30: ='2.11 Apr. ārt.'!O17 -> 0 | I30: ='2.11 Apr. ārt.'!L17 -> 0
A31: 12 | B31: 2.12 | C31: Apkure | E31: =F31+G31+H31 -> 0 | F31: ='2.12 Apkure'!O47 -> 0 | G31: ='2.12 Apkure'!P47 -> 0 | H31: ='2.12 Apkure'!Q47 -> 0 | I31: ='2.12 Apkure'!N47 -> 0
A32: 13 | B32: 2.13 | C32: Ventilācija | E32: =F32+G32+H32 -> 0 | F32: ='2.13 Vent.'!O45 -> 0 | G32: ='2.13 Vent.'!P45 -> 0 | H32: ='2.13 Vent.'!Q45 -> 0 | I32: ='2.13 Vent.'!N45 -> 0
A33: 14 | B33: 2.14 | C33: Gaisa kondicionēšana | E33: =F33+G33+H33 -> 0 | F33: ='2.14 Kond.'!O60 -> 0 | G33: ='2.14 Kond.'!P60 -> 0 | H33: ='2.14 Kond.'!Q60 -> 0 | I33: ='2.14 Kond.'!N60 -> 0
A34: 15 | B34: 2.15 | C34: Ūdensapgāde un kanalizācija | E34: =F34+G34+H34 -> 0 | F34: ='2.15 UK'!O113 -> 0 | G34: ='2.15 UK'!P113 -> 0 | H34: ='2.15 UK'!Q113 -> 0 | I34: ='2.15 UK'!N113 -> 0
A35: 16 | B35: 2.16 | C35: Elektroapgāde | E35: =F35+G35+H35 -> 0 | F35: ='2.16 EL'!M93 -> 0 | G35: ='2.16 EL'!N93 -> 0 | H35: ='2.16 EL'!O93 -> 0 | I35: ='2.16 EL'!L93 -> 0
A36: 17 | B36: 2.17 | C36: Elektronisko sakaru sistēmas | E36: =F36+G36+H36 -> 0 | F36: ='2.17 ESS'!O149 -> 0 | G36: ='2.17 ESS'!P149 -> 0 | H36: ='2.17 ESS'!Q149 -> 0 | I36: ='2.17 ESS'!N149 -> 0
A37: 18 | B37: 2.18 | C37: Ugunsgrēka atklāšanas un trauksmes signalizācijas sistēma | E37: =F37+G37+H37 -> 0 | F37: ='2.18 UAS'!O40 -> 0 | G37: ='2.18 UAS'!P40 -> 0 | H37: ='2.18 UAS'!Q40 -> 0 | I37: ='2.18 UAS'!N40 -> 0
E38: =F38+G38+H38 -> 0
A39: Kopā: | E39: =SUM(E18:E38) -> 0 | F39: =SUM(F18:F38) -> 0 | G39: =SUM(G18:G38) -> 0 | H39: =SUM(H18:H38) -> 0 | I39: =SUM(I18:I38) -> 0
A40: Virsizdevumi | D40: 0.1 | E40: =ROUND(E39*D40,2) -> 0
A41: t.sk. darba aizsardzība | E41: =ROUND(E40*0.05,2) -> 0
A42: Peļņa | D42: 0.07 | E42: =ROUND(E39*D42,2) -> 0
A43: PAVISAM KOPĀ: | E43: =E39+E40+E42 -> 0
A47: ='1.1 Pamati, ā.inž.'!$A$47 -> Sastādīja:
A51: ='1.1 Pamati, ā.inž.'!$A$51 -> Pārbaudīja:

Sheet 2.0 Buvlaukums
A1: Lokālā tāme Nr.2.0
A2: =Kops.2!C19 -> Būvlaukuma ierīkošana un uzturēšana
A4: ='1.1 Pamati, ā.inž.'!$A$4 -> Objekta nosaukums: VESELĪBAS UN SOCIĀLĀS APRŪPES CENTRS
A5: ='1.1 Pamati, ā.inž.'!$A$5 -> Būves nosaukums: VESELĪBAS UN SOCIĀLĀS APRŪPES CENTRS
A6: ='1.1 Pamati, ā.inž.'!$A$6 -> Objekta adrese: Liliju iela 109
A7: ='1.1 Pamati, ā.inž.'!$A$7 -> Pasūtījuma Nr.:
A9: ='1.1 Pamati, ā.inž.'!$A$9 -> Tāme sastādīta 2026.gada tirgus cenās | M9: Tāmes izmaksas Euro: | O9: =P39 -> 0
P11: =Kops.1!$E$15 -> 0
A12: Nr.p.k. | B12: Kods | C12: Būvdarbu nosaukums | D12: Mērvienība | E12: Daudzums | F12: Vienības izmaksas | L12: Kopā uz visu apjomu
F13: laika norma (c/h) | G13: darba samaksas likme (euro/h) | H13: Darba alga | I13: Būvizstrādājumi | J13: Mehānismi | K13: kopā | L13: darbietilpība (c/h) | M13: Darba alga | N13: Būvizstrādājumi | O13: Mehānismi | P13: summa
C15: Būvlaukuma ierīkošana un uzturēšana | K15: =ROUND(H15+I15+J15,2) -> 0 | L15: =ROUND(F15*E15,2) -> 0 | M15: =ROUND(H15*E15,2) -> 0 | N15: =ROUND(I15*E15,2) -> 0 | O15: =ROUND(J15*E15,2) -> 0 | P15: =ROUND(M15+N15+O15,2) -> 0
A16: 1 | C16: Pagaidu ceļa izbūve | D16: m2 | E16: 600 | H16: =ROUND(G16*F16,2) -> 0 | K16: =ROUND(H16+I16+J16,2) -> 0 | L16: =ROUND(F16*E16,2) -> 0 | M16: =ROUND(H16*E16,2) -> 0 | N16: =ROUND(I16*E16,2) -> 0 | O16: =ROUND(J16*E16,2) -> 0 | P16: =ROUND(M16+N16+O16,2) -> 0
A17: 2 | C17: Uzstādāms pagaidu žogs. Piegāde un montāža | D17: m | E17: 280 | H17: =ROUND(G17*F17,2) -> 0 | K17: =ROUND(H17+I17+J17,2) -> 0 | L17: =ROUND(F17*E17,2) -> 0 | M17: =ROUND(H17*E17,2) -> 0 | N17: =ROUND(I17*E17,2) -> 0 | O17: =ROUND(J17*E17,2) -> 0 | P17: =ROUND(M17+N17+O17,2) -> 0
C18: Pagaidu žoga noma | D18: mēn | E18: 10 | H18: =ROUND(G18*F18,2) -> 0 | K18: =ROUND(H18+I18+J18,2) -> 0 | L18: =ROUND(F18*E18,2) -> 0 | M18: =ROUND(H18*E18,2) -> 0 | N18: =ROUND(I18*E18,2) -> 0 | O18: =ROUND(J18*E18,2) -> 0 | P18: =ROUND(M18+N18+O18,2) -> 0
A19: 3 | C19: Būvnieku kantoris konteinera tipa 2.5x6x2.35m piegāde un montāža | D19: gb | E19: 1 | H19: =ROUND(G19*F19,2) -> 0 | K19: =ROUND(H19+I19+J19,2) -> 0 | L19: =ROUND(F19*E19,2) -> 0 | M19: =ROUND(H19*E19,2) -> 0 | N19: =ROUND(I19*E19,2) -> 0 | O19: =ROUND(J19*E19,2) -> 0 | P19: =ROUND(M19+N19+O19,2) -> 0
C20: tas pats noma | D20: mēn | E20: 10
A21: 4 | C21: Būvnieku sadzīves telpa konteineru tipa 2.5x6x2.35m piegāde un montāža | D21: gb | E21: 3 | H21: =ROUND(G21*F21,2) -> 0 | K21: =ROUND(H21+I21+J21,2) -> 0 | L21: =ROUND(F21*E21,2) -> 0 | M21: =ROUND(H21*E21,2) -> 0 | N21: =ROUND(I21*E21,2) -> 0 | O21: =ROUND(J21*E21,2) -> 0 | P21: =ROUND(M21+N21+O21,2) -> 0
C22: tas pats noma | D22: mēn | E22: 10
A23: 5 | C23: Noliktava konteinera tipa 2.5x3x2.35m piegāde un montāža | D23: gb | E23: 1 | H23: =ROUND(G23*F23,2) -> 0 | K23: =ROUND(H23+I23+J23,2) -> 0 | L23: =ROUND(F23*E23,2) -> 0 | M23: =ROUND(H23*E23,2) -> 0 | N23: =ROUND(I23*E23,2) -> 0 | O23: =ROUND(J23*E23,2) -> 0 | P23: =ROUND(M23+N23+O23,2) -> 0
C24: tas pats noma | D24: mēn | E24: 10 | H24: =ROUND(G24*F24,2) -> 0 | K24: =ROUND(H24+I24+J24,2) -> 0 | L24: =ROUND(F24*E24,2) -> 0 | M24: =ROUND(H24*E24,2) -> 0 | N24: =ROUND(I24*E24,2) -> 0 | O24: =ROUND(J24*E24,2) -> 0 | P24: =ROUND(M24+N24+O24,2) -> 0
A25: 6 | C25: EDLUS sistēmas pieslēgšana | D25: kpl | E25: 1 | H25: =ROUND(G25*F25,2) -> 0 | K25: =ROUND(H25+I25+J25,2) -> 0 | L25: =ROUND(F25*E25,2) -> 0 | M25: =ROUND(H25*E25,2) -> 0 | N25: =ROUND(I25*E25,2) -> 0 | O25: =ROUND(J25*E25,2) -> 0 | P25: =ROUND(M25+N25+O25,2) -> 0
C26: EDLUS sistēmas apkalpošana | D26: mēn | E26: 10 | H26: =ROUND(G26*F26,2) -> 0 | K26: =ROUND(H26+I26+J26,2) -> 0 | L26: =ROUND(F26*E26,2) -> 0 | M26: =ROUND(H26*E26,2) -> 0 | N26: =ROUND(I26*E26,2) -> 0 | O26: =ROUND(J26*E26,2) -> 0 | P26: =ROUND(M26+N26+O26,2) -> 0
A27: 7 | C27: BIO tualete noma piegāde un montāža | D27: gb | E27: 1 | H27: =ROUND(G27*F27,2) -> 0 | K27: =ROUND(H27+I27+J27,2) -> 0 | L27: =ROUND(F27*E27,2) -> 0 | M27: =ROUND(H27*E27,2) -> 0 | N27: =ROUND(I27*E27,2) -> 0 | O27: =ROUND(J27*E27,2) -> 0 | P27: =ROUND(M27+N27+O27,2) -> 0
C28: BIO tualetes moduļa apkalpošana, noma 1gb. | D28: mēn | E28: 10 | H28: =ROUND(G28*F28,2) -> 0 | K28: =ROUND(H28+I28+J28,2) -> 0 | L28: =ROUND(F28*E28,2) -> 0 | M28: =ROUND(H28*E28,2) -> 0 | N28: =ROUND(I28*E28,2) -> 0 | O28: =ROUND(J28*E28,2) -> 0 | P28: =ROUND(M28+N28+O28,2) -> 0
A29: 8 | C29: Pirmās palīdzības aptieciņa | D29: gb | E29: 1 | H29: =ROUND(G29*F29,2) -> 0 | K29: =ROUND(H29+I29+J29,2) -> 0 | L29: =ROUND(F29*E29,2) -> 0 | M29: =ROUND(H29*E29,2) -> 0 | N29: =ROUND(I29*E29,2) -> 0 | O29: =ROUND(J29*E29,2) -> 0 | P29: =ROUND(M29+N29+O29,2) -> 0
A30: 9 | C30: Ugunsdzēsības stenda montāža | D30: gb | E30: 1 | H30: =ROUND(G30*F30,2) -> 0 | K30: =ROUND(H30+I30+J30,2) -> 0 | L30: =ROUND(F30*E30,2) -> 0 | M30: =ROUND(H30*E30,2) -> 0 | N30: =ROUND(I30*E30,2) -> 0 | O30: =ROUND(J30*E30,2) -> 0 | P30: =ROUND(M30+N30+O30,2) -> 0
A31: 10 | C31: Elektroapgades pieslegums ar elektrosadalni | D31: kpl | E31: 1 | H31: =ROUND(G31*F31,2) -> 0 | K31: =ROUND(H31+I31+J31,2) -> 0 | L31: =ROUND(F31*E31,2) -> 0 | M31: =ROUND(H31*E31,2) -> 0 | N31: =ROUND(I31*E31,2) -> 0 | O31: =ROUND(J31*E31,2) -> 0 | P31: =ROUND(M31+N31+O31,2) -> 0
A32: 11 | C32: Ūdensvada pieslegums | D32: kpl | E32: 1 | H32: =ROUND(G32*F32,2) -> 0 | K32: =ROUND(H32+I32+J32,2) -> 0 | L32: =ROUND(F32*E32,2) -> 0 | M32: =ROUND(H32*E32,2) -> 0 | N32: =ROUND(I32*E32,2) -> 0 | O32: =ROUND(J32*E32,2) -> 0 | P32: =ROUND(M32+N32+O32,2) -> 0
A33: 12 | C33: Apgaismojums, prožektoru montāža | D33: gb | E33: 8 | H33: =ROUND(G33*F33,2) -> 0 | K33: =ROUND(H33+I33+J33,2) -> 0 | L33: =ROUND(F33*E33,2) -> 0 | M33: =ROUND(H33*E33,2) -> 0 | N33: =ROUND(I33*E33,2) -> 0 | O33: =ROUND(J33*E33,2) -> 0 | P33: =ROUND(M33+N33+O33,2) -> 0
A34: 13 | C34: Objekta apsardze - pagaidu videonovērošanas sistēmas ierīkošana | D34: kpl | E34: 1 | H34: =ROUND(G34*F34,2) -> 0 | K34: =ROUND(H34+I34+J34,2) -> 0 | L34: =ROUND(F34*E34,2) -> 0 | M34: =ROUND(H34*E34,2) -> 0 | N34: =ROUND(I34*E34,2) -> 0 | O34: =ROUND(J34*E34,2) -> 0 | P34: =ROUND(M34+N34+O34,2) -> 0
C35: Pagaidu videonovērošanas sistēmas uzturēšana | D35: mēn | E35: 10 | H35: =ROUND(G35*F35,2) -> 0 | K35: =ROUND(H35+I35+J35,2) -> 0 | L35: =ROUND(F35*E35,2) -> 0 | M35: =ROUND(H35*E35,2) -> 0 | N35: =ROUND(I35*E35,2) -> 0 | O35: =ROUND(J35*E35,2) -> 0 | P35: =ROUND(M35+N35+O35,2) -> 0
A36: 14 | C36: Maksa par elektroenerģiju | D36: mēn | E36: 10
A37: 15 | C37: Maksa par ūdeni | D37: mēn | E37: 10
A38: 16 | C38: Koku izzāģēšana | D38: kpl | E38: 1
C39: Tiešās izmaksas kopā, t. sk. darba devēja sociālais nodoklis | L39: =SUM(L15:L35) -> 0 | M39: =SUM(M15:M35) -> 0 | N39: =SUM(N15:N35) -> 0 | O39: =SUM(O15:O35) -> 0 | P39: =SUM(P15:P35) -> 0
A43: ='1.1 Pamati, ā.inž.'!$A$47 -> Sastādīja:
A47: ='1.1 Pamati, ā.inž.'!$A$51 -> Pārbaudīja:

Sheet 2.1 Pamati, ā.inž.
A1: Lokālā tāme Nr.2.1
A2: =Kops.2!C20 -> Zemes darbi, pamatu izbūve, pieslēgums ārējiem inženiertīkliem, labiekārtošana
A4: ='1.1 Pamati, ā.inž.'!$A$4 -> Objekta nosaukums: VESELĪBAS UN SOCIĀLĀS APRŪPES CENTRS
A5: ='1.1 Pamati, ā.inž.'!$A$5 -> Būves nosaukums: VESELĪBAS UN SOCIĀLĀS APRŪPES CENTRS
A6: ='1.1 Pamati, ā.inž.'!$A$6 -> Objekta adrese: Liliju iela 109
A7: ='1.1 Pamati, ā.inž.'!$A$7 -> Pasūtījuma Nr.:
A9: ='1.1 Pamati, ā.inž.'!$A$9 -> Tāme sastādīta 2026.gada tirgus cenās | M9: Tāmes izmaksas Euro: | O9: =P39 -> 0
P11: =Kops.1!$I$15 -> Tāme sastādīta [datums]
A12: Nr.p.k. | B12: Kods | C12: Būvdarbu nosaukums | D12: Mērvienība | E12: Daudzums | F12: Vienības izmaksas | L12: Kopā uz visu apjomu
F13: laika norma (c/h) | G13: darba samaksas likme (euro/h) | H13: Darba alga | I13: Būvizstrādājumi | J13: Mehānismi | K13: kopā | L13: darbietilpība (c/h) | M13: Darba alga | N13: Būvizstrādājumi | O13: Mehānismi | P13: summa
C14: Zemes darbi | K14: =ROUND(H14+I14+J14,2) -> 0 | L14: =ROUND(F14*E14,2) -> 0 | M14: =ROUND(H14*E14,2) -> 0 | N14: =ROUND(I14*E14,2) -> 0 | O14: =ROUND(J14*E14,2) -> 0 | P14: =ROUND(M14+N14+O14,2) -> 0
A15: 1 | C15: Auglīgās augsnes kārtas ~0,20m nostumšana un sastumšana kaudzē | D15: m2 | E15: 425.75
A16: 2 | C16: Grunts izstrāde ~0,40m | D16: m3 | E16: =E15*0.4 -> 170.3
A17: 3 | C17: Pamatu aizbēršana ar esošu grunti, blietējot pa kārtām | D17: m3 | E17: =E16-E18 -> 34.06
A18: 4 | C18: Liekās grunts izvešana uz būvuzņēmēja atbērtni | D18: m3 | E18: =E21*0.4 -> 136.24
A19: 5 | C19: Gruntsūdens līmeņa pazemināšana, pēc nepieciešamības | D19: kpl | E19: 1
C20: Pamatu plātne
A21: 6 | C21: Grunts blietēšana | D21: m2 | E21: 340.6
A22: 7 | C22: XPS siltumizolācijas montāža 200mm biezumā uz grunts | D22: m3 | E22: 83.2
A23: 8 | C23: Pamatu plātnes stiegrošana ar B500B klases stiegrām, t.sk., distanceri, locījumi un montāžas palīgmateriāli | D23: kg | E23: =E24*112.69 -> 6896.628
A24: 9 | C24: Pamatu plātnes veidņošana un betonēšana 180mm biezumā ar betonu C30/37. GP-2 | D24: m3 | E24: 61.2
C25: Stabveida pamati
A26: 10 | C26: Blietētas šķembu kārtas fr.5-45mm izbūve 100mm biezumā | D26: m3 | E26: 0.5
A27: 11 | C27: Stabveida pamatu stiegrošana ar B500B klases stiegrām, t.sk., distanceri, locījumi un montāžas palīgmateriāli | D27: kg | E27: =E28*75.69 -> 66.6072
A28: 12 | C28: Stabveida pamatu veidņošana un betonēšana ar betonu C30/37. P-2 | D28: m3 | E28: 0.88
C29: Pamatu plātnes sijas
A30: 13 | C30: Pamatu plātnes siju stiegrošana ar B500B klases stiegrām, t.sk., distanceri, locījumi un montāžas palīgmateriāli | D30: kg | E30: =E31*115.69 -> 1200.8622
A31: 14 | C31: Pamatu plātnes siju veidņošana un betonēšana ar betonu C30/37. GS-2 | D31: m3 | E31: 10.38
C32: Ārējie inženiertīkli
A33: =A31+1 -> 15 | C33: Pieslēgums ārējam ūdensvadam un kanalizācijai no bloka Nr.1 | D33: kpl | E33: 1
A34: =A33+1 -> 16 | C34: Pieslēgums ārējam elektrotīklam no bloka Nr.1 | D34: kpl | E34: 1
C35: Labiekārtošana
A36: =A34+1 -> 17 | C36: Teritorijas labiekārtošana, ieskaitot grunts pārvietošanu, līdzināšanu, zāliena ierīkošanu | D36: m2 | E36: 800
A37: =A36+1 -> 18 | C37: Labiekārtojuma elementu ierīkošana | D37: kpl | E37: 1
C39: ='1.1 Pamati, ā.inž.'!$C$43 -> Tiešās izmaksas kopā, t. sk. darba devēja sociālais nodoklis | L39: =SUM(L14:L38) -> 0 | M39: =SUM(M14:M38) -> 0 | N39: =SUM(N14:N38) -> 0 | O39: =SUM(O14:O38) -> 0 | P39: =SUM(P14:P38) -> 0
A43: ='1.1 Pamati, ā.inž.'!$A$47 -> Sastādīja:
A47: ='1.1 Pamati, ā.inž.'!$A$51 -> Pārbaudīja:

Sheet 2.2 Prefabricētie elementi
A1: Lokālā tāme Nr.1.2
A2: 1.2 Prefabricētie elementi
A4: ='1.1 Pamati, ā.inž.'!$A$4 -> Objekta nosaukums: VESELĪBAS UN SOCIĀLĀS APRŪPES CENTRS
A5: ='1.1 Pamati, ā.inž.'!$A$5 -> Būves nosaukums: VESELĪBAS UN SOCIĀLĀS APRŪPES CENTRS
A6: ='1.1 Pamati, ā.inž.'!$A$6 -> Objekta adrese: Liliju iela 109
A7: ='1.1 Pamati, ā.inž.'!$A$7 -> Pasūtījuma Nr.:
A9: ='1.1 Pamati, ā.inž.'!$A$9 -> Tāme sastādīta 2026.gada tirgus cenās | M9: Tāmes izmaksas Euro: | O9: =P37 -> 0
P11: =Kops.1!$I$15 -> Tāme sastādīta [datums]
A12: Nr.p.k. | B12: Kods | C12: Būvdarbu nosaukums | D12: Mērvienība | E12: Daudzums | F12: Vienības izmaksas | L12: Kopā uz visu apjomu
F13: laika norma (c/h) | G13: darba samaksas likme (euro/h) | H13: Darba alga | I13: Būvizstrādājumi | J13: Mehānismi | K13: kopā | L13: darbietilpība (c/h) | M13: Darba alga | N13: Būvizstrādājumi | O13: Mehānismi | P13: summa
C14: Jumts JK-1 | K14: =ROUND(H14+I14+J14,2) -> 0 | L14: =ROUND(F14*E14,2) -> 0 | M14: =ROUND(H14*E14,2) -> 0 | N14: =ROUND(I14*E14,2) -> 0 | O14: =ROUND(J14*E14,2) -> 0 | P14: =ROUND(M14+N14+O14,2) -> 0
C15: Jumta JK-1 ražošana | D15: m2 | E15: =E16 -> 402.7 | H15: =ROUND(G15*F15,2) -> 0 | K15: =ROUND(H15+I15+J15,2) -> 0 | L15: =ROUND(F15*E15,2) -> 0 | M15: =ROUND(H15*E15,2) -> 0 | N15: =ROUND(I15*E15,2) -> 0 | O15: =ROUND(J15*E15,2) -> 0 | P15: =ROUND(M15+N15+O15,2) -> 0
C16: Bērza b/bb int saplāksnis 12mm | D16: m2 | E16: 402.7 | H16: =ROUND(G16*F16,2) -> 0 | K16: =ROUND(H16+I16+J16,2) -> 0 | L16: =ROUND(F16*E16,2) -> 0 | M16: =ROUND(H16*E16,2) -> 0 | N16: =ROUND(I16*E16,2) -> 0 | O16: =ROUND(J16*E16,2) -> 0 | P16: =ROUND(M16+N16+O16,2) -> 0
C17: Siltumizolācijas Isover Insulsafe 26kg/m3, 400mm biezumā | D17: m3 | E17: 161.08 | H17: =ROUND(G17*F17,2) -> 0 | K17: =ROUND(H17+I17+J17,2) -> 0 | L17: =ROUND(F17*E17,2) -> 0 | M17: =ROUND(H17*E17,2) -> 0 | N17: =ROUND(I17*E17,2) -> 0 | O17: =ROUND(J17*E17,2) -> 0 | P17: =ROUND(M17+N17+O17,2) -> 0
C18: OSB 22mm | D18: m2 | E18: 402.7 | H18: =ROUND(G18*F18,2) -> 0 | K18: =ROUND(H18+I18+J18,2) -> 0 | L18: =ROUND(F18*E18,2) -> 0 | M18: =ROUND(H18*E18,2) -> 0 | N18: =ROUND(I18*E18,2) -> 0 | O18: =ROUND(J18*E18,2) -> 0 | P18: =ROUND(M18+N18+O18,2) -> 0
C19: koka konstrukcijas C24 klase, t.sk., būvkalumi, stiprinājumi un palīgmateriāli | D19: m3 | E19: 10.97 | H19: =ROUND(G19*F19,2) -> 0 | L19: =ROUND(F19*E19,2) -> 0 | M19: =ROUND(H19*E19,2) -> 0 | N19: =ROUND(I19*E19,2) -> 0 | O19: =ROUND(J19*E19,2) -> 0 | P19: =ROUND(M19+N19+O19,2) -> 0
C20: Jumts JK-2 | H20: =ROUND(G20*F20,2) -> 0 | K20: =ROUND(H20+I20+J20,2) -> 0 | L20: =ROUND(F20*E20,2) -> 0 | M20: =ROUND(H20*E20,2) -> 0 | N20: =ROUND(I20*E20,2) -> 0 | O20: =ROUND(J20*E20,2) -> 0 | P20: =ROUND(M20+N20+O20,2) -> 0
C21: Jumta JK-2 ražošana | D21: m2 | E21: 62.1 | H21: =ROUND(G21*F21,2) -> 0 | K21: =ROUND(H21+I21+J21,2) -> 0 | L21: =ROUND(F21*E21,2) -> 0 | M21: =ROUND(H21*E21,2) -> 0 | N21: =ROUND(I21*E21,2) -> 0 | O21: =ROUND(J21*E21,2) -> 0 | P21: =ROUND(M21+N21+O21,2) -> 0
C22: koka konstrukcijas C24 klase, t.sk., būvkalumi, stiprinājumi un palīgmateriāli | D22: m3 | E22: 1.69 | H22: =ROUND(G22*F22,2) -> 0 | K22: =ROUND(H22+I22+J22,2) -> 0 | L22: =ROUND(F22*E22,2) -> 0 | M22: =ROUND(H22*E22,2) -> 0 | N22: =ROUND(I22*E22,2) -> 0 | O22: =ROUND(J22*E22,2) -> 0 | P22: =ROUND(M22+N22+O22,2) -> 0
C23: Ārsiena AS-1 | H23: =ROUND(G23*F23,2) -> 0 | K23: =ROUND(H23+I23+J23,2) -> 0 | L23: =ROUND(F23*E23,2) -> 0 | M23: =ROUND(H23*E23,2) -> 0 | N23: =ROUND(I23*E23,2) -> 0 | O23: =ROUND(J23*E23,2) -> 0 | P23: =ROUND(M23+N23+O23,2) -> 0
C24: Ārsienas AS-1 ražošana | D24: m2 | E24: =E25 -> 233.8 | H24: =ROUND(G24*F24,2) -> 0 | K24: =ROUND(H24+I24+J24,2) -> 0 | L24: =ROUND(F24*E24,2) -> 0 | M24: =ROUND(H24*E24,2) -> 0 | N24: =ROUND(I24*E24,2) -> 0 | O24: =ROUND(J24*E24,2) -> 0 | P24: =ROUND(M24+N24+O24,2) -> 0
C25: Saplākšņa 12mm | D25: m2 | E25: 233.8 | H25: =ROUND(G25*F25,2) -> 0 | K25: =ROUND(H25+I25+J25,2) -> 0 | L25: =ROUND(F25*E25,2) -> 0 | M25: =ROUND(H25*E25,2) -> 0 | N25: =ROUND(I25*E25,2) -> 0 | O25: =ROUND(J25*E25,2) -> 0 | P25: =ROUND(M25+N25+O25,2) -> 0
C26: Siltumizolācijas Isover Insulsafe 26kg/m3, 400mm biezumā | D26: m3 | E26: 93.52 | H26: =ROUND(G26*F26,2) -> 0 | K26: =ROUND(H26+I26+J26,2) -> 0 | L26: =ROUND(F26*E26,2) -> 0 | M26: =ROUND(H26*E26,2) -> 0 | N26: =ROUND(I26*E26,2) -> 0 | O26: =ROUND(J26*E26,2) -> 0 | P26: =ROUND(M26+N26+O26,2) -> 0
C27: Kokšķiedras plāksnes Steico Universal Black 22mm | D27: m2 | E27: 233.8 | H27: =ROUND(G27*F27,2) -> 0 | K27: =ROUND(H27+I27+J27,2) -> 0 | L27: =ROUND(F27*E27,2) -> 0 | M27: =ROUND(H27*E27,2) -> 0 | N27: =ROUND(I27*E27,2) -> 0 | O27: =ROUND(J27*E27,2) -> 0 | P27: =ROUND(M27+N27+O27,2) -> 0
C28: Koka latojuma 25x50mm, solis 600mm | D28: m2 | E28: 233.8 | H28: =ROUND(G28*F28,2) -> 0 | K28: =ROUND(H28+I28+J28,2) -> 0 | L28: =ROUND(F28*E28,2) -> 0 | M28: =ROUND(H28*E28,2) -> 0 | N28: =ROUND(I28*E28,2) -> 0 | O28: =ROUND(J28*E28,2) -> 0 | P28: =ROUND(M28+N28+O28,2) -> 0
C29: Koka dēļu apšuvuma 21x150mm. Lazūra-impregnants koka virsmām Adler Pullex. Toni skatīt krāsu pasē | D29: m2 | E29: 233.8 | H29: =ROUND(G29*F29,2) -> 0 | K29: =ROUND(H29+I29+J29,2) -> 0 | L29: =ROUND(F29*E29,2) -> 0 | M29: =ROUND(H29*E29,2) -> 0 | N29: =ROUND(I29*E29,2) -> 0 | O29: =ROUND(J29*E29,2) -> 0 | P29: =ROUND(M29+N29+O29,2) -> 0
C30: koka konstrukcijas C24 klase, t.sk., būvkalumi, stiprinājumi un palīgmateriāli | D30: m3 | E30: 17.54 | H30: =ROUND(G30*F30,2) -> 0 | L30: =ROUND(F30*E30,2) -> 0 | M30: =ROUND(H30*E30,2) -> 0 | N30: =ROUND(I30*E30,2) -> 0 | O30: =ROUND(J30*E30,2) -> 0 | P30: =ROUND(M30+N30+O30,2) -> 0
C31: Dekoratīvie fasādes elementi. M-2 | H31: =ROUND(G31*F31,2) -> 0 | K31: =ROUND(H31+I31+J31,2) -> 0 | L31: =ROUND(F31*E31,2) -> 0 | M31: =ROUND(H31*E31,2) -> 0 | N31: =ROUND(I31*E31,2) -> 0 | O31: =ROUND(J31*E31,2) -> 0 | P31: =ROUND(M31+N31+O31,2) -> 0
C32: Vertikālais koka dēļu apšuvums | D32: m2 | E32: 27.47 | H32: =ROUND(G32*F32,2) -> 0 | K32: =ROUND(H32+I32+J32,2) -> 0 | L32: =ROUND(F32*E32,2) -> 0 | M32: =ROUND(H32*E32,2) -> 0 | N32: =ROUND(I32*E32,2) -> 0 | O32: =ROUND(J32*E32,2) -> 0 | P32: =ROUND(M32+N32+O32,2) -> 0
C33: dekoratīvās brusām 50x50 mm solis 50mm. Krāsots. Lazūra-impregnants koka virsmām Adler Pullex Silverwood Silber sudraba pelēks. Šķīdinātāja bāzes puscaurspīdīgs pārklājums koka fasādēm. Tonis Grauatuminium. Rūpnieciski krāsots ar Kraso Woodpainting tehnoloģiju. | D33: m3 | E33: 27.47 | H33: =ROUND(G33*F33,2) -> 0 | K33: =ROUND(H33+I33+J33,2) -> 0 | L33: =ROUND(F33*E33,2) -> 0 | M33: =ROUND(H33*E33,2) -> 0 | N33: =ROUND(I33*E33,2) -> 0 | O33: =ROUND(J33*E33,2) -> 0 | P33: =ROUND(M33+N33+O33,2) -> 0
C34: Prefabricēto elementu piegāde uz objektu | D34: kpl | E34: 1 | H34: =ROUND(G34*F34,2) -> 0 | K34: =ROUND(H34+I34+J34,2) -> 0 | L34: =ROUND(F34*E34,2) -> 0 | M34: =ROUND(H34*E34,2) -> 0 | N34: =ROUND(I34*E34,2) -> 0 | O34: =ROUND(J34*E34,2) -> 0 | P34: =ROUND(M34+N34+O34,2) -> 0
C35: Prefabricēto elementu montāža | D35: kpl | E35: 1 | H35: =ROUND(G35*F35,2) -> 0 | K35: =ROUND(H35+I35+J35,2) -> 0 | L35: =ROUND(F35*E35,2) -> 0 | M35: =ROUND(H35*E35,2) -> 0 | N35: =ROUND(I35*E35,2) -> 0 | O35: =ROUND(J35*E35,2) -> 0 | P35: =ROUND(M35+N35+O35,2) -> 0
H36: =ROUND(G36*F36,2) -> 0 | K36: =ROUND(H36+I36+J36,2) -> 0 | L36: =ROUND(F36*E36,2) -> 0 | M36: =ROUND(H36*E36,2) -> 0 | N36: =ROUND(I36*E36,2) -> 0 | O36: =ROUND(J36*E36,2) -> 0 | P36: =ROUND(M36+N36+O36,2) -> 0
C37: ='1.1 Pamati, ā.inž.'!$C$43 -> Tiešās izmaksas kopā, t. sk. darba devēja sociālais nodoklis | L37: =SUM(L14:L36) -> 0 | M37: =SUM(M14:M36) -> 0 | N37: =SUM(N14:N36) -> 0 | O37: =SUM(O14:O36) -> 0 | P37: =SUM(P14:P36) -> 0
A41: ='1.1 Pamati, ā.inž.'!$A$47 -> Sastādīja:
A45: ='1.1 Pamati, ā.inž.'!$A$51 -> Pārbaudīja:

Sheet 2.3 Jumts
A1: Lokālā tāme Nr.2.3
A2: Jumts
A4: ='1.1 Pamati, ā.inž.'!$A$4 -> Objekta nosaukums: VESELĪBAS UN SOCIĀLĀS APRŪPES CENTRS
A5: ='1.1 Pamati, ā.inž.'!$A$5 -> Būves nosaukums: VESELĪBAS UN SOCIĀLĀS APRŪPES CENTRS
A6: ='1.1 Pamati, ā.inž.'!$A$6 -> Objekta adrese: Liliju iela 109
A7: ='1.1 Pamati, ā.inž.'!$A$7 -> Pasūtījuma Nr.:
A9: ='1.1 Pamati, ā.inž.'!$A$9 -> Tāme sastādīta 2026.gada tirgus cenās | M9: Tāmes izmaksas Euro: | O9: =P36 -> 0
P11: =Kops.1!$I$15 -> Tāme sastādīta [datums]
A12: Nr.p.k. | B12: Kods | C12: Būvdarbu nosaukums | D12: Mērvienība | E12: Daudzums | F12: Vienības izmaksas | L12: Kopā uz visu apjomu
F13: laika norma (c/h) | G13: darba samaksas likme (euro/h) | H13: Darba alga | I13: Būvizstrādājumi | J13: Mehānismi | K13: kopā | L13: darbietilpība (c/h) | M13: Darba alga | N13: Būvizstrādājumi | O13: Mehānismi | P13: summa
C14: Jumts JK-1 | K14: =ROUND(H14+I14+J14,2) -> 0 | L14: =ROUND(F14*E14,2) -> 0 | M14: =ROUND(H14*E14,2) -> 0 | N14: =ROUND(I14*E14,2) -> 0 | O14: =ROUND(J14*E14,2) -> 0 | P14: =ROUND(M14+N14+O14,2) -> 0
A15: 1 | C15: Ģipškartona montāža 12mm | D15: m2 | E15: 402.7
A16: 2 | C16: Siltumizolācijas Isover KL 50mm montāža | D16: m2 | E16: 402.7
A17: 3 | C17: Koka karkasa 45x45mm montāža | D17: m2 | E17: 402.7
A18: 4 | C18: Difūzijas membrānas montāža, šuves salīmējot | D18: m2 | E18: 402.7
A19: 5 | C19: Koka latojuma 25x50mm montāža, solis 200mm | D19: m2 | E19: 402.7
A20: 6 | C20: Koka šķērslatojuma 25x100mm montāža, solis 200mm | D20: m2 | E20: 402.7
A21: 7 | C21: Gludā skārda jumta seguma b=0,6mm montāža | D21: m2 | E21: 402.7
C22: Jumts JK-2
A23: 8 | C23: Koka dēļu 21x150mm montāža. Koka dēļi lakoti ar matētu laku. Toni skatīt krāsu pasē | D23: m2 | E23: 62.1
A24: 9 | C24: Koka latojuma 25x50mm montāža, solis 200mm | D24: m2 | E24: =E23 -> 62.1
A25: 10 | C25: Koka šķērslatojuma 25x100mm montāža, solis 200mm | D25: m2 | E25: =E24 -> 62.1
A26: 11 | C26: Difūzijas membrānas montāža, šuves salīmējot | D26: m2 | E26: =E25 -> 62.1
A27: 12 | C27: Koka latojuma 25x50mm montāža, solis 200mm | D27: m2 | E27: =E26 -> 62.1
A28: 13 | C28: Koka šķērslatojuma 25x100mm montāža, solis 200mm | D28: m2 | E28: =E27 -> 62.1
A29: 14 | C29: Gludā skārda jumta seguma b=0,6mm montāža | D29: m2 | E29: =E28 -> 62.1
C30: Jumts, dažādi darbi
A31: 15 | C31: Teknes montāža. Tērauda ar divpusēju PUR pārklājumu ar kopējo materiāla biezumu 0.55mm Tonis RAL7015. kplektēt kopā ar visiem nepieciešamajiem elementiem un stiprinājumiem. | D31: m | E31: 49
A32: 16 | C32: Notekcaurules d=110mm montāža. Tērauda ar divpusēju PUR pārklājumu ar kopējo materiāla biezumu 0.55mm Tonis RAL7015. kplektēt kopā ar visiem nepieciešamajiem elementiem un stiprinājumiem. | D32: m | E32: 23.2
A33: 17 | C33: Sniega barjeras montāža. Cinkotas ar karstās cinkošanas paņemienu. Tonis RAL 7015. | D33: m | E33: 44
A34: 18 | C34: Vējmalas montāža. Krāsots skārds ar PURAL pārklājumu, tonis RAL 7015. Platumā 350mm. Skārda biezums 0.5 mm. | D34: m | E34: 48
C36: ='1.1 Pamati, ā.inž.'!$C$43 -> Tiešās izmaksas kopā, t. sk. darba devēja sociālais nodoklis | L36: =SUM(L14:L35) -> 0 | M36: =SUM(M14:M35) -> 0 | N36: =SUM(N14:N35) -> 0 | O36: =SUM(O14:O35) -> 0 | P36: =SUM(P14:P35) -> 0
A40: ='1.1 Pamati, ā.inž.'!$A$47 -> Sastādīja:
A44: ='1.1 Pamati, ā.inž.'!$A$51 -> Pārbaudīja:

Sheet 2.4 Gridas
A1: Lokālā tāme Nr.2.4
A2: Grīdas
A4: ='1.1 Pamati, ā.inž.'!$A$4 -> Objekta nosaukums: VESELĪBAS UN SOCIĀLĀS APRŪPES CENTRS
A5: ='1.1 Pamati, ā.inž.'!$A$5 -> Būves nosaukums: VESELĪBAS UN SOCIĀLĀS APRŪPES CENTRS
A6: ='1.1 Pamati, ā.inž.'!$A$6 -> Objekta adrese: Liliju iela 109
A7: ='1.1 Pamati, ā.inž.'!$A$7 -> Pasūtījuma Nr.:
A9: ='1.1 Pamati, ā.inž.'!$A$9 -> Tāme sastādīta 2026.gada tirgus cenās | M9: Tāmes izmaksas Euro: | O9: =P17 -> 0
P11: =Kops.1!$I$15 -> Tāme sastādīta [datums]
A12: Nr.p.k. | B12: Kods | C12: Būvdarbu nosaukums | D12: Mērvienība | E12: Daudzums | F12: Vienības izmaksas | L12: Kopā uz visu apjomu
F13: laika norma (c/h) | G13: darba samaksas likme (euro/h) | H13: Darba alga | I13: Būvizstrādājumi | J13: Mehānismi | K13: kopā | L13: darbietilpība (c/h) | M13: Darba alga | N13: Būvizstrādājumi | O13: Mehānismi | P13: summa
C14: Grīda GK-1 | K14: =ROUND(H14+I14+J14,2) -> 0 | L14: =ROUND(F14*E14,2) -> 0 | M14: =ROUND(H14*E14,2) -> 0 | N14: =ROUND(I14*E14,2) -> 0 | O14: =ROUND(J14*E14,2) -> 0 | P14: =ROUND(M14+N14+O14,2) -> 0
A15: 1 | C15: Siltumizolācias slānis 20mm, izlīdzinošā cementa javas slāņa 80mm izbūve | D15: m2 | E15: 340.3
C17: ='1.1 Pamati, ā.inž.'!$C$43 -> Tiešās izmaksas kopā, t. sk. darba devēja sociālais nodoklis | L17: =SUM(L14:L16) -> 0 | M17: =SUM(M14:M16) -> 0 | N17: =SUM(N14:N16) -> 0 | O17: =SUM(O14:O16) -> 0 | P17: =SUM(P14:P16) -> 0
A21: ='1.1 Pamati, ā.inž.'!$A$47 -> Sastādīja:
A25: ='1.1 Pamati, ā.inž.'!$A$51 -> Pārbaudīja:

Sheet 2.5 Sienas
A1: Lokālā tāme Nr.2.5
A2: Ārsienas, starpsienas
A4: ='1.1 Pamati, ā.inž.'!$A$4 -> Objekta nosaukums: VESELĪBAS UN SOCIĀLĀS APRŪPES CENTRS
A5: ='1.1 Pamati, ā.inž.'!$A$5 -> Būves nosaukums: VESELĪBAS UN SOCIĀLĀS APRŪPES CENTRS
A6: ='1.1 Pamati, ā.inž.'!$A$6 -> Objekta adrese: Liliju iela 109
A7: ='1.1 Pamati, ā.inž.'!$A$7 -> Pasūtījuma Nr.:
A9: ='1.1 Pamati, ā.inž.'!$A$9 -> Tāme sastādīta 2026.gada tirgus cenās | M9: Tāmes izmaksas Euro: | O9: =P27 -> 0
P11: =Kops.1!$I$15 -> Tāme sastādīta [datums]
A12: Nr.p.k. | B12: Kods | C12: Būvdarbu nosaukums | D12: Mērvienība | E12: Daudzums | F12: Vienības izmaksas | L12: Kopā uz visu apjomu
F13: laika norma (c/h) | G13: darba samaksas likme (euro/h) | H13: Darba alga | I13: Būvizstrādājumi | J13: Mehānismi | K13: kopā | L13: darbietilpība (c/h) | M13: Darba alga | N13: Būvizstrādājumi | O13: Mehānismi | P13: summa
C14: Cokols | K14: =ROUND(H14+I14+J14,2) -> 0 | L14: =ROUND(F14*E14,2) -> 0 | M14: =ROUND(H14*E14,2) -> 0 | N14: =ROUND(I14*E14,2) -> 0 | O14: =ROUND(J14*E14,2) -> 0 | P14: =ROUND(M14+N14+O14,2) -> 0
A15: 1 | C15: Cokola apdare ar Cembrit rock plāksnēm (Tonis -coal) | D15: m2 | E15: 36.56
C16: Sastatnes
A17: 2 | C17: Sastatņu montāža, demontāža | D17: m2 | E17: 352.19
A18: 3 | C18: sastatņu noma | D18: m2 | E18: =E17 -> 352.19
C19: Ārsiena AS-1
A20: 4 | C20: Ģipškartona Knauf Blue 12,5mm montāža | D20: m2 | E20: 233.8
A21: 5 | C21: Saplākšņa 12mm montāža | D21: m2 | E21: =E20 -> 233.8
A22: 6 | C22: Skaņas izolācijas Isover KL35, 70mm montāža | D22: m2 | E22: =E21 -> 233.8
A23: 7 | C23: Koka karkasa 50x70mm montāža | D23: m2 | E23: =E22 -> 233.8
C24: Starpsienas
A25: 14 | C25: Ģipškartona starpsienas Knauf tipa montāža 100mm, ieskaitot skaņas izolāciju | D25: m2 | E25: =127+167+31+50+30 -> 405
C27: ='1.1 Pamati, ā.inž.'!$C$43 -> Tiešās izmaksas kopā, t. sk. darba devēja sociālais nodoklis | L27: =SUM(L14:L26) -> 0 | M27: =SUM(M14:M26) -> 0 | N27: =SUM(N14:N26) -> 0 | O27: =SUM(O14:O26) -> 0 | P27: =SUM(P14:P26) -> 0
A31: ='1.1 Pamati, ā.inž.'!$A$47 -> Sastādīja:
A35: ='1.1 Pamati, ā.inž.'!$A$51 -> Pārbaudīja:

Sheet 2.6 Ailes
A1: Lokālā tāme Nr.2.6
A2: Ailu aizpildījumi
A4: ='1.1 Pamati, ā.inž.'!$A$4 -> Objekta nosaukums: VESELĪBAS UN SOCIĀLĀS APRŪPES CENTRS
A5: ='1.1 Pamati, ā.inž.'!$A$5 -> Būves nosaukums: VESELĪBAS UN SOCIĀLĀS APRŪPES CENTRS
A6: ='1.1 Pamati, ā.inž.'!$A$6 -> Objekta adrese: Liliju iela 109
A7: ='1.1 Pamati, ā.inž.'!$A$7 -> Pasūtījuma Nr.:
A9: ='1.1 Pamati, ā.inž.'!$A$9 -> Tāme sastādīta 2026.gada tirgus cenās | M9: Tāmes izmaksas Euro: | O9: =P42 -> 0
P11: =Kops.1!$I$15 -> Tāme sastādīta [datums]
A12: Nr.p.k. | B12: Kods | C12: Būvdarbu nosaukums | D12: Mērvienība | E12: Daudzums | F12: Vienības izmaksas | L12: Kopā uz visu apjomu
F13: laika norma (c/h) | G13: darba samaksas likme (euro/h) | H13: Darba alga | I13: Būvizstrādājumi | J13: Mehānismi | K13: kopā | L13: darbietilpība (c/h) | M13: Darba alga | N13: Būvizstrādājumi | O13: Mehānismi | P13: summa
C14: Logi. Sīkāku kplektāciju skatīt specifikācijā. Montāžu veikt saskaņā ar mezgliem
A15: 1 | C15: PVC loga 1200x2150mm montāža. IL-1 | D15: gb | E15: 1
A16: 2 | C16: PVC loga ar 3-stiklu paketi 2000x1900mm montāža. L-1 | D16: gb | E16: 6
A17: 3 | C17: PVC loga ar 3-stiklu paketi 1200x800mm montāža. L-2 | D17: gb | E17: 2
A18: 4 | C18: PVC loga ar 3-stiklu paketi 1200x2200mm montāža. L-3 | D18: gb | E18: 2
A19: 5 | C19: PVC loga ar 3-stiklu paketi 2200x2200mm montāža. L-4 | D19: gb | E19: 2
A20: 6 | C20: PVC loga ar 3-stiklu paketi 3300x2200mm montāža. L-5 | D20: gb | E20: 1
C21: Palodzes
A22: 7 | C22: Ārējās skārda palodzes montāža. Skārds ar PUR pārklājumu ar 30 mm pārkari. | D22: m | E22: 27.1
A23: 8 | C23: Iekšējās palodzes montāža. Izgatavot no līmēta, krāsotā koka vai melamīna 40 mm, ailas plātumā, ar 40 mm pārkari | D23: m | E23: =E22 -> 27.1
C24: Logu ailes
A25: 9 | C25: Ārējā ailu apdare | D25: gb | E25: 14
A26: 10 | C26: Iekšējā ailu apdare | D26: gb | E26: =E25 -> 14
C27: Stiklotās konstrukcijas ar durvīm. Sīkāku kplektāciju skatīt specifikācijā. Montāžu veikt saskaņā ar mezgliem
A28: 11 | C28: Alumīnija stiklotās konstrukcijas SF-1 ar durvīm AD-1 montāža. Izmērs 2200x2200mm | D28: gb | E28: 1
C29: Stiklotās konstrukcijas ar durvīm ailes
A30: 12 | C30: Ārējā ailu apdare | D30: gb | E30: 1
A31: 13 | C31: Iekšējā ailu apdare | D31: gb | E31: 1
C32: Bīdāmās sienas. Sīkāku kplektāciju skatīt specifikācijā. Montāžu veikt saskaņā ar mezgliem
A33: 14 | C33: Salokāmās bīdāmās sienu 3200x3200mm vadotnes sistēmas montāža. BS-1 | D33: gb | E33: 1
C34: Durvis. Sīkāku kplektāciju skatīt specifikācijā. Montāžu veikt saskaņā ar mezgliem
A35: 15 | C35: Finierētu iekšdurvju 1200x2100mm montāža. ID-1 | D35: gb | E35: 6
A36: 16 | C36: Finierētu iekšdurvju 1000x2100mm montāža. ID-2 | D36: gb | E36: 6
A37: 17 | C37: Finierētu iekšdurvju 1000x2100mm montāža. ID-3 | D37: gb | E37: 1
A38: 18 | C38: Finierētu iekšdurvju 1000x2100mm montāža. ID-4 | D38: gb | E38: 2
A39: 19 | C39: Finierētu iekšdurvju 1200x2100mm montāža. ID-5 | D39: gb | E39: 1
A40: 20 | C40: Bīdāmo iekšdurvju 1000x2100mm montāža. ID-7 | D40: gb | E40: 1
C42: ='1.1 Pamati, ā.inž.'!$C$43 -> Tiešās izmaksas kopā, t. sk. darba devēja sociālais nodoklis | L42: =SUM(L14:L41) -> 0 | M42: =SUM(M14:M41) -> 0 | N42: =SUM(N14:N41) -> 0 | O42: =SUM(O14:O41) -> 0 | P42: =SUM(P14:P41) -> 0
A46: ='1.1 Pamati, ā.inž.'!$A$47 -> Sastādīja:
A50: ='1.1 Pamati, ā.inž.'!$A$51 -> Pārbaudīja:

Sheet 2.7 Apdare
A1: Lokālā tāme Nr.2.7
A2: Iekšējie apdares darbi
A4: ='1.1 Pamati, ā.inž.'!$A$4 -> Objekta nosaukums: VESELĪBAS UN SOCIĀLĀS APRŪPES CENTRS
A5: ='1.1 Pamati, ā.inž.'!$A$5 -> Būves nosaukums: VESELĪBAS UN SOCIĀLĀS APRŪPES CENTRS
A6: ='1.1 Pamati, ā.inž.'!$A$6 -> Objekta adrese: Liliju iela 109
A7: ='1.1 Pamati, ā.inž.'!$A$7 -> Pasūtījuma Nr.:
A9: ='1.1 Pamati, ā.inž.'!$A$9 -> Tāme sastādīta 2026.gada tirgus cenās | M9: Tāmes izmaksas Euro: | O9: =P34 -> 0
P11: =Kops.1!$I$15 -> Tāme sastādīta [datums]
A12: Nr.p.k. | B12: Kods | C12: Būvdarbu nosaukums | D12: Mērvienība | E12: Daudzums | F12: Vienības izmaksas | L12: Kopā uz visu apjomu
F13: laika norma (c/h) | G13: darba samaksas likme (euro/h) | H13: Darba alga | I13: Būvizstrādājumi | J13: Mehānismi | K13: kopā | L13: darbietilpība (c/h) | M13: Darba alga | N13: Būvizstrādājumi | O13: Mehānismi | P13: summa
A14: =ROW()-13 -> 1 | C14: Griesti | K14: =ROUND(H14+I14+J14,2) -> 0 | L14: =ROUND(F14*E14,2) -> 0 | M14: =ROUND(H14*E14,2) -> 0 | N14: =ROUND(I14*E14,2) -> 0 | O14: =ROUND(J14*E14,2) -> 0 | P14: =ROUND(M14+N14+O14,2) -> 0
A15: =ROW()-13 -> 2 | C15: Ģipškartona griestu špaktelēšana, slīpēšana, gruntēšana un krāsošana. Gr-1 | D15: m2 | E15: 402.7
A16: =ROW()-13 -> 3 | C16: Griestu lūkas
A17: =ROW()-13 -> 4 | C17: Revīzijas lūkas ģipškartona griestu konstrukcijām montāža. Atvēršana ar piespiešanas mehānismu. Durvīs impregnētas ģipškartona plāksne. Izmēri 400x400 mm. Alulight. GL-1 | D17: gb | E17: 16
A18: =ROW()-13 -> 5 | C18: Revīzijas lūkas ģipškartona griestu konstrukcijām montāža. Atvēršana ar piespiešanas mehānismu. Durvīs impregnētas ģipškartona plāksne. Izmēri 300x300 mm. Alulight. GL-2 | D18: gb | E18: 7
A19: =ROW()-13 -> 6 | C19: Revīzijas lūkas ģipškartona griestu konstrukcijām montāža. Atvēršana ar piespiešanas mehānismu. Durvīs impregnētas ģipškartona plāksne. Izmēri 200x200 mm. Alulight. GL-3 | D19: gb | E19: 8
A20: =ROW()-13 -> 7 | C20: Revīzijas lūkas ģipškartona griestu konstrukcijām montāža. Atvēršana ar piespiešanas mehānismu. Durvīs impregnētas ģipškartona plāksne. Izmēri 600x600 mm. Alulight. GL-4 | D20: gb | E20: 5
A21: =ROW()-13 -> 8 | C21: Sienas
A22: =ROW()-13 -> 9 | C22: Sienu špaktelēšana, slīpēšana, gruntēšana un krāsošana ar pusmatētu, antialerģisku ūdens dispersijas akrila krāsu. Tonis - NCS S 1002Y Tikkurilla G487. IM-1 | D22: m2 | E22: 342.5
A23: =ROW()-13 -> 10 | C23: Sienu špaktelēšana, slīpēšana, gruntēšana un krāsošana ar pusmatētu, antialerģisku ūdens dispersijas akrila krāsu. Tonis - NCS S 1002Y Tikkurilla G487. IM-2 | D23: m2 | E23: 284.9
A24: =ROW()-13 -> 11 | C24: Sienu špaktelēšana, slīpēšana, gruntēšana un krāsošana ar pusmatētu, antialerģisku, mitrumizturīgu krāsu. Tonis - NCS S 1002Y Tikkurilla G487. IM-3 | D24: m2 | E24: 37.8
A25: =ROW()-13 -> 12 | C25: Sienu flīzēšana un šuvošana. Sienas keramikas fīzes: Kerama Marazzi - Avellino light blue glossy 7.4 x 15 cm. Zem flīzēm paredzēt hidroizolāciju. IM-4 | D25: m2 | E25: 157.2
A26: =ROW()-13 -> 13 | C26: Sienu flīzēšana un šuvošana. Sienas keramikas fīzes: Kerama Marazzi - Avelino whitye glossy 7.41 x 15 cm. Zem flīzēm paredzēt hidroizolāciju. IM-5 | D26: m2 | E26: 63.5
A27: =ROW()-13 -> 14 | C27: Grīdas
A28: =ROW()-13 -> 15 | C28: Vinila seguma montāža. Tarkett Starfloor Click Ultimate 55 - Stylish Oak BEIGE. Pretslīdes klase R10. Klasifikācija: 33 kl. Kopējais biezums: 6,50 mm Aizsargslāņa biezums: 0,55 mm Ieklāšanas metode : click Integrēta akustika : 19dB – nevajag un nedrīkst likt papildus apakškārtu. G-1 | D28: m2 | E28: 248.7
A29: =ROW()-13 -> 16 | C29: Grīdu flīzēšana un šuvošana, t.sk., hidroizolācija nepieciešamajās vietās. Grīdu flīzes: Kerama Marazzi - Fondamenta ligt grey rectified 60 x 60 cm. G-2 | D29: m2 | E29: 47
A30: =ROW()-13 -> 17 | C30: Grīdlīstes
A31: =ROW()-13 -> 18 | C31: Koka grīdlīstes montāža.h-80mm. Grīdlīstes ar atbilstošiem stūra profiliem | D31: m | E31: 209
A32: =ROW()-13 -> 19 | C32: Nerūsējošā tērauda sliekšņa montāža. PROGRESS PROFILES, PROTERMINAL, polished finish, AISI 304/1.4301-V2A, augstums 10 vai 12.5mm. | D32: m | E32: 8
C34: ='1.1 Pamati, ā.inž.'!$C$43 -> Tiešās izmaksas kopā, t. sk. darba devēja sociālais nodoklis | L34: =SUM(L14:L33) -> 0 | M34: =SUM(M14:M33) -> 0 | N34: =SUM(N14:N33) -> 0 | O34: =SUM(O14:O33) -> 0 | P34: =SUM(P14:P33) -> 0
A38: ='1.1 Pamati, ā.inž.'!$A$47 -> Sastādīja:
A42: ='1.1 Pamati, ā.inž.'!$A$51 -> Pārbaudīja:

Sheet 2.8 Apr. iekšt.
A1: Lokālā tāme Nr.2.8
A2: =Kops.2!C27 -> Aprīkojums iekštelpu
A4: ='1.1 Pamati, ā.inž.'!$A$4 -> Objekta nosaukums: VESELĪBAS UN SOCIĀLĀS APRŪPES CENTRS
A5: ='1.1 Pamati, ā.inž.'!$A$5 -> Būves nosaukums: VESELĪBAS UN SOCIĀLĀS APRŪPES CENTRS
A6: ='1.1 Pamati, ā.inž.'!$A$6 -> Objekta adrese: Liliju iela 109
A7: ='1.1 Pamati, ā.inž.'!$A$7 -> Pasūtījuma Nr.:
A9: ='1.1 Pamati, ā.inž.'!$A$9 -> Tāme sastādīta 2026.gada tirgus cenās | M9: Tāmes izmaksas Euro: | O9: =P18 -> 0
P11: =Kops.1!$I$15 -> Tāme sastādīta [datums]
A12: Nr.p.k. | B12: Kods | C12: Būvdarbu nosaukums | D12: Mērvienība | E12: Daudzums | F12: Vienības izmaksas | L12: Kopā uz visu apjomu
F13: laika norma (c/h) | G13: darba samaksas likme (euro/h) | H13: Darba alga | I13: Būvizstrādājumi | J13: Mehānismi | K13: kopā | L13: darbietilpība (c/h) | M13: Darba alga | N13: Būvizstrādājumi | O13: Mehānismi | P13: summa
A14: =ROW()-13 -> 1 | C14: Inventārs
A15: =ROW()-13 -> 2 | C15: Evakuācijas shēma | D15: gb | E15: 1
A16: =ROW()-13 -> 3 | C16: Ugunsdzēšamais aparats | D16: gb | E16: 1
C18: ='1.1 Pamati, ā.inž.'!$C$43 -> Tiešās izmaksas kopā, t. sk. darba devēja sociālais nodoklis | L18: =SUM(L14:L17) -> 0 | M18: =SUM(M14:M17) -> 0 | N18: =SUM(N14:N17) -> 0 | O18: =SUM(O14:O17) -> 0 | P18: =SUM(P14:P17) -> 0
A22: ='1.1 Pamati, ā.inž.'!$A$47 -> Sastādīja:
A26: ='1.1 Pamati, ā.inž.'!$A$51 -> Pārbaudīja:

Sheet 2.9 Sanm.
A1: Lokālā tāme Nr.2.9
A2: Sanmezglu aprīkojums
A4: ='1.1 Pamati, ā.inž.'!$A$4 -> Objekta nosaukums: VESELĪBAS UN SOCIĀLĀS APRŪPES CENTRS
A5: ='1.1 Pamati, ā.inž.'!$A$5 -> Būves nosaukums: VESELĪBAS UN SOCIĀLĀS APRŪPES CENTRS
A6: ='1.1 Pamati, ā.inž.'!$A$6 -> Objekta adrese: Liliju iela 109
A7: ='1.1 Pamati, ā.inž.'!$A$7 -> Pasūtījuma Nr.:
A9: ='1.1 Pamati, ā.inž.'!$A$9 -> Tāme sastādīta 2026.gada tirgus cenās | M9: Tāmes izmaksas Euro: | O9: =P65 -> 0
P11: =Kops.1!$I$15 -> Tāme sastādīta [datums]
A12: Nr.p.k. | B12: Kods | C12: Būvdarbu nosaukums | D12: Mērvienība | E12: Daudzums | F12: Vienības izmaksas | L12: Kopā uz visu apjomu
F13: laika norma (c/h) | G13: darba samaksas likme (euro/h) | H13: Darba alga | I13: Būvizstrādājumi | J13: Mehānismi | K13: kopā | L13: darbietilpība (c/h) | M13: Darba alga | N13: Būvizstrādājumi | O13: Mehānismi | P13: summa
A14: =ROW()-13 -> 1 | C14: Tipveida sanmezgla aprīkojums | K14: =ROUND(H14+I14+J14,2) -> 0 | L14: =ROUND(F14*E14,2) -> 0 | M14: =ROUND(H14*E14,2) -> 0 | N14: =ROUND(I14*E14,2) -> 0 | O14: =ROUND(J14*E14,2) -> 0 | P14: =ROUND(M14+N14+O14,2) -> 0
A15: =ROW()-13 -> 2 | C15: Elektriskais regulējams dvieļu žāvētājs. WC-1 | D15: gb | E15: 6
A16: =ROW()-13 -> 3 | C16: Tualetes birste ar turētāju Lounge, hroms. WC-3 | D16: gb | E16: 6
A17: =ROW()-13 -> 4 | C17: Atkrituma tvertne ar pedāli AddStoris, 3l, hroms. WC-4 | D17: gb | E17: 6
A18: =ROW()-13 -> 5 | C18: Tualetes papīra turētājs Lounge, hroms. WC-7 | D18: gb | E18: 6
A19: =ROW()-13 -> 6 | C19: Āķis Lounge, dubultais, hroms. WC-8 | D19: gb | E19: 6
A20: =ROW()-13 -> 7 | C20: Plaukts-režģis Lounge, 246 x137 mm, hroms. WC-9 | D20: gb | E20: 6
A21: =ROW()-13 -> 8 | C21: Dušas aizkaru stienis, hroms. Dušas aizkari. WC-10 | D21: gb | E21: 6
A22: =ROW()-13 -> 9 | C22: Glāze ar turētāju Lounge, hroms. WC-11 | D22: gb | E22: 6
A23: =ROW()-13 -> 10 | C23: Šķidro ziepju trauks ar turētāju Lounge, hroms. WC-12 | D23: gb | E23: 6
A24: =ROW()-13 -> 11 | C24: Soliņš Prima classe, balts/hroms. WC-13 | D24: gb | E24: 6
A25: =ROW()-13 -> 12 | C25: Tipveida sanmezgla sanitārās ierices
A26: =ROW()-13 -> 13 | C26: Dušas traps 758 mm: ACO Shower Drain C, vertikāls atloks H92 mm, reste Square Artikuls: 9010.88.09 | D26: gb | E26: 6
A27: =ROW()-13 -> 14 | C27: Izlietnes maisītājs Vernis Blend, bez sajaukšanas, infra-red, tīkla pieslēgums 230 V, hroms Artikuls: HG71501000 | D27: gb | E27: 6
A28: =ROW()-13 -> 15 | C28: Stūra ventilis Comfort, 1/2"x3/8", bez kompresijas uzgriežņa, hroms Artikuls: 52120699 | D28: gb | E28: 12
A29: =ROW()-13 -> 16 | C29: Izlietne Pro Liberty, 600x550 mm, balta Artikuls: H8119500001041 | D29: gb | E29: 6
A30: =ROW()-13 -> 17 | C30: Iebūvējams izlietnes sifons, 1¼ x 50/40, plastmasa, pelēks/balts/hroms un izlietnes stiprinājumi Artikuls: 553753 | D30: gb | E30: 6
A31: =ROW()-13 -> 18 | C31: Izplūse "click clack" izplūse ar pārplūdi Artikuls: S8803AA | D31: gb | E31: 6
A32: =ROW()-13 -> 19 | C32: Iebūvējamais rāmis podam | D32: gb | E32: 6
A33: =ROW()-13 -> 20 | C33: Geberit tualetes poda | D33: gb | E33: 6
A34: =ROW()-13 -> 21 | C34: Pods Pro Liberty Rimless, stiprināms pie sienas, 360x700 mm, pagarināts, balts Artikuls: H8219600000001 | D34: gb | E34: 6
A35: =ROW()-13 -> 22 | C35: Poda sēdriņķis ar vāku Pro Liberty, balts Artikuls: H8989503000001 | D35: gb | E35: 6
A36: =ROW()-13 -> 23 | C36: Bidette hand shower 1jet S EcoSmart+ for cold water with shower holder and shower hose 125 cm Artikuls: 29230000 | D36: gb | E36: 6
A37: =ROW()-13 -> 24 | C37: Single lever shower mixer for concealed installation for iBox universal Artikuls: 29230000 | D37: gb | E37: 6
... A42: =ROW()-13 -> 29 | C42: Dušas vads Isiflex,1600 mm, hroms Artikuls: HG28276000 | D42: gb | E42: 6
A43: =ROW()-13 -> 30 | C43: Revīzijas lūka
A44: =ROW()-13 -> 31 | C44: Revīzijas lūka ģipškartona konstrukcijām. Atvēršana ar piespiešanas mehānismu. Durvīs impregnētas ģipškartona plāksne. Lūka paredzēta ar flīžu apdari. Izmēri 200x200 mm. SL-1 | D44: gb | E44: 6
A45: =ROW()-13 -> 32 | C45: Guļušo mazgāšanas telpas aprīkojums
A46: =ROW()-13 -> 33 | C46: Elektriskais , regulējams dvieļu žāvētājs. WC-1 | D46: gb | E46: 1
A47: =ROW()-13 -> 34 | C47: Atkrituma tvertne ar pedāli AddStoris, 3l, hroms. WC-4 | D47: gb | E47: 1
A48: =ROW()-13 -> 35 | C48: Āķis Lounge, dubultais, hroms. WC-8 | D48: gb | E48: 1
A49: =ROW()-13 -> 36 | C49: Dušas aizkaru stienis, hroms. Dušas aizkari. WC-10 | D49: gb | E49: 1
A50: =ROW()-13 -> 37 | C50: Šķidro ziepju trauks ar turētāju Lounge, hroms. WC-12 | D50: gb | E50: 1
A51: =ROW()-13 -> 38 | C51: Guļošo mazgāšanas telpas sanitārās ierīces
A52: =ROW()-13 -> 39 | C52: Dušas traps 1185 mm: ACO Shower Drain C, vertikāls atloks H92 mm, reste Square Artikuls: 9010.88.09 | D52: gb | E52: 1
A53: =ROW()-13 -> 40 | C53: Izlietnes maisītājs Vernis Blend, bez sajaukšanas, infra-red, tīkla pieslēgums 230 V, hroms Artikuls: HG71501000 | D53: gb | E53: 1
A54: =ROW()-13 -> 41 | C54: Stūra ventilis Comfort, 1/2"x3/8", bez kompresijas uzgriežņa, hroms Artikuls: 52120699 | D54: gb | E54: 2
A55: =ROW()-13 -> 42 | C55: Izlietne Pro S, 600x380 mm, balta un izlietnes stiprinājums 10x120 (2gb.) Artikuls: H8189590001041 | D55: gb | E55: 1
A56: =ROW()-13 -> 43 | C56: Izlietnes sifons Lineis, 1¼ x 32mm, hromēts misiņš Artikuls: 31608002 | D56: gb | E56: 1
A57: =ROW()-13 -> 44 | C57: Izplūse "click clack" izplūse ar pārplūdi Artikuls: S8803AA | D57: gb | E57: 1
A58: =ROW()-13 -> 45 | C58: Dušas stienis Unica Comfort, 1100mm, kreisā puse/labā puse, balts/hroms Artikuls: HG26403400 | D58: gb | E58: 1
A59: =ROW()-13 -> 46 | C59: Dušas maisītājs Focus Care, hroms Artikuls: HG31916000 | D59: gb | E59: 1
A60: =ROW()-13 -> 47 | C60: Rokas duša Pulsify Select 105 1jet Green, hroms Artikuls: HG24121000 | D60: gb | E60: 1
A61: =ROW()-13 -> 48 | C61: Dušas vads Isiflex,1600 mm, hroms Artikuls: HG28276000 | D61: gb | E61: 1
A62: =ROW()-13 -> 49 | C62: Citi darbi
A63: =ROW()-13 -> 50 | C63: Sistēmas regulēšana, pārbaude | D63: kpl | E63: 1
C65: ='1.1 Pamati, ā.inž.'!$C$43 -> Tiešās izmaksas kopā, t. sk. darba devēja sociālais nodoklis | L65: =SUM(L14:L64) -> 0 | M65: =SUM(M14:M64) -> 0 | N65: =SUM(N14:N64) -> 0 | O65: =SUM(O14:O64) -> 0 | P65: =SUM(P14:P64) -> 0
A69: ='1.1 Pamati, ā.inž.'!$A$47 -> Sastādīja:
A73: ='1.1 Pamati, ā.inž.'!$A$51 -> Pārbaudīja:

Sheet 2.10 Kopl.,aprīk 
A1: Lokālā tāme Nr.2.10
A2: Koplietošanas telpu aprīkojums
A4: ='1.1 Pamati, ā.inž.'!$A$4 -> Objekta nosaukums: VESELĪBAS UN SOCIĀLĀS APRŪPES CENTRS
A5: ='1.1 Pamati, ā.inž.'!$A$5 -> Būves nosaukums: VESELĪBAS UN SOCIĀLĀS APRŪPES CENTRS
A6: ='1.1 Pamati, ā.inž.'!$A$6 -> Objekta adrese: Liliju iela 109
A7: ='1.1 Pamati, ā.inž.'!$A$7 -> Pasūtījuma Nr.:
A9: ='1.1 Pamati, ā.inž.'!$A$9 -> Tāme sastādīta 2026.gada tirgus cenās | M9: Tāmes izmaksas Euro: | O9: =P48 -> 0
P11: =Kops.1!$I$15 -> Tāme sastādīta [datums]
A12: Nr.p.k. | B12: Kods | C12: Būvdarbu nosaukums | D12: Mērvienība | E12: Daudzums | F12: Vienības izmaksas | L12: Kopā uz visu apjomu
F13: laika norma (c/h) | G13: darba samaksas likme (euro/h) | H13: Darba alga | I13: Būvizstrādājumi | J13: Mehānismi | K13: kopā | L13: darbietilpība (c/h) | M13: Darba alga | N13: Būvizstrādājumi | O13: Mehānismi | P13: summa
C14: Terases un noliktāvas aprīkojums | K14: =ROUND(H14+I14+J14,2) -> 0 | L14: =ROUND(F14*E14,2) -> 0 | M14: =ROUND(H14*E14,2) -> 0 | N14: =ROUND(I14*E14,2) -> 0 | O14: =ROUND(J14*E14,2) -> 0 | P14: =ROUND(M14+N14+O14,2) -> 0
A15: 1 | C15: Terases dīvāns | D15: gb | E15: 1
A16: 2 | C16: Terases krēsli | D16: gb | E16: 4
A17: 3 | C17: Terases galds | D17: gb | E17: 1
A18: 4 | C18: Terases saulessargs | D18: gb | E18: 1
A19: 5 | C19: Noliktavu plauktu sistēma | D19: gb | E19: 1
C20: Dažādi
A21: 6 | C21: Koka lenteris d-45 mm | D21: m | E21: 20
A22: 7 | C22: Iestrādāt istabas numuru taktilo (sataustāmo) apzīmējumu vai numuru braila rakstā pie katra istaba | D22: gb | E22: 6
C23: Koplietošanas sanmezgla aprīkojums
A24: 8 | C24: Tualetes birste ar turētāju Lounge, hroms. WC-3 | D24: gb | E24: 1
A25: 9 | C25: Atkrituma tvertne ar pedāli AddStoris, 3l, hroms. WC-4 | D25: gb | E25: 1
A26: 10 | C26: Spogulis cilvēkiem ar īpašām vajadzībām 600 x 800 mm, maināms leņķis, svira regulēšanai. WC-6 | D26: gb | E26: 1
A27: 11 | C27: Tualetes papīra turētājs Lounge, hroms. WC-7 | D27: gb | E27: 1
A28: 12 | C28: Āķis Lounge, dubultais, hroms. WC-8 | D28: gb | E28: 1
A29: 13 | C29: Šķidro ziepju trauks ar turētāju Lounge, hroms. WC-12 | D29: gb | E29: 1
A30: 14 | C30: Paceļams atbalsta rokturis. WC-R-1 | D30: gb | E30: 1
A31: 15 | C31: Atbalsta rokturis. WC-R-2 | D31: gb | E31: 3
C32: Koplietošnas sanmezgla sanitārās ierīces
A33: 16 | C33: Izlietnes maisītājs Vernis Blend, bez sajaukšanas, infra-red, tīkla pieslēgums 230 V, hroms Artikuls: HG71501000 | D33: gb | E33: 1
A34: 17 | C34: Stūra ventilis Comfort, 1/2"x3/8", bez kompresijas uzgriežņa, hroms Artikuls: 52120699 | D34: gb | E34: 2
A35: 18 | C35: Izlietne Pro Liberty, 600x550 mm, balta Artikuls: H8119500001041 | D35: gb | E35: 1
A36: 19 | C36: Iebūvējams izlietnes sifons, 1¼ x 50/40, plastmasa, pelēks/balts/hroms un izlietnes stiprinājumi Artikuls: 553753 | D36: gb | E36: 1
A37: 20 | C37: Izplūse "click clack" izplūde ar pārplūdi Artikuls: S8803AA | D37: gb | E37: 1
A38: 21 | C38: Iebūvējamais rāmis podam Duofix Sigma ar papildu elemntiem atbalsta rokturu stiprināšanai, 425/880x170 mm, h=1120 mm Artikuls: 111.375.00.5 | D38: gb | E38: 1
A39: 22 | C39: Geberit tualetes poda vadība ar elektronisku skalošanas aktivizāciju, darbināšana, izmantojot elektrotīklu, divu režīmu skalošana, noskalošanas panelis Sigma10, automātiska/bezkontakta, skrūvējams Artikuls: 115.906.SN.6 | D39: gb | E39: 1
A40: 23 | C40: Pods Pro Liberty Rimless, stiprināms pie 1 sienas, 360x700 mm, pagarināts, balts Artikuls: H8219600000001 | D40: gb | E40: 1
A41: 24 | C41: Poda sēdriņķis ar vāku Pro Liberty, balts Artikuls: H8989503000001 | D41: gb | E41: 1
A42: 25 | C42: Bidette hand shower 1jet S 1 EcoSmart+ for cold water with shower holder and shower hose 125 cm Artikuls: 29230000 | D42: gb | E42: 1
A43: 26 | C43: Single lever shower mixer for concealed installation for iBox universal Artikuls: 29230000 | D43: gb | E43: 1
A44: 27 | C44: iBox, universālais Artikuls: HG01800180 | D44: gb | E44: 1
C45: Revīzijas lūka
A46: 28 | C46: Revīzijas lūka ģipškartona konstrukcijām. Atvēršana ar piespiešanas mehānismu. Durvīs impregnētas ģipškartona plāksne. Lūka paredzēta ar flīžu apdari. Izmēri 200x200mm. SL-1 | D46: gb | E46: 2
C48: ='1.1 Pamati, ā.inž.'!$C$43 -> Tiešās izmaksas kopā, t. sk. darba devēja sociālais nodoklis | L48: =SUM(L14:L47) -> 0 | M48: =SUM(M14:M47) -> 0 | N48: =SUM(N14:N47) -> 0 | O48: =SUM(O14:O47) -> 0 | P48: =SUM(P14:P47) -> 0
A52: ='1.1 Pamati, ā.inž.'!$A$47 -> Sastādīja:
A56: ='1.1 Pamati, ā.inž.'!$A$51 -> Pārbaudīja:

Sheet 2.11 Apr. ārt.
A1: Lokālā tāme Nr.2.11
A2: =Kops.2!C30 -> Aprīkojums ārtelpu
A4: ='1.1 Pamati, ā.inž.'!$A$4 -> Objekta nosaukums: VESELĪBAS UN SOCIĀLĀS APRŪPES CENTRS
A5: ='1.1 Pamati, ā.inž.'!$A$5 -> Būves nosaukums: VESELĪBAS UN SOCIĀLĀS APRŪPES CENTRS
A6: ='1.1 Pamati, ā.inž.'!$A$6 -> Objekta adrese: Liliju iela 109
A7: ='1.1 Pamati, ā.inž.'!$A$7 -> Pasūtījuma Nr.:
A9: ='1.1 Pamati, ā.inž.'!$A$9 -> Tāme sastādīta 2026.gada tirgus cenās | M9: Tāmes izmaksas Euro: | O9: =P17 -> 0
P11: =Kops.1!$I$15 -> Tāme sastādīta [datums]
A12: Nr.p.k. | B12: Kods | C12: Būvdarbu nosaukums | D12: Mērvienība | E12: Daudzums | F12: Vienības izmaksas | L12: Kopā uz visu apjomu
F13: laika norma (c/h) | G13: darba samaksas likme (euro/h) | H13: Darba alga | I13: Būvizstrādājumi | J13: Mehānismi | K13: kopā | L13: darbietilpība (c/h) | M13: Darba alga | N13: Būvizstrādājumi | O13: Mehānismi | P13: summa
A14: =ROW()-13 -> 1 | C14: Inventārs
A15: =ROW()-13 -> 2 | C15: Ēkas numuru zīme | D15: gb | E15: 1
C17: ='1.1 Pamati, ā.inž.'!$C$43 -> Tiešās izmaksas kopā, t. sk. darba devēja sociālais nodoklis | L17: =SUM(L14:L16) -> 0 | M17: =SUM(M14:M16) -> 0 | N17: =SUM(N14:N16) -> 0 | O17: =SUM(O14:O16) -> 0 | P17: =SUM(P14:P16) -> 0
A21: ='1.1 Pamati, ā.inž.'!$A$47 -> Sastādīja:
A25: ='1.1 Pamati, ā.inž.'!$A$51 -> Pārbaudīja:

Sheet 2.12 Apkure
A1: Lokālā tāme Nr.2.12
A2: Apkure
A4: ='1.1 Pamati, ā.inž.'!$A$4 -> Objekta nosaukums: VESELĪBAS UN SOCIĀLĀS APRŪPES CENTRS
A5: ='1.1 Pamati, ā.inž.'!$A$5 -> Būves nosaukums: VESELĪBAS UN SOCIĀLĀS APRŪPES CENTRS
A6: ='1.1 Pamati, ā.inž.'!$A$6 -> Objekta adrese: Liliju iela 109
A7: ='1.1 Pamati, ā.inž.'!$A$7 -> Pasūtījuma Nr.:
A9: ='1.1 Pamati, ā.inž.'!$A$9 -> Tāme sastādīta 2026.gada tirgus cenās | O9: Tāmes izmaksas Euro: | Q9: =R47 -> 0
R11: =Kops.1!$I$15 -> Tāme sastādīta [datums]
A12: Nr.p.k. | B12: Kods | C12: Būvdarbu nosaukums | F12: Mērvienība | G12: Daudzums | H12: Vienības izmaksas | N12: Kopā uz visu apjomu
H13: laika norma (c/h) | I13: darba samaksas likme (euro/h) | J13: Darba alga | K13: Būvizstrādājumi | L13: Mehānismi | M13: kopā | N13: darbietilpība (c/h) | O13: Darba alga | P13: Būvizstrādājumi | Q13: Mehānismi | R13: summa
A14: =ROW()-13 -> 1 | C14: Apkure (S1). 2. daļa | M14: =ROUND(J14+K14+L14,2) -> 0 | N14: =ROUND(H14*G14,2) -> 0 | O14: =ROUND(J14*G14,2) -> 0 | P14: =ROUND(K14*G14,2) -> 0 | Q14: =ROUND(L14*G14,2) -> 0 | R14: =ROUND(O14+P14+Q14,2) -> 0
A15: =ROW()-13 -> 2 | C15: Apkures siltumsūkņa ar apsaisti un automātiku montāža, programmēšana | F15: kpl. | G15: 1
A16: =ROW()-13 -> 3 | C16: Lodveida vārsts | D16: DN25 | F16: gb. | G16: 6
A17: =ROW()-13 -> 4 | C17: Balansēšanas vārsts | D17: STAD-20, KVs=5,70 | E17: IMI | F17: gb. | G17: 3
A18: =ROW()-13 -> 5 | C18: Tērauda caurules "Prestabo" | D18: Ø28 | E18: Viega | F18: m. | G18: 50
A19: =ROW()-13 -> 6 | C19: Tērauda ūdens un gāzes caurules | D19: DN32 | F19: m. | G19: 45
A20: =ROW()-13 -> 7 | C20: Siltumizolācija b=20mm Prestabo caurulēm | D20: PHSALCT 28-20 | E20: Paroc | F20: m. | G20: 22
A21: =ROW()-13 -> 8 | C21: Siltumizolācija b=20mm tērauda DN32 caurulēm | D21: PHSALCT 42-20 | E21: Paroc | F21: m. | G21: 45
A22: =ROW()-13 -> 9 | C22: Siltumizolācija b=9mm (Tubolit S) | D22: TL-28/9-S | E22: Armacell | F22: m. | G22: 28
A23: =ROW()-13 -> 10 | C23: X-Pert S5+ caurule | D23: 17x2,0 | E23: Roth | F23: m. | G23: 1143
A24: =ROW()-13 -> 11 | C24: Stiprinājums PE-caurulēm | D24: 17/20 | E24: Roth | F24: gb. | G24: 2858
A25: =ROW()-13 -> 12 | C25: Siltumizolācijas rullis 20-2 EPS DES 5.0 | D25: 20mm | E25: Roth | F25: m2 | G25: 270
A26: =ROW()-13 -> 13 | C26: Malu izolācijas lente | D26: 160x10mm | E26: Roth | F26: m | G26: 320
A27: =ROW()-13 -> 14 | C27: MS koniskā savienošā uzmava | D27: 17mm | E27: Roth | F27: gb. | G27: 42
A28: =ROW()-13 -> 15 | C28: Kolektors ar patēriņa mērītāju HK7 | D28: Dynacon Eclipse 9340.-07.800 | E28: IMI | F28: kpl. | G28: 3
A29: =ROW()-13 -> 16 | C29: Skapis | D29: O/ST 6I-74-08 | E29: Kamo | F29: kpl. | G29: 3
A30: =ROW()-13 -> 17 | C30: Caurules novads | D30: 14/17 | E30: Roth | F30: gb. | G30: 42
A31: =ROW()-13 -> 18 | C31: Līmlente | D31: 1135000265 | E31: Roth | F31: gb. | G31: 9
A32: =ROW()-13 -> 19 | C32: Termodeformācijas shuve | D32: L=1,8m | E32: Roth | F32: gb. | G32: 19
A33: =ROW()-13 -> 20 | C33: Plastifikators | D33: ZE20 (20L) | E33: Roth | F33: gb. | G33: 3.5
A34: =ROW()-13 -> 21 | C34: Gofrētas caurules apvalks | D34: 19/25 | E34: Roth | F34: m. | G34: 185
A35: =ROW()-13 -> 22 | C35: Stiprinājums caurulēm tips D | D35: 1135000357 | E35: Roth | F35: gb. | G35: 231
A36: =ROW()-13 -> 23 | C36: Sienas termostats | F36: kpl. | G36: 18
A37: =ROW()-13 -> 24 | C37: Piedziņas mehānisms 24V | E37: Roth | F37: kpl. | G37: 21
A38: =ROW()-13 -> 25 | C38: Automātiskais atgaisotājs | D38: Ø15 | F38: gb. | G38: 6
A39: =ROW()-13 -> 26 | C39: Prestabo cauruļu veidgbali | F39: kpl. | G39: 1
A40: =ROW()-13 -> 27 | C40: Pretkorozijas krāsa | E40: 2x krasošana | F40: kg | G40: 1.5
A41: =ROW()-13 -> 28 | C41: Cauruļu stiprinājumi | F41: kpl. | G41: 1
A42: =ROW()-13 -> 29 | C42: Elektrokomutācijas materiāli | F42: kpl. | G42: 1
A43: =ROW()-13 -> 30 | C43: Marķēšanas materiāli | F43: kpl. | G43: 1
A44: =ROW()-13 -> 31 | C44: Palīgmateriāli | F44: kpl. | G44: 1
A45: =ROW()-13 -> 32 | C45: Hidrauliskā pārbaude un ieregulēšana | F45: kpl. | G45: 1
C47: Tiešās izmaksas kopā, t. sk. darba devēja sociālais nodoklis | N47: =SUM(N14:N46) -> 0 | O47: =SUM(O14:O46) -> 0 | P47: =SUM(P14:P46) -> 0 | Q47: =SUM(Q14:Q46) -> 0 | R47: =SUM(R14:R46) -> 0
A51: ='1.1 Pamati, ā.inž.'!$A$47 -> Sastādīja:
A55: ='1.1 Pamati, ā.inž.'!$A$51 -> Pārbaudīja:

Sheet 2.13 Vent.
A1: Lokālā tāme Nr.2.13
A2: Ventilācija
A4: ='1.1 Pamati, ā.inž.'!$A$4 -> Objekta nosaukums: VESELĪBAS UN SOCIĀLĀS APRŪPES CENTRS
A5: ='1.1 Pamati, ā.inž.'!$A$5 -> Būves nosaukums: VESELĪBAS UN SOCIĀLĀS APRŪPES CENTRS
A6: ='1.1 Pamati, ā.inž.'!$A$6 -> Objekta adrese: Liliju iela 109
A7: ='1.1 Pamati, ā.inž.'!$A$7 -> Pasūtījuma Nr.:
A9: ='1.1 Pamati, ā.inž.'!$A$9 -> Tāme sastādīta 2026.gada tirgus cenās | O9: Tāmes izmaksas Euro: | Q9: =R45 -> 0
R11: =Kops.1!$I$15 -> Tāme sastādīta [datums]
A12: Nr.p.k. | B12: Kods | C12: Būvdarbu nosaukums | F12: Mērvienība | G12: Daudzums | H12: Vienības izmaksas | N12: Kopā uz visu apjomu
H13: laika norma (c/h) | I13: darba samaksas likme (euro/h) | J13: Darba alga | K13: Būvizstrādājumi | L13: Mehānismi | M13: kopā | N13: darbietilpība (c/h) | O13: Darba alga | P13: Būvizstrādājumi | Q13: Mehānismi | R13: summa
C14: PN1 2. daļa | M14: =ROUND(J14+K14+L14,2) -> 0 | N14: =ROUND(H14*G14,2) -> 0 | O14: =ROUND(J14*G14,2) -> 0 | P14: =ROUND(K14*G14,2) -> 0 | Q14: =ROUND(L14*G14,2) -> 0 | R14: =ROUND(O14+P14+Q14,2) -> 0
A15: 1 | C15: Trokšņa slāpētājs | D15: KVAp-100-600-1 | E15: Lindab | F15: gb. | G15: 12
A16: 2 | C16: Pieplūdes reste ar rāmi | D16: SV2 300x100 | E16: FlaktGroup | F16: kpl. | G16: 6
A17: 3 | C17: Pieplūdes difuzors ar kārbu ar plūsmas regulēšanas funkciju | D17: JDB/P-125(R1)WS=NA+TRH-100 | E17: Halton | F17: kpl. | G17: 1
A18: 4 | C18: Pieplūdes difuzors ar kārbu ar plūsmas regulēšanas funkciju | D18: JDB/P-160(R4)WS=NA+TRH-160 | E18: Halton | F18: kpl. | G18: 2
A19: 5 | C19: Nosūces difuzors | D19: ULA-100 | E19: Halton | F19: gb. | G19: 9
A20: 6 | C20: Nosūces difuzors ar kārbu ar plūsmas regulēšanas funkciju | D20: JDB/P-125(E)WS=NA+TRH-100 | E20: Halton | F20: gb. | G20: 1
A21: 7 | C21: Nosūces difuzors ar kārbu ar plūsmas regulēšanas funkciju | D21: JDB/P-160(E)WS=NA+TRH-160 | E21: Halton | F21: gb. | G21: 1
A22: 8 | C22: Droseļvārsts | D22: IRIS-100 | E22: FlaktGroup | F22: gb. | G22: 4
A23: 9 | C23: CAV vārsts | D23: ECSS-2-100-1 | E23: FlaktGroup | F23: gb. | G23: 13
A24: 10 | C24: CAV vārsts | D24: ECSS-2-160-1 | E24: FlaktGroup | F24: gb. | G24: 1
A25: 11 | C25: VAV vārsts | D25: ULSA-5-160 | E25: FlaktGroup | F25: kpl. | G25: 2
A26: 12 | C26: Telpas vadības bloks | D26: STRA-24 | E26: FlaktGroup | F26: kpl. | G26: 1
... A29: 15 | C29: Ugunsdrošības vārsts | D29: CR60-200 MFUS(P) | E29: RF-Technologies | F29: gb. | G29: 2
A30: 16 | C30: Gaisa vadi no cinkotā skārda | D30: Ø100 | F30: m. | G30: 72
A31: 17 | C31: Gaisa vadi no cinkotā skārda | D31: Ø125 | F31: m. | G31: 8
A32: 18 | C32: Gaisa vadi no cinkotā skārda | D32: Ø160 | F32: m. | G32: 16
A33: 19 | C33: Gaisa vadi no cinkotā skārda | D33: Ø200 | F33: m. | G33: 29
A34: 20 | C34: Gaisa vadi no cinkotā skārda | D34: 300x100 | F34: m. | G34: 1
A35: 21 | C35: Tīrīšanas lūkas | F35: gb. | G35: 13
A36: 22 | C36: Stiprināšanas materiāli | F36: kpl. | G36: 1
A37: 23 | C37: Blīvēšanas materiāli | F37: kpl. | G37: 1
A38: 24 | C38: Gaisa vadu veidgbali | F38: kpl. | G38: 1
A39: 25 | C39: Marķēšanas materiāli | F39: kpl. | G39: 1
A40: 26 | C40: Palīgmateriāli | F40: kpl. | G40: 1
A41: 27 | C41: Elektrokomutācijas materiāli | F41: kpl. | G41: 1
A42: 28 | C42: Regulēšanas un palaišanas darbi | F42: kpl. | G42: 1
A43: 29 | C43: Ugunsdrošā aizdare ugunsdrošības vārstiem | F43: kpl. | G43: 2
C45: Tiešās izmaksas kopā, t. sk. darba devēja sociālais nodoklis | N45: =SUM(N14:N44) -> 0 | O45: =SUM(O14:O44) -> 0 | P45: =SUM(P14:P44) -> 0 | Q45: =SUM(Q14:Q44) -> 0 | R45: =SUM(R14:R44) -> 0
A49: ='1.1 Pamati, ā.inž.'!$A$47 -> Sastādīja:
A53: ='1.1 Pamati, ā.inž.'!$A$51 -> Pārbaudīja:

Sheet 2.14 Kond.
A1: Lokālā tāme Nr.2.14
A2: Gaisa kondicionēšana
A4: ='1.1 Pamati, ā.inž.'!$A$4 -> Objekta nosaukums: VESELĪBAS UN SOCIĀLĀS APRŪPES CENTRS
A5: ='1.1 Pamati, ā.inž.'!$A$5 -> Būves nosaukums: VESELĪBAS UN SOCIĀLĀS APRŪPES CENTRS
A6: ='1.1 Pamati, ā.inž.'!$A$6 -> Objekta adrese: Liliju iela 109
A7: ='1.1 Pamati, ā.inž.'!$A$7 -> Pasūtījuma Nr.:
A9: ='1.1 Pamati, ā.inž.'!$A$9 -> Tāme sastādīta 2026.gada tirgus cenās | O9: Tāmes izmaksas Euro: | Q9: =R60 -> 0
R11: =Kops.1!$I$15 -> Tāme sastādīta [datums]
A12: Nr.p.k. | B12: Kods | C12: Būvdarbu nosaukums | F12: Mērvienība | G12: Daudzums | H12: Vienības izmaksas | N12: Kopā uz visu apjomu
H13: laika norma (c/h) | I13: darba samaksas likme (euro/h) | J13: Darba alga | K13: Būvizstrādājumi | L13: Mehānismi | M13: kopā | N13: darbietilpība (c/h) | O13: Darba alga | P13: Būvizstrādājumi | Q13: Mehānismi | R13: summa
C14: K2 sistēma (VRF) 2. daļa | M14: =ROUND(J14+K14+L14,2) -> 0 | N14: =ROUND(H14*G14,2) -> 0 | O14: =ROUND(J14*G14,2) -> 0 | P14: =ROUND(K14*G14,2) -> 0 | Q14: =ROUND(L14*G14,2) -> 0 | R14: =ROUND(O14+P14+Q14,2) -> 0
A15: 1 | C15: Ārējais kondicioniera bloks ar stiprinājumiem | D15: FDC280KXZME1 | E15: Mitsubishi heavy | F15: kpl. | G15: 1
A16: 2 | C16: Iekšējais bloks ar kondensāta sūkni un stiprinājumiem | D16: FDUT28KXE6F-E | E16: Mitsubishi heavy | F16: kpl. | G16: 6
A17: 3 | C17: Iekšējais bloks ar kondensāta sūkni un stiprinājumiem | D17: FDTC56KXZE1 | E17: Mitsubishi heavy | F17: kpl. | G17: 2
A18: 4 | C18: Iekšējais bloks ar kondensāta sūkni un stiprinājumiem | D18: FDT36KXE6 | E18: Mitsubishi heavy | F18: kpl. | G18: 1
A19: 5 | C19: Iekšējais bloks ar kondensāta sūkni un stiprinājumiem | D19: FDTC22KXZE1 | E19: Mitsubishi heavy | F19: kpl. | G19: 1
A20: 6 | C20: Panelis | D20: TC-PSA-25W-E | E20: Mitsubishi heavy | F20: kpl. | G20: 1
A21: 7 | C21: Panelis | D21: TC-PSA-5AW-E | E21: Mitsubishi heavy | F21: kpl. | G21: 3
A22: 8 | C22: Vadības pults | D22: RC-EX3A | E22: Mitsubishi heavy | F22: gb. | G22: 9
A23: 9 | C23: Freons | D23: R-410A | F23: kg. | G23: 4.5
A24: 10 | C24: Freona plūsmas sadalītājs | D24: DIS-180-1G | E24: Mitsubishi heavy | F24: gb. | G24: 5
A25: 11 | C25: Freona plūsmas sadalītājs | D25: DIS-22-1G | E25: Mitsubishi heavy | F25: gb. | G25: 4
A26: 12 | C26: Vara dzesēšanas caurules ar izolāciju | D26: 1/4" | F26: m. | G26: 40
A27: 13 | C27: Vara dzesēšanas caurules ar izolāciju | D27: 3/8" | F27: m. | G27: 74
A28: 14 | C28: Vara dzesēšanas caurules ar izolāciju | D28: 1/2" | F28: m. | G28: 22
A29: 15 | C29: Vara dzesēšanas caurules ar izolāciju | D29: 5/8" | F29: m. | G29: 12
A30: 16 | C30: Vara dzesēšanas caurules ar izolāciju | D30: 3/4" | F30: m. | G30: 14
A31: 17 | C31: Vara dzesēšanas caurules ar izolāciju | D31: 7/8" | F31: m. | G31: 7
A32: 18 | C32: Cauruļu stiprinājumi | F32: kpl. | G32: 1
A33: 19 | C33: Vara cauruļu veidgbali | F33: kpl. | G33: 1
A34: 20 | C34: Elektrokomutācijas materiāli | F34: kpl. | G34: 1
A35: 21 | C35: Marķēšanas materiāli | F35: kpl. | G35: 1
A36: 22 | C36: Palīgmateriāli | F36: kpl. | G36: 1
A37: 23 | C37: Palaišanas darbi | F37: kpl. | G37: 1
C38: Siltumapgade(S2)
A39: 24 | C39: PN1 sajaukšanas mezgls:
A40: 25 | C40: Cirkulācijas sūknis | D40: ALPHA3 25-60 180 | E40: Grundfos | F40: kpl. | G40: 1
A41: 26 | C41: Trīsceļu vārsts | D41: CV316 RGA DN15, KVs=4,0 | E41: IMI | F41: kpl. | G41: 1
A42: 27 | C42: Izpildes mehānisms | D42: TA-Slider 750 | E42: IMI | F42: kpl. | G42: 1
A43: 28 | C43: Filtrs | D43: DN32 | F43: gb. | G43: 1
A44: 29 | C44: Lodveida vārsts | D44: DN32 | F44: gb. | G44: 4
A45: 30 | C45: Pretvārsts | D45: DN32 | F45: gb. | G45: 1
A46: 31 | C46: Balansēšanas vārsts | D46: STAD-15 KVs=2,52 | E46: IMI | F46: gb. | G46: 1
A47: 32 | C47: Balansēšanas vārsts | D47: STAD-25 KVs=8,70 | E47: IMI | F47: gb. | G47: 2
A48: 33 | C48: Termometrs T=0-100*C | F48: kpl. | G48: 4
A49: 34 | C49: Manometrs ar trīsceļu vārstu P=0-6 Bar | F49: kpl. | G49: 3
A50: 35 | C50: Automātiskais atgaisotājs | D50: Ø15 | F50: gb. | G50: 2
A51: 36 | C51: Tērauda Prestabo caurules | D51: DN32 | F51: m. | G51: 6
A52: 37 | C52: Siltumizolācija čaulās b=20mm tērauda caurulēm | D52: PHSALCT 35-20 | E52: Paroc | F52: m. | G52: 6
A53: 38 | C53: Tērauda cauruļu veidgbali | F53: kpl. | G53: 1
A54: 39 | C54: Cauruļu stiprinājumi | F54: kpl. | G54: 1
A55: 40 | C55: Marķēšanas materiāli | F55: kpl. | G55: 1
A56: 41 | C56: Elektrokomutācijas materiāli | F56: kpl. | G56: 1
A57: 42 | C57: Palīgmateriāli | F57: kpl. | G57: 1
A58: 43 | C58: Palaišanas darbi | F58: kpl. | G58: 1
C60: Tiešās izmaksas kopā, t. sk. darba devēja sociālais nodoklis | N60: =SUM(N14:N59) -> 0 | O60: =SUM(O14:O59) -> 0 | P60: =SUM(P14:P59) -> 0 | Q60: =SUM(Q14:Q59) -> 0 | R60: =SUM(R14:R59) -> 0
A64: ='1.1 Pamati, ā.inž.'!$A$47 -> Sastādīja:
A68: ='1.1 Pamati, ā.inž.'!$A$51 -> Pārbaudīja:

Sheet 2.15 UK
A1: Lokālā tāme Nr.2.15
A2: Ūdensapgāde un kanalizācija
A4: ='1.1 Pamati, ā.inž.'!$A$4 -> Objekta nosaukums: VESELĪBAS UN SOCIĀLĀS APRŪPES CENTRS
A5: ='1.1 Pamati, ā.inž.'!$A$5 -> Būves nosaukums: VESELĪBAS UN SOCIĀLĀS APRŪPES CENTRS
A6: ='1.1 Pamati, ā.inž.'!$A$6 -> Objekta adrese: Liliju iela 109
A7: ='1.1 Pamati, ā.inž.'!$A$7 -> Pasūtījuma Nr.:
A9: ='1.1 Pamati, ā.inž.'!$A$9 -> Tāme sastādīta 2026.gada tirgus cenās | O9: Tāmes izmaksas Euro: | Q9: =R113 -> 0
R11: =Kops.1!$I$15 -> Tāme sastādīta [datums]
A12: Nr.p.k. | B12: Kods | C12: Būvdarbu nosaukums | F12: Mērvienība | G12: Daudzums | H12: Vienības izmaksas | N12: Kopā uz visu apjomu
H13: laika norma (c/h) | I13: darba samaksas likme (euro/h) | J13: Darba alga | K13: Būvizstrādājumi | L13: Mehānismi | M13: kopā | N13: darbietilpība (c/h) | O13: Darba alga | P13: Būvizstrādājumi | Q13: Mehānismi | R13: summa
C14: U1. AUKSTĀ ŪDENSAPGĀDE | M14: =ROUND(J14+K14+L14,2) -> 0 | N14: =ROUND(H14*G14,2) -> 0 | O14: =ROUND(J14*G14,2) -> 0 | P14: =ROUND(K14*G14,2) -> 0 | Q14: =ROUND(L14*G14,2) -> 0 | R14: =ROUND(O14+P14+Q14,2) -> 0
A15: 1 | C15: PE-Xc/Al/PE caurule ar veidgbaliem | D15: OD20x2.25, PN10 (DN15) | E15: "Wavin" vai ekvivalenta | F15: m | G15: 75
A16: 2 | C16: PE-Xc/Al/PE caurule ar veidgbaliem | D16: OD25x2.5, PN10 (DN20) | E16: "Wavin" vai ekvivalenta | F16: m | G16: 28
A17: 3 | C17: PE-Xc/Al/PE caurule ar veidgbaliem | D17: OD32x3.0, PN10 (DN25) | E17: "Wavin" vai ekvivalenta | F17: m | G17: 34
A18: 4 | C18: Lodveida ventilis | D18: DN15, PN10 | F18: gb | G18: 6
A19: 5 | C19: Lodveida ventilis | D19: DN20, PN10 | F19: gb | G19: 7
A20: 6 | C20: Lodveida ventilis | D20: DN25, PN10 | F20: gb | G20: 7
A21: 7 | C21: Pretvārsts | D21: DN20, PN10 | F21: gb | G21: 7
A22: 8 | C22: Lokanais savienojums, L=500 | D22: DN15 | F22: gb | G22: 38
A23: 9 | C23: Krāns trauku mazgājamai mašīnai | D23: DN15 | F23: gb | G23: 2
A24: 10 | C24: Laistāmais krāns, neaizsalstošs (iestrādei fasādē) | D24: DN15 | E24: Oras | F24: kpl | G24: 2
A25: 11 | C25: Pieslēgums klozetpoda skalojamajai kastei | F25: gb | G25: 7
A26: 12 | C26: Pieslēgums roku mazgatnes jaucējkrānam | F26: gb | G26: 8
A27: 13 | C27: Pieslēgums trauku mazgātnes jaucējkrānam | F27: gb | G27: 1
A28: 14 | C28: Pieslēgums dušai | F28: gb | G28: 7
A29: 15 | C29: Cauruļu izolācija "Tubolit S Plus" | D29: caurulei OD20, b=6mm | E29: grīdā, vai ekvivalenta | F29: m | G29: 15
A30: 16 | C30: Cauruļu izolācija "Tubolit DG" | D30: caurulei OD20, b=13mm | E30: vai ekvivalenta | F30: m | G30: 60
A31: 17 | C31: Cauruļu izolācija "Tubolit DG" | D31: caurulei OD25, b=13mm | E31: vai ekvivalenta | F31: m | G31: 28
A32: 18 | C32: Cauruļu izolācija "Tubolit DG" | D32: caurulei OD32, b=13mm | E32: vai ekvivalenta | F32: m | G32: 34
A33: 19 | C33: Ugunsdrošais blīvējums/manžete | D33: OD20-OD32 | E33: Atbilstoši ugunsdrošības klasei un Pielikumam Nr. 1 un Nr.2 | F33: vietas | G33: 2
A34: 20 | C34: Cauruļvadu un veidgbalu stiprinājumi | E34: atbilstoši ražotāja norādījumiem | F34: kpl | G34: 1
A35: 21 | C35: Tīklu skalošana, dezinfekcija, hidrauliskā parbaude | F35: m | G35: 137
A36: 22 | C36: MĒRAPARĀTA MEZGLS Bloks Nr.2
A37: 23 | C37: Aukstā ūdens skaitītājs, ar iespēju pievienot impulsu devēju | D37: 15 | E37: Zenner, uzstādīt ieejas bloka tehniskajā telpā | F37: gb | G37: 1
A38: 24 | C38: Tērauda cauruļvads | D38: 15 | F38: m | G38: 1
A39: 25 | C39: Lodveida ventilis | D39: DN15 | F39: gb | G39: 2
A40: 26 | C40: Diametru pāreja | D40: DN32/15 | F40: gb | G40: 1
A41: 27 | C41: Mehāniskais filtrs | D41: DN15 | F41: gb | G41: 1
A42: 28 | C42: Manometrs P=0÷10 kgc/cm² | F42: gb | G42: 1
C43: S3. KARSTĀ ŪDENSAPGĀDE
A44: 29 | C44: PE-Xc/Al/PE caurule ar veidgbaliem | D44: OD20x2.25, PN10 (DN15) | E44: "Wavin" vai ekvivalenta | F44: m | G44: 67
A45: 30 | C45: PE-Xc/Al/PE caurule ar veidgbaliem | D45: OD25x2.5, PN10 (DN20) | E45: "Wavin" vai ekvivalenta | F45: m | G45: 41
A46: 31 | C46: Lodveida ventilis | D46: DN15, PN10 | F46: gb | G46: 2
A47: 32 | C47: Lodveida ventilis | D47: DN20, PN10 | F47: gb | G47: 14
A48: 33 | C48: Pretvārsts | D48: DN20, PN10 | F48: gb | G48: 7
A49: 34 | C49: Termojaucējvārsts | D49: DN20, PN10 | F49: gb | G49: 7
A50: 35 | C50: Lokanais savienojums, L=500 | D50: DN15 | F50: gb | G50: 9
A51: 36 | C51: Pieslēgums roku mazgatnes jaucējkrānam | F51: gb | G51: 8
A52: 37 | C52: Pieslēgums trauku mazgātnes jaucējkrānam | F52: gb | G52: 1
A53: 38 | C53: Cauruļu izolācija "Tubolit DG" | D53: caurulei OD20, b=9mm | E53: grīdā, vai ekvivalenta | F53: m | G53: 15
A54: 39 | C54: Cauruļu izolācija "Tubolit DG" | D54: caurulei OD20, b=20mm | E54: vai ekvivalenta | F54: m | G54: 52
A55: 40 | C55: Cauruļu izolācija "Tubolit DG" | D55: caurulei OD25, b=20mm | E55: vai ekvivalenta | F55: m | G55: 41
A56: 41 | C56: Cauruļu un veidgbalu stiprinājumi | E56: atbilstoši ražotāja norādījumiem | F56: kpl | G56: 1
A57: 42 | C57: Ugunsdrošais blīvējums/manžete | D57: OD20-OD25 | E57: Atbilstoši ugunsdrošības klasei un Pielikumam Nr. 1 un Nr.2 | F57: vietas | G57: 2
A58: 43 | C58: Tīklu skalošana, dezinfekcija, hidrauliska parbaude | F58: m | G58: 108
A59: 44 | C59: MĒRAPARĀTA MEZGLS Bloks Nr.2
A60: 45 | C60: Karstā ūdens skaitītājs, ar iespēju pievienot impulsu devēju | D60: 15 | E60: Zenner | F60: gb | G60: 1
A61: 46 | C61: Tērauda cauruļvads | D61: 15 | F61: m | G61: 1
A62: 47 | C62: Lodveida ventilis | D62: DN15 | F62: gb | G62: 2
A63: 48 | C63: Diametru pāreja | D63: DN25/15 | F63: gb | G63: 2
A64: 49 | C64: Mehāniskais filtrs | D64: DN15 | F64: gb | G64: 1
A65: 50 | C65: Manometrs P=0÷10 kgc/cm² | F65: gb | G65: 1
C66: S4. CIRKULĀCIJAS ŪDENSAPGĀDE
A67: 51 | C67: PE-Xc/Al/PE caurule ar veidgbaliem | D67: OD20x2.25, PN10 (DN15) | E67: "Wavin" vai ekvivalenta | F67: m | G67: 31
A68: 52 | C68: Lodveida ventilis | D68: DN15, PN10 | F68: gb | G68: 1
A69: 53 | C69: Balansējošais vārsts | D69: DN15, PN10 | E69: MTCV | F69: gb | G69: 1
A70: 54 | C70: Cauruļu izolācija "Tubolit DG" | D70: caurulei OD20, b=20mm | E70: vai ekvivalenta | F70: m | G70: 31
A71: 55 | C71: Ugunsdrošais blīvējums/manžete | D71: OD20 | E71: Atbilstoši ugunsdrošības klasei un Pielikumam Nr. 1 un Nr.2 | F71: vietas | G71: 2
A72: 56 | C72: Cauruļu un veidgbalu stiprinājumi | E72: atbilstoši ražotāja norādījumiem | F72: kpl | G72: 1
A73: 57 | C73: Tīklu skalošana, dezinfekcija, hidrauliska parbaude | F73: m | G73: 31
C74: S5. SILTĀ ŪDENS SISTĒMA
A75: 58 | C75: PE-Xc/Al/PE caurule ar veidgbaliem | D75: OD20x2.25, PN10 (DN15) | E75: "Wavin" vai ekvivalenta | F75: m | G75: 10
A76: 59 | C76: PE-Xc/Al/PE caurule ar veidgbaliem | D76: OD25x2.5, PN10 (DN20) | E76: "Wavin" vai ekvivalenta | F76: m | G76: 23
A77: 60 | C77: Dušas jaucejkrāna pieslēgums | F77: gb | G77: 7
A78: 61 | C78: Bidetta pieslēgums | F78: gb | G78: 7
A79: 62 | C79: Cauruļu izolācija "Tubolit DG" | D79: caurulei OD20, b=20mm | E79: vai ekvivalenta | F79: m | G79: 10
A80: 63 | C80: Cauruļu izolācija "Tubolit DG" | D80: caurulei OD25, b=20mm | E80: vai ekvivalenta | F80: m | G80: 23
A81: 64 | C81: Cauruļu un veidgbalu stiprinājumi | E81: atbilstoši ražotāja norādījumiem | F81: kpl | G81: 1
A82: 65 | C82: Tīklu skalošana, dezinfekcija, hidrauliska parbaude | F82: m | G82: 33
C83: K1. SADZĪVES KANALIZĀCIJA
A84: 66 | C84: PP monolītsienu kanalizācijas caurule ar veidgbaliem | D84: PP, OD110, SN8 | E84: RIGID MULTI, zem grīdas, grunti | F84: m | G84: 30
A85: 67 | C85: PVC kanalizācijas caurule ar veidgbaliem | D85: OD50 | E85: Wavin Optima vai ekvivalents | F85: m | G85: 10
A86: 68 | C86: PVC kanalizācijas caurule ar veidgbaliem | D86: OD110 | E86: Wavin Optima vai ekvivalents | F86: m | G86: 12
A87: 69 | C87: Revīzija | D87: OD110 | E87: Wavin | F87: gb | G87: 3
A88: 70 | C88: Prettrokšņa un pretkondensāta izolācija | D88: caurulei OD110, b=13mm | E88: Armaflex XG vai ekvivalentu | F88: m | G88: 12
A89: 71 | C89: Tīrīšanas lūka uz cauruļvada | D89: OD110 | E89: ACO Nordic | F89: gb | G89: 1
A90: 72 | C90: Sifons TM | D90: OD50 | F90: gb | G90: 1
A91: 73 | C91: Pieslēgums dušas kanālam | F91: gb | G91: 7
A92: 74 | C92: Pieslēgums klozetpodam | F92: gb | G92: 7
A93: 75 | C93: Roku mazgatnes pieslēgums | F93: gb | G93: 8
A94: 76 | C94: Pieslēgums roku mazgatnei | F94: gb | G94: 1
A95: 77 | C95: Nerūsējošā tērauda kanāla korpuss ar nerūsējošā tērauda trapu ACO ShowerDrain C ar stiprināšanas kājiņām un vertikālu hermetizācijas atloku (flanci) (L1=885mm, L2=945, B=112mm), kplektā ar Wave režģi | E95: ACO vai ekvivalents | F95: kpl | G95: 6
A96: 78 | C96: Nerūsējošā tērauda kanāla korpuss ar nerūsējošā tērauda trapu ACO ShowerDrain C ar stiprināšanas kājiņām un vertikālu hermetizācijas atloku (flanci) (L2000mm), kplektā ar Wave režģi, izbūvei vinilla (linoleja) grīdas segumā | E96: ACO vai ekvivalents | F96: kpl | G96: 1
A97: 79 | C97: Kanalizācijas stāvvada vedināšanas izvads uz jumtu (gals) no UV izturīga materiāla | D97: caurulei OD110 | E97: PE, HDPE, vai metāla precizēt ar pasūtītāju | F97: gb/piece | G97: 3
A98: 80 | C98: Cauruļu un veidgbalu stiprinājumi | E98: atbilstoši ražotāja norādījumiem | F98: kpl | G98: 1
C99: C.KONDENSĀTA NOVADĪŠANA
A100: 81 | C100: PVC kanalizācijas caurule ar veidgbaliem | D100: OD32 | F100: m | G100: 42
A101: 82 | C101: Sifons Hepvo | D101: OD32 | E101: pieslēgumā pie K1 | F101: gb | G101: 8
A102: 83 | C102: Lodveida sifons | D102: OD32 | F102: gb | G102: 9
A103: 84 | C103: Pretkondensāta izolācija | D103: caurulei OD32, b=5mm | E103: Armaflex XG vai ekvivalentu | F103: m | G103: 42
...

Sheet 2.16 EL
A1: Lokālā tāme Nr.2.16
A2: Elektroapgāde
A4: ='1.1 Pamati, ā.inž.'!$A$4 -> Objekta nosaukums: VESELĪBAS UN SOCIĀLĀS APRŪPES CENTRS
A5: ='1.1 Pamati, ā.inž.'!$A$5 -> Būves nosaukums: VESELĪBAS UN SOCIĀLĀS APRŪPES CENTRS
A6: ='1.1 Pamati, ā.inž.'!$A$6 -> Objekta adrese: Liliju iela 109
A7: ='1.1 Pamati, ā.inž.'!$A$7 -> Pasūtījuma Nr.:
A9: ='1.1 Pamati, ā.inž.'!$A$9 -> Tāme sastādīta 2026.gada tirgus cenās | M9: Tāmes izmaksas Euro: | O9: =P93 -> 0
P11: =Kops.1!$I$15 -> Tāme sastādīta [datums]
A12: Nr.p.k. | B12: Kods | C12: Būvdarbu nosaukums | D12: Mērvienība | E12: Daudzums | F12: Vienības izmaksas | L12: Kopā uz visu apjomu
F13: laika norma (c/h) | G13: darba samaksas likme (euro/h) | H13: Darba alga | I13: Būvizstrādājumi | J13: Mehānismi | K13: kopā | L13: darbietilpība (c/h) | M13: Darba alga | N13: Būvizstrādājumi | O13: Mehānismi | P13: summa
C14: Sadalnes | K14: =ROUND(H14+I14+J14,2) -> 0 | L14: =ROUND(F14*E14,2) -> 0 | M14: =ROUND(H14*E14,2) -> 0 | N14: =ROUND(I14*E14,2) -> 0 | O14: =ROUND(J14*E14,2) -> 0 | P14: =ROUND(M14+N14+O14,2) -> 0
A15: 1 | C15: Sadales panelis SS-2 ,v/a1; 30% brīvvietu perspektīvām slodzēm; PVC sadalnes panelis, pārspriegumaizsardzība; ievadaparāts, automātslēdži, zemēšanas (PE) un neitrāles (N) kopnei visā tās platumā bez urbumiem. skat. EL-12 | D15: gb. | E15: 1
A16: 2 | C16: Palīgmateriāli | D16: kpl. | E16: 1
C17: Kabeļi, aizsargcaurules materiāli.
A18: 3 | C18: Kabelis ar vara dzīslām 2x1.5mm² | D18: m | E18: 100
A19: 4 | C19: Kabelis ar vara dzīslām 3x1.5mm² | D19: m | E19: 850
A20: 5 | C20: Kabelis ar vara dzīslām 3x2.5mm² | D20: m | E20: 1400
A21: 6 | C21: Kabelis ar vara dzīslām, montāžai ārā (piem., NYY-J) 3x2.5mm² | D21: m | E21: 100
A22: 7 | C22: Kabelis ar vara dzīslām 4x1.5mm² | D22: m | E22: 80
A23: 8 | C23: Kabelis ar vara dzīslām 5x2.5mm² (atkarīgs no apkures veida) | D23: m | E23: 120
A24: 9 | C24: Kabelis ar vara dzīslām, montāžai ārā 5x2.5mm² | D24: m | E24: 40
A25: 10 | C25: Kabelis ar vara dzīslām 5x10mm² | D25: m | E25: 15
A26: 11 | C26: Ugunsdrošs kabelis (N)HXH FE 180/E60 3x1.5 | D26: m | E26: 120
A27: 12 | C27: Ugunsdrošs kabelis (N)HXH FE 180/E60 2x1.5 | D27: m | E27: 60
A28: 13 | C28: Caurule PVH d20mm, Cauruļu daudzumu papildus precizēt montāžas laikā | D28: m | E28: 830
A29: 14 | C29: Caurule PVH d25mm, Cauruļu daudzumu papildus precizēt montāžas laikā | D29: m | E29: 1350
... A33: 18 | C33: Ugunsdrošais aizpildījums | D33: obj. | E33: 1
C34: Instalācijas materiāli
A35: 19 | C35: Zem apmetuma slēdzis (10A, 230V, IP-20), kplektā - slēdža mehānisms ar taustiņu un rāmi, montāžas kārbu | D35: gb. | E35: 7
A36: 20 | C36: Zem apmetuma slēdzis (10A, 230V, IP-44), kplektā - slēdža mehānisms ar taustiņu un rāmi, montāžas kārbu | D36: gb. | E36: 7
A37: 21 | C37: Zem apmetuma divtaustiņu slēdzis (10A, 230V,IP-20), kplektā - slēdža mehānisms ar taustiņiem un rāmi, montāžas kārbu | D37: gb. | E37: 2
A38: 22 | C38: Zem apmetuma divtaustiņu slēdzis (10A, 230V,IP-44), kplektā - slēdža mehānisms ar taustiņiem un rāmi, montāžas kārbu | D38: gb. | E38: 1
A39: 23 | C39: Zem apmetuma pārslēdzis (10A, 230V, IP-20), kplektā - pārslēdzēja mehānisms ar taustiņu un rāmi, montāžas kārbu | D39: gb. | E39: 12
A40: 24 | C40: Dimmeris, 10A, 230V, IP20, kplektā - pārslēdzēja mehānisms ar taustiņu un rāmi, montāžas kārbu | D40: gb. | E40: 10
A41: 25 | C41: Divtaustiņu tasterslēdzis, kplektā - pārslēdzēja mehānisms ar taustiņu un rāmi, padziļināto montāžas kārbu | D41: gb. | E41: 1
A42: 26 | C42: Klātbūtnes/apgaismojuma līmeņa viedais sesnsors (Dali), Zublin Swiss Garde 360 master(gaitenim) | D42: gb. | E42: 1
A43: 27 | C43: Ieslēgšanas/izslēgšanas poga | D43: gb. | E43: 1
A44: 28 | C44: Klātbūtnes sensors sanitārajiem mezgliem | D44: gb. | E44: 6
A45: 29 | C45: Palīgmateriāli. Saskaņā ar montāžu darbu raksturojumu un apjomu | D45: obj. | E45: 1
C46: Rozetes
A47: 30 | C47: Rozete ar zemēšanas kontaktu, zem apmetuma, kplektā - montāžas kārba un rozešu mehānisms,rāmis 230V, 16A, IP20 | D47: gb. | E47: 150
A48: 31 | C48: Rozete ar zemēšanas kontaktu, zem apmetuma, kplektā - montāžas kārba un rozešu mehānisms,rāmis 230V, 16A, IP44 | D48: gb. | E48: 17
A49: 32 | C49: Rozete ar zemēšanas kontaktu, virsapmetuma, kplektā - montāžas kārba un rozešu mehānisms,rāmis 230V, 16A, IP65, montāžai uz fasādes | D49: gb. | E49: 4
A50: 33 | C50: Palīgmateriāliu | D50: obj. | E50: 1
A51: 34 | C51: Spēka izvads | D51: gb. | E51: 28
C52: Apgaismojuma armatūra
A53: 35 | C53: Izvads gaismekļiem | D53: gb. | E53: 1
A54: 36 | C54: Avārijas apg. gaismeklis, TM Technologie ONTEC W1 (ar asimetrisku gaismas plūsmu UATS pogu izgaismošanai), ar 1h ak. bat., IP20 | D54: gb. | E54: 1
A55: 37 | C55: Avārijas apg. gaismeklis, TM Technologie ONTEC R C1 (gaismas plūsma paredzēta gaitenim), ar 1h ak. bat., IP20 | D55: gb. | E55: 2
A56: 38 | C56: Avārijas apg. gaismeklis, TM Technologie ONTEC R M1 (simetriska gaismas plūsma, paredzēts istabiņām), ar 1h ak. bat., IP20 | D56: gb. | E56: 6
A57: 39 | C57: Evakuācijas apg. gaismeklis, TM Technologie ONTEC "Izeja", ar 1h ak. bat., IP20 | D57: gb. | E57: 1
A58: 40 | C58: Gaismeklis IntraLighting 5700, 25W, 830, FO, L1277mm, IP66, 3700lm, v/a | D58: gb. | E58: 2
A59: 41 | C59: Gaismeklis IntraLighting Atos RVS 42F, 4W, 830, IP44, 560lm, 62 grādi gaismas izkliede | D59: gb. | E59: 36
A60: 42 | C60: Gaismeklis IntraLighting Pipes T 45 (XS) deco, 10W, 930, IP20, 740lm, 30 grādi gaismas izkliede, dimmējamas (uz sliedēm) | D60: gb. | E60: 51
A61: 43 | C61: Sliedes gaismekļiem l=6,25m (Stucchi intrack, L veida) | D61: gb. | E61: 1
A62: 44 | C62: Sliedes gaismekļiem l=4.1m (Stucchi intrack, L veida) | D62: gb. | E62: 1
A63: 45 | C63: Sliedes gaismekļiem l=4.0m (Stucchi intrack) | D63: gb. | E63: 6
A64: 46 | C64: Sliedes gaismekļiem l=2.8m (Stucchi intrack) | D64: gb. | E64: 6
... A73: 55 | C73: Palīgmateriāli | D73: obj. | E73: 1
C74: KABEĻU KONSTRUKCIJAS
A75: 56 | C75: Kabeļu trepe 60x300mm, ar stiprinājumiem, savienojuma, pagrieziena elementiem | D75: m | E75: 2
A76: 57 | C76: Kabeļu trepe 60x200mm, ar stiprinājumiem, savienojuma, pagrieziena elementiem | D76: m | E76: 40
A77: 58 | C77: Kabeļu stiprinājumi | D77: obj. | E77: 1
C78: ZIBENSAIZSARDZĪBA
A79: 59 | C79: Alumīnija apaļvads RD 8, montāžai uz jumta | D79: m | E79: 140
A80: 60 | C80: Alumīnija apaļvads RD 8 PVC apvalkā, montāžai pa fasādi | D80: m | E80: 35
A81: 61 | C81: Vario ātrais savienotājs | D81: gb. | E81: 7
A82: 62 | C82: Stiepes deformācijas detaļa/ kompensators | D82: gb. | E82: 14
A83: 63 | C83: Atdalītājs slēgts RD8-10x16mm | D83: gb. | E83: 5
A84: 64 | C84: Universāls vadu turētājs jumtam M8 Rd 8-10mm | D84: gb. | E84: 130
A85: 65 | C85: Universāls vadu turētājs sienai M8 Rd 8-10mm | D85: gb. | E85: 70
A86: 66 | C86: Numura plāksne Rd8-10mm 311 N-ALU 8-10 | D86: gb. | E86: 5
A87: 67 | C87: Universāls atdalītājs FT 226 Rd 8-10/FL30 x 16 mm | D87: gb. | E87: 5
A88: 68 | C88: Mērījumu klemme Rd8-10mm | D88: gb. | E88: 5
A89: 69 | C89: Apaļvads PVC apvalka RD 10-PVC | D89: m | E89: 10
C90: CITI DARBI
A91: =A89+1 -> 70 | C91: Elektromērījumi, kontrolpārbaude | D91: kpl. | E91: 1
C93: ='1.1 Pamati, ā.inž.'!$C$43 -> Tiešās izmaksas kopā, t. sk. darba devēja sociālais nodoklis | L93: =SUM(L14:L92) -> 0 | M93: =SUM(M14:M92) -> 0 | N93: =SUM(N14:N92) -> 0 | O93: =SUM(O14:O92) -> 0 | P93: =SUM(P14:P92) -> 0
A97: ='1.1 Pamati, ā.inž.'!$A$47 -> Sastādīja:
A101: ='1.1 Pamati, ā.inž.'!$A$51 -> Pārbaudīja:

Sheet 2.17 ESS
A1: Lokālā tāme Nr.2.17
A2: Elektronisko sakaru sistēmas
A4: ='1.1 Pamati, ā.inž.'!$A$4 -> Objekta nosaukums: VESELĪBAS UN SOCIĀLĀS APRŪPES CENTRS
A5: ='1.1 Pamati, ā.inž.'!$A$5 -> Būves nosaukums: VESELĪBAS UN SOCIĀLĀS APRŪPES CENTRS
A6: ='1.1 Pamati, ā.inž.'!$A$6 -> Objekta adrese: Liliju iela 109
A7: ='1.1 Pamati, ā.inž.'!$A$7 -> Pasūtījuma Nr.:
A9: ='1.1 Pamati, ā.inž.'!$A$9 -> Tāme sastādīta 2026.gada tirgus cenās | O9: Tāmes izmaksas Euro: | Q9: =R149 -> 0
R11: =Kops.1!$I$15 -> Tāme sastādīta [datums]
A12: Nr.p.k. | B12: Kods | C12: Būvdarbu nosaukums | F12: Mērvienība | G12: Daudzums | H12: Vienības izmaksas | N12: Kopā uz visu apjomu
H13: laika norma (c/h) | I13: darba samaksas likme (euro/h) | J13: Darba alga | K13: Būvizstrādājumi | L13: Mehānismi | M13: kopā | N13: darbietilpība (c/h) | O13: Darba alga | P13: Būvizstrādājumi | Q13: Mehānismi | R13: summa
A14: =ROW()-13 -> 1 | C14: IZSAUKUMA UN SLIM SENSORU SISTĒMA
A15: =ROW()-13 -> 2 | C15: IEKĀRTAS
A16: =ROW()-13 -> 3 | C16: Barošanas bloks 12/230V, 12VDC 3A PSU | D16: 12VDC 3A PSU | E16: B.1-2 | F16: gb. | G16: 1
A17: =ROW()-13 -> 4 | C17: Slim sensors (IR-RING+MX-C26B-AU-6N016+MX-A-IOA-IC) Mobotix | D17: IR-RING+MX-C26B-AU-6N016+MX-A-IOA-IC | F17: gb. | G17: 6
A18: =ROW()-13 -> 5 | C18: Montāžas kārba ar I/O moduli Mobotix MX-OPT-IO1 | D18: MX-OPT-IO1 | F18: gb. | G18: 6
A19: =ROW()-13 -> 6 | C19: Aprūpes apstiprinājuma poga | F19: gb. | G19: 6
A20: =ROW()-13 -> 7 | C20: Izsaukuma poga IP44 WC telpās | E20: Viena poga h=0.15mm un otra h=1,2m augstumā no grīdas līmeņa | F20: gb. | G20: 14
A21: =ROW()-13 -> 8 | C21: Izsaukuma poga IP21 pie pacientu gultas | F21: gb. | G21: 6
A22: =ROW()-13 -> 9 | C22: Kustības sensors IP41, IK04, 127 mm x 69 mm x 58 mm, 9 VDC to 15 VDC | F22: gb. | G22: 6
A23: =ROW()-13 -> 10 | C23: Durvju magnētiskais stāvokļa kontakts | F23: gb. | G23: 18
A24: =ROW()-13 -> 11 | C24: Logu magnētiskais stāvokļa kontakts | F24: gb. | G24: 6
A25: =ROW()-13 -> 12 | C25: Monitoringa serveris | F25: gb. | G25: 1
A26: =ROW()-13 -> 13 | C26: Tīkla komutators 24-port 10/100/1000BASE-T, 4x1GbE porta moduli, 44.1 x 4.37 x 41.6 cm, barošanas bloks 715W AC PoE | D26: EX4300-24P | F26: gb. | G26: 1
A27: =ROW()-13 -> 14 | C27: EX4300-24P komutatora licence | F27: gb. | G27: 1
A28: =ROW()-13 -> 15 | C28: 4 portu dual module 1GbE SFP un 4gb SFP 1000BASE-LX; LC connector single-mode fiber | D28: EX-UM-4X4SFP+EX-SFP-1GE-LX | F28: gb. | G28: 1
A29: =ROW()-13 -> 16 | C29: RJ45 komutācijas panelis 44x482x29.7mm, Excel CAT6 24 portu ekranēts panelis 1U 19", LSA | D29: 100-013 | F29: gb. | G29: 1
A30: =ROW()-13 -> 17 | C30: Komutācijas paneļa savienotājkabeļi (patch vadi RJ45-RJ45) 1m, F/UTP ekranēts LSOH, zaļa krāsā, ISO 11801, EN 50173 & TIA/EIA 568 | D30: 100-441 | F30: gb. | G30: 24
A31: =ROW()-13 -> 18 | C31: Kabeļu organizators Excel 1U, 5 vertikāliem plasmasas stīpām, 19" | D31: 100-586 | F31: gb. | G31: 1
A32: =ROW()-13 -> 19 | C32: KABEĻI UN MONTĀŽAS PALĪGMATERIĀLI
A33: =ROW()-13 -> 20 | C33: Kabelis 2x1.0mm2 OMY | D33: 2x1.0mm2 OMY | E33: skatīt 6. piezīmi | F33: m | G33: 190
A34: =ROW()-13 -> 21 | C34: Kabelis CAT5e 4x2x0.5 | D34: CAT5e 4x2x0.5 | E34: skatīt 6. piezīmi | F34: m | G34: 500
A35: =ROW()-13 -> 22 | C35: Kabelis CQR4 | D35: CQR4 | E35: skatīt 6. piezīmi | F35: m | G35: 400
A36: =ROW()-13 -> 23 | C36: Caurules 16...32mm | D36: 16...32mm | E36: skatīt 6. piezīmi | F36: m | G36: 300
A37: =ROW()-13 -> 24 | C37: Palīgmateriāli | F37: kpl. | G37: 1
A38: =ROW()-13 -> 25 | C38: Ugunsdrošā aizpildījuma/blīvējuma kplekts | F38: kpl. | G38: 1
A39: =ROW()-13 -> 26 | C39: Marķēšanas materiāli | F39: kpl. | G39: 1
A40: =ROW()-13 -> 27 | C40: Izpildes dokumentācijas izstrāde | F40: kpl. | G40: 1
A41: =ROW()-13 -> 28 | C41: Personāla apmācība | F41: kpl. | G41: 1
A42: =ROW()-13 -> 29 | C42: PIEKĻUVES KONTROLE UN APARDZES SISTĒMA
A43: =ROW()-13 -> 30 | C43: IEKĀRTAS
A44: =ROW()-13 -> 31 | C44: Montāžas kārba Small ar barošanas bloku uz 3A un vietu priekš 1x9Ah akumulatoram un 3 moduļiem | D44: 995200PEEU3 vai analogs | F44: kpl. | G44: 1
A45: =ROW()-13 -> 32 | C45: Piekļuves kontroles durvju paplašinātājs uz 2 durvīm un 2 nolasītajiem | D45: 996012PCB&K vai analogs | F45: kpl. | G45: 2
A46: =ROW()-13 -> 33 | C46: Akumulators | D46: 9Ah/12VDC | F46: kpl. | G46: 1
A47: =ROW()-13 -> 34 | C47: Kodu nolasītājs | D47: AY-K6255 vai analogs | F47: gb. | G47: 3
A48: =ROW()-13 -> 35 | C48: Proximity kartes | E48: Daudzumu precizēt ar pasūtītāju | F48: gb. | G48: 60
A49: =ROW()-13 -> 36 | C49: Durvju magnētiskais stāvokļa kontakts piekļuves kontroles sistēmai// IP68, 1.2 x 1.18 x 4.28, iebūvējams durvīs | D49: SP-MCB3-FP110 vai analogs | E49: Precizēt ar durvju specifikāciju | F49: kpl. | G49: 4
A50: =ROW()-13 -> 37 | C50: Elektromagnētiskā solenoīda slēdzene EL560/EL561/sertificēta evakuācijas saskaņā ar EN179 un EN1125, iekšējais rokturis vienmēr atslēdz slēdzeni | D50: EL560/EL561 vai analogs | F50: kpl. | G50: 3
A51: =ROW()-13 -> 38 | C51: Durvju pārrejas | F51: kpl. | G51: 3
A52: =ROW()-13 -> 39 | C52: Programmnodrošinājums licenses un ražotāju atbalsts uz 3 gādiem | D52: Inner Range Integriti vai analogs | F52: kpl. | G52: 1
A53: =ROW()-13 -> 40 | C53: KABEĻI UN MONTĀŽAS PALĪGMATERIĀLI
A54: =ROW()-13 -> 41 | C54: Iekštelpu kabelis datu tīkla CAT6 4x2x0.5, ekranēts | D54: CAT5e 4x2x0.5 | E54: skatīt 6. piezīmi | F54: m | G54: 390
A55: =ROW()-13 -> 42 | C55: Apsardzes signalizācijas moduļu tīkls 4x0,22 | D55: 4x0,22 | E55: skatīt 6. piezīmi | F55: m | G55: 350
A56: =ROW()-13 -> 43 | C56: Caurules 16...32mm | E56: skatīt 6. piezīmi | F56: m | G56: 250
A57: =ROW()-13 -> 44 | C57: Cauruļu stiprinājumi un līkumi | F57: kpl. | G57: 1
A58: =ROW()-13 -> 45 | C58: Caurules 50mm | E58: skatīt 6. piezīmi | F58: m | G58: 10
A59: =ROW()-13 -> 46 | C59: Cauruļu stiprinājumi un līkumi | F59: kpl. | G59: 1
A60: =ROW()-13 -> 47 | C60: Nozarkārbas | F60: kpl. | G60: 1
A61: =ROW()-13 -> 48 | C61: Ugunsdrošā aizpildījuma/blīvējuma kplekts | F61: kpl. | G61: 1
A62: =ROW()-13 -> 49 | C62: Marķēšanas materiāli | F62: kpl. | G62: 1
A63: =ROW()-13 -> 50 | C63: Palīgmateriāli (skrūves, skavas, un citi montāžai nepieciešamie izstrādājumi) | F63: kpl. | G63: 1
A64: =ROW()-13 -> 51 | C64: Personāla apmācība | F64: kpl. | G64: 1
A65: =ROW()-13 -> 52 | C65: DOMOFONA SISTĒMAI
A66: =ROW()-13 -> 53 | C66: IEKĀRTAS
A67: =ROW()-13 -> 54 | C67: Ārtelpu domofona stacija IP audio/video, divas abonomentu pogas, IP65, IK08, IEEE802.3af, standard PoE, 174 mm × 91 mm × 29 mm, 2 MP HD camera | D67: DS-KV8213-WME1 | F67: kpl. | G67: 1
A68: =ROW()-13 -> 55 | C68: Iekšējā domofona stacija, 187 mm × 137 mm × 25.7 mm, TCP/IP, SIP, RTSP, standard PoE, IEEE 802.3af | D68: DS-KH9310-WTE1 | F68: kpl. | G68: 1
A69: =ROW()-13 -> 56 | C69: KABEĻI UN MONTĀŽAS PALĪGMATERIĀLI
A70: =ROW()-13 -> 57 | C70: Iekštelpu kabelis datu tīkla CAT6 4x2x0.5, ekranēts | D70: CAT5e 4x2x0.5 | E70: skatīt 6. piezīmi | F70: m | G70: 150
A71: =ROW()-13 -> 58 | C71: Caurules 16...32mm | E71: skatīt 6. piezīmi | F71: m | G71: 60
A72: =ROW()-13 -> 59 | C72: Cauruļu stiprinājumi un līkumi | F72: kpl. | G72: 1
A73: =ROW()-13 -> 60 | C73: Ugunsdrošā aizpildījuma/blīvējuma kplekts | F73: kpl. | G73: 1
A74: =ROW()-13 -> 61 | C74: Marķēšanas materiāli | F74: kpl. | G74: 1
A75: =ROW()-13 -> 62 | C75: Palīgmateriāli (skrūves, skavas, un citi montāžai nepieciešamie izstrādājumi) | F75: kpl. | G75: 1
A76: =ROW()-13 -> 63 | C76: Personāla apmācība | F76: kpl. | G76: 1
A77: =ROW()-13 -> 64 | C77: Programēšanas darbi un programmatūra | F77: kpl. | G77: 1
A78: =ROW()-13 -> 65 | C78: VIDEONOVĒROŠANAS SISTĒMA
A79: =ROW()-13 -> 66 | C79: IEKĀRTAS
A80: =ROW()-13 -> 67 | C80: Ārtelpu videokamera 4MP, TCP/IP, ICMP, HTTP, HTTPS, FTP, DHCP, DNS, DDNS, RTP, RTSP, NTP, UPnP, SMTP, IGMP, 802.1X, QoS, IPv6, UDP, Bonjour, SSL/TLS, IP67, IK10 un stiprinājumi pie ēkas fasādes | D80: HikVision DS-2CD2646G2-IZS 2.8mm-12mm | F80: kpl. | G80: 5
A81: =ROW()-13 -> 68 | C81: MicroSDHC atmiņas karte 64GB WD Purple, Western Digital | D81: WDD64G1P0A | F81: gb | G81: 5
A82: =ROW()-13 -> 69 | C82: RJ45 spraudņi CAT5e | F82: gb | G82: 5
A83: =ROW()-13 -> 70 | C83: PoE pārsprieguma aizsardzībai/ 30 mm (W) x 30 mm (H) x 190 mm (L), Shielded RJ-45, 10/100/1000 Mbps, IP66 | D83: PD-OUT/SP11 | F83: kpl. | G83: 5
A84: =ROW()-13 -> 71 | C84: KABEĻI UN MONTĀŽAS PALĪGMATERIĀLI
A85: =ROW()-13 -> 72 | C85: Iekštelpu kabelis datu tīkla CAT5e 4x2x0.5, ekranēts | D85: CAT52 4x2x0,5 | E85: skatīt 6. piezīmi | F85: m | G85: 320
A86: =ROW()-13 -> 73 | C86: Kabelis H07Y-K1x6 (zemēšanai) | D86: H07Y-K1x6 | E86: skatīt 6. piezīmi | F86: m | G86: 200
A87: =ROW()-13 -> 74 | C87: Caurules 16...32mm | D87: 16...32mm | E87: skatīt 6. piezīmi | F87: m | G87: 200
A88: =ROW()-13 -> 75 | C88: Cauruļu stiprinājumi un līkumi | F88: kpl. | G88: 1
A89: =ROW()-13 -> 76 | C89: Palīgmateriāli (skrūves, skavas, un citi montāžai nepieciešamie izstrādājumi) | F89: kpl. | G89: 1
A90: =ROW()-13 -> 77 | C90: Ugunsdrošā aizpildījuma/blīvējuma kplekts | F90: kpl. | G90: 1
A91: =ROW()-13 -> 78 | C91: Marķēšanas materiāli | F91: kpl. | G91: 1
A92: =ROW()-13 -> 79 | C92: Programmēšanas darbi | F92: kpl. | G92: 1
A93: =ROW()-13 -> 80 | C93: DATU TĪKLS
A94: =ROW()-13 -> 81 | C94: IEKĀRTAS
A95: =ROW()-13 -> 82 | C95: RJ45 komutācijas panelis 44x482x29.7mm, Excel CAT5 24 portu ekranēts panelis 1U 19", LSA | F95: gb. | G95: 1
A96: =ROW()-13 -> 83 | C96: optiskais patch panelis uz 16 portiem ar 9 dupleksam SC ligzdām, 9 duplex pigtailiem | F96: kpl. | G96: 1
A97: =ROW()-13 -> 84 | C97: Tīkla komutators 24-port 10/100/1000BASE-T, 4x1GbE porta moduli, 44.1 x 4.37 x 41.6 cm, barošanas bloks 715W AC, | D97: EX4300-24T | F97: kpl. | G97: 1
A98: =ROW()-13 -> 85 | C98: EX4300-24P komutatora licence | F98: gb. | G98: 1
A99: =ROW()-13 -> 86 | C99: 4 portu dual module 1GbE SFP un 4gb SFP 1000BASE-LX; LC connector single-mode fiber | D99: EX-UM-4X4SFP+EX-SFP-1GE-LX | E99: 4 moduļi uz vienu komutatoru | F99: gb. | G99: 1
A100: =ROW()-13 -> 87 | C100: Datu tīkla rozetes montētas pie sienas 2xRJ45 | D100: 2xRJ45, CAT6 | F100: kpl. | G100: 8
A101: =ROW()-13 -> 88 | C101: Bezvadu pieslēguma punkts | D101: AP41 | F101: kpl. | G101: 3
A102: =ROW()-13 -> 89 | C102: KABEĻI UN MONTĀŽAS PALĪGMATERIĀLI
A103: =ROW()-13 -> 90 | C103: Iekštelpu kabelis datu tīkla CAT6 4x2x0.5, ekranēts | D103: CAT6 4x2x0,5 | E103: skatīt 6. piezīmi | F103: m | G103: 1250
...

Sheet 2.18 UAS
A1: Lokālā tāme Nr.2.18
A2: Ugunsgrēka atklāšanas un trauksmes signalizācijas sistēma
A4: ='1.1 Pamati, ā.inž.'!$A$4 -> Objekta nosaukums: VESELĪBAS UN SOCIĀLĀS APRŪPES CENTRS
A5: ='1.1 Pamati, ā.inž.'!$A$5 -> Būves nosaukums: VESELĪBAS UN SOCIĀLĀS APRŪPES CENTRS
A6: ='1.1 Pamati, ā.inž.'!$A$6 -> Objekta adrese: Liliju iela 109
A7: ='1.1 Pamati, ā.inž.'!$A$7 -> Pasūtījuma Nr.:
A9: ='1.1 Pamati, ā.inž.'!$A$9 -> Tāme sastādīta 2026.gada tirgus cenās | O9: Tāmes izmaksas Euro: | Q9: =R40 -> 0
R11: =Kops.1!$I$15 -> Tāme sastādīta [datums]
A12: Nr.p.k. | B12: Kods | C12: Būvdarbu nosaukums | F12: Mērvienība | G12: Daudzums | H12: Vienības izmaksas | N12: Kopā uz visu apjomu
H13: laika norma (c/h) | I13: darba samaksas likme (euro/h) | J13: Darba alga | K13: Būvizstrādājumi | L13: Mehānismi | M13: kopā | N13: darbietilpība (c/h) | O13: Darba alga | P13: Būvizstrādājumi | Q13: Mehānismi | R13: summa
C14: UATS SKAPIS
A15: 1 | C15: Adrešu ugunsdrošības panelis Teletek IRIS (1-4) L M LV / 31020056, 430 x 330 x 117// 1 cilpa | D15: IRIS (1-4) L M LV / 31020056 | F15: gb. | G15: 1
A16: 2 | C16: Baterijas 1 x 12VDC@18Ah | D16: 1 x 12VDC@18Ah | F16: gb. | G16: 1
A17: 3 | C17: Baterijas 12V DC/12Ah | D17: 18011 | F17: gb. | G17: 1
C18: DETEKTORI
A19: 4 | C19: Siltuma detektors ar izolatoru 103x42mm | D19: SensoIRIS T110 IS | E19: 1. gb rezerves | F19: gb. | G19: 3
A20: 5 | C20: Optiskais dūmu detektors ar izolatoru 103x42mm | D20: SensoIRIS S130 IS | E20: 1. gb rezerves | F20: gb. | G20: 5
A21: 6 | C21: Optiskais dūmu detektors 103x42mm | D21: SensoIRIS S130 | E21: 3. gb rezerves | F21: gb. | G21: 33
A22: 7 | C22: Standarta detektoru pamatne | D22: SensoIRIS B124 | E22: 5. gb rezerves | F22: gb. | G22: 32
A23: 8 | C23: Detektoru bāze detektoriem ar sirēnu un stroblampu | D23: SensoIRIS BSST | E23: 2. gb rezerves | F23: gb. | G23: 11
A24: 9 | C24: Adrešu dūmu detektora iznesamais indikators 85x85x20 | D24: FRL – 1 | E24: 2. gb rezerves | F24: gb. | G24: 23
A25: 10 | C25: Adrešu manuālais trauksmes signāldevējs un izolatoru | D25: SensoIRIS MCP150 | E25: 1. gb rezerves | F25: gb. | G25: 2
A26: 11 | C26: Vadības moduļi (ieeju/izeju) | D26: SensoIRIS MIO22 | E26: 1. gb rezerves | F26: gb. | G26: 2
C27: KABEĻU UN MONTĀŽAS PALĪGMATERIĀLI
A28: 12 | C28: Signalizācijas kabelis ekranēts | D28: JE-H(St)H FE180/E90 1x2x0,8+0.8 screened | E28: skatīt 6. piezīmi | F28: m | G28: 620
A29: 13 | C29: Komunikācijas kabelis C-WEB | D29: Cat 5e U/UTP E30 4x2x0.63+ | E29: skatīt 6. piezīmi | F29: m | G29: 30
A30: 14 | C30: PVC caurules d=16..32mm | D30: Evoel d16..32 mm | E30: skatīt 6. piezīmi | F30: m | G30: 200
A31: 15 | C31: Ugunsdroši kabeļu/caurules stiprinājumi | D31: Obo bettermann | F31: kpl. | G31: 1
A32: 16 | C32: Palīgmateriāli | F32: kpl. | G32: 1
A33: 17 | C33: Ugunsdrošā aizpildījuma/blīvējuma kplekts | F33: kpl. | G33: 1
A34: 18 | C34: Uzlīme 19.04.2016 MK Noteikumiem nr.238 “Ugundrošības noteikumi”, 136. pantu. | F34: kpl. | G34: 1
A35: 19 | C35: Marķēšanas materiāli | F35: kpl. | G35: 1
A36: 20 | C36: Konfigurēšanas darbi | F36: kpl. | G36: 1
A37: 21 | C37: Personāla apmācība | F37: kpl. | G37: 1
A38: 22 | C38: Izpildes dokumentācijas izstrāde | F38: kpl. | G38: 1
C40: ='1.1 Pamati, ā.inž.'!$C$43 -> Tiešās izmaksas kopā, t. sk. darba devēja sociālais nodoklis | N40: =SUM(N14:N39) -> 0 | O40: =SUM(O14:O39) -> 0 | P40: =SUM(P14:P39) -> 0 | Q40: =SUM(Q14:Q39) -> 0 | R40: =SUM(R14:R39) -> 0
A44: ='1.1 Pamati, ā.inž.'!$A$47 -> Sastādīja:
A48: ='1.1 Pamati, ā.inž.'!$A$51 -> Pārbaudīja:
