Workbook

Sheet Paredz.kopt.
C1: APSTIPRINU
A2: __________________________________
A3: (pasūtītāja paraksts un tā atšifrējums)
C4: Z.V.
A5: 202_. gada ____________________
A7: PAREDZAMĀS LĪGUMCENAS KOPTĀME
A9: ='1.1 Pamati, ā.inž.'!$A$4 -> Objekta nosaukums: VESELĪBAS UN SOCIĀLĀS APRŪPES CENTRS
A10: ='1.1 Pamati, ā.inž.'!$A$5 -> Būves nosaukums: VESELĪBAS UN SOCIĀLĀS APRŪPES CENTRS
A11: ='1.1 Pamati, ā.inž.'!$A$6 -> Objekta adrese: Liliju iela 109
A12: ='1.1 Pamati, ā.inž.'!$A$7 -> Pasūtījuma Nr.:
C14: Tāme sastādīta [datums]
A15: Nr.p.k. | B15: Objekta nosaukums | C15: Objekta izmaksas (Euro)
A16: 1 | B16: ='Buvn.kopt.'!B16 -> Bloks Nr.1 un ieejas bloks | C16: =Kops.1!E43 -> 0
A17: 2 | B17: ='Buvn.kopt.'!B17 -> Bloks Nr.2 | C17: =Kops.2!E43 -> 0
B18: Kopā: | C18: =SUM(C16:C17) -> 0
B19: finanšu rezerve neparedzētajiem darbiem 10% | C19: =ROUND(C18*0.1,2) -> 0
B20: PVN (21%) | C20: =ROUND((C19+C18)*0.21,2) -> 0
B21: Pavisam būvniecības izmaksas | C21: =SUM(C18:C20) -> 0
B23: Ar būvniecību saistītie pārējie izdevumi:
B24: būvuzraudzība
B25: būvprojekta autoruzraudzība
B26: izpētes un projektēšanas darbi
B27: būvprojekta ekspertīze
B28: Kopā | C28: =SUM(C21:C27) -> 0
A34: ='1.1 Pamati, ā.inž.'!$A$47 -> Sastādīja:
A38: ='1.1 Pamati, ā.inž.'!$A$51 -> Pārbaudīja:

Sheet Buvn.kopt.
C1: APSTIPRINU
A2: __________________________________
A3: (pasūtītāja paraksts un tā atšifrējums)
C4: Z.V.
A5: 201_. gada ____________________
A7: BŪVNIECĪBAS KOPTĀME
A9: ='1.1 Pamati, ā.inž.'!$A$4 -> Objekta nosaukums: VESELĪBAS UN SOCIĀLĀS APRŪPES CENTRS
A10: ='1.1 Pamati, ā.inž.'!$A$5 -> Būves nosaukums: VESELĪBAS UN SOCIĀLĀS APRŪPES CENTRS
A11: ='1.1 Pamati, ā.inž.'!$A$6 -> Objekta adrese: Liliju iela 109
A12: ='1.1 Pamati, ā.inž.'!$A$7 -> Pasūtījuma Nr.:
C14: ='Paredz.kopt.'!C14 -> Tāme sastādīta [datums]
A15: Nr.p.k. | B15: Objekta nosaukums | C15: Objekta izmaksas (Euro)
A16: 1 | B16: =Kops.1!A3 -> Bloks Nr.1 un ieejas bloks | C16: =Kops.1!E43 -> 0
A17: 2 | B17: =Kops.2!A3 -> Bloks Nr.2 | C17: =Kops.2!E43 -> 0
B18: Kopā: | C18: =SUM(C16:C17) -> 0
A21: PVN (21%) | C21: =ROUND(C18*0.21,2) -> 0
A25: ='1.1 Pamati, ā.inž.'!$A$47 -> Sastādīja:
A29: ='1.1 Pamati, ā.inž.'!$A$51 -> Pārbaudīja:

Sheet Kops.1
A2: Kopsavilkuma aprēķins Nr.1
A3: Bloks Nr.1 un ieejas bloks
A4: (darba veids vai konstruktīvā elementa nosaukums)
A7: ='1.1 Pamati, ā.inž.'!$A$4 -> Objekta nosaukums: VESELĪBAS UN SOCIĀLĀS APRŪPES CENTRS
A8: ='1.1 Pamati, ā.inž.'!$A$5 -> Būves nosaukums: VESELĪBAS UN SOCIĀLĀS APRŪPES CENTRS
A9: ='1.1 Pamati, ā.inž.'!$A$6 -> Objekta adrese: Liliju iela 109
A10: ='1.1 Pamati, ā.inž.'!$A$7 -> Pasūtījuma Nr.:
C12: Par kopējo summu, Euro | E12: =E43 -> 0
C13: Kopējā darbietilpība c/h | E13: =I39 -> 0
I15: ='Buvn.kopt.'!$C$14 -> Tāme sastādīta [datums]
A16: Nr.p.k. | B16: Kods, tāmes Nr. | C16: Būvdarbu veids vai konstruktīvā elementa nosaukums | E16: Tāmes izmaksas | F16: Tai skaitā
F17: Darba alga | G17: Būvizstrādājumi | H17: Mehānismi | I17: Darbietilpība c/h
A19: 0 | B19: 1 | C19: Būvlaukuma ierīkošana un uzturēšana
A20: 1 | B20: 1.1 | C20: Zemes darbi, pamatu izbūve, pieslēgums ārējiem inženiertīkliem, labiekārtošana | E20: =F20+G20+H20 -> 0 | F20: ='1.1 Pamati, ā.inž.'!M43 -> 0 | G20: ='1.1 Pamati, ā.inž.'!N43 -> 0 | H20: ='1.1 Pamati, ā.inž.'!O43 -> 0 | I20: ='1.1 Pamati, ā.inž.'!L43 -> 0
A21: 2 | B21: 1.2 | C21: Prefabricētie elementi | E21: =F21+G21+H21 -> 0 | F21: ='1.2 Prefabricētie elementi'!M60 -> 0 | G21: ='1.2 Prefabricētie elementi'!N60 -> 0 | H21: ='1.2 Prefabricētie elementi'!O60 -> 0 | I21: ='1.2 Prefabricētie elementi'!L60 -> 0
A22: 3 | B22: 1.3 | C22: Jumts | E22: =F22+G22+H22 -> 0 | F22: ='1.3 Jumts'!M44 -> 0 | G22: ='1.3 Jumts'!N44 -> 0 | H22: ='1.3 Jumts'!O44 -> 0 | I22: ='1.3 Jumts'!L44 -> 0
A23: 4 | B23: 1.4 | C23: Grīdas | E23: =F23+G23+H23 -> 0 | F23: ='1.4 Grīdas'!M17 -> 0 | G23: ='1.4 Grīdas'!N17 -> 0 | H23: ='1.4 Grīdas'!O17 -> 0 | I23: ='1.4 Grīdas'!L17 -> 0
A24: 5 | B24: 1.5 | C24: Ārsienas, starpsienas | E24: =F24+G24+H24 -> 0 | F24: ='1.5 Sienas'!M27 -> 0 | G24: ='1.5 Sienas'!N27 -> 0 | H24: ='1.5 Sienas'!O27 -> 0 | I24: ='1.5 Sienas'!L27 -> 0
A25: 6 | B25: 1.6 | C25: Ailu aizpildījumi | E25: =F25+G25+H25 -> 0 | F25: ='1.6 Ailes'!M48 -> 0 | G25: ='1.6 Ailes'!N48 -> 0 | H25: ='1.6 Ailes'!O48 -> 0 | I25: ='1.6 Ailes'!L48 -> 0
A26: 7 | B26: 1.7 | C26: Iekšējie apdares darbi | E26: =F26+G26+H26 -> 0 | F26: ='1.7 Apdare'!M38 -> 0 | G26: ='1.7 Apdare'!N38 -> 0 | H26: ='1.7 Apdare'!O38 -> 0 | I26: ='1.7 Apdare'!L38 -> 0
A27: 8 | B27: 1.8 | C27: Aprīkojums iekštelpu | E27: =F27+G27+H27 -> 0 | F27: ='1.8 Apr. iekšt.'!M18 -> 0 | G27: ='1.8 Apr. iekšt.'!N18 -> 0 | H27: ='1.8 Apr. iekšt.'!O18 -> 0 | I27: ='1.8 Apr. iekšt.'!L18 -> 0
A28: 9 | B28: 1.9 | C28: Sanmezglu aprīkojums | E28: =F28+G28+H28 -> 0 | F28: ='1.9 Sanm.'!M34 -> 0 | G28: ='1.9 Sanm.'!N34 -> 0 | H28: ='1.9 Sanm.'!O34 -> 0 | I28: ='1.9 Sanm.'!L34 -> 0
A29: 10 | B29: 1.1 | C29: Koplietošanas telpu aprīkojums | E29: =F29+G29+H29 -> 0 | F29: ='1.10 Kopl.,aprīk'!M37 -> 0 | G29: ='1.10 Kopl.,aprīk'!N37 -> 0 | H29: ='1.10 Kopl.,aprīk'!O37 -> 0 | I29: ='1.10 Kopl.,aprīk'!L37 -> 0
A30: 11 | B30: 1.11 | C30: Aprīkojums ārtelpu | E30: =F30+G30+H30 -> 0 | F30: ='1.11 Apr.ārt.'!M17 -> 0 | G30: ='1.11 Apr.ārt.'!N17 -> 0 | H30: ='1.11 Apr.ārt.'!O17 -> 0 | I30: ='1.11 Apr.ārt.'!L17 -> 0
A31: 12 | B31: 1.12 | C31: Apkure | E31: =F31+G31+H31 -> 0 | F31: ='1.12 Apkure'!O64 -> 0 | G31: ='1.12 Apkure'!P64 -> 0 | H31: ='1.12 Apkure'!Q64 -> 0 | I31: ='1.12 Apkure'!N64 -> 0
A32: 13 | B32: 1.13 | C32: Ventilācija | E32: =F32+G32+H32 -> 0 | F32: ='1.13 Vent.'!O69 -> 0 | G32: ='1.13 Vent.'!P69 -> 0 | H32: ='1.13 Vent.'!Q69 -> 0 | I32: ='1.13 Vent.'!N69 -> 0
A33: 14 | B33: 1.14 | C33: Gaisa kondicionēšana | E33: =F33+G33+H33 -> 0 | F33: ='1.14 Kond.'!O39 -> 0 | G33: ='1.14 Kond.'!P39 -> 0 | H33: ='1.14 Kond.'!Q39 -> 0 | I33: ='1.14 Kond.'!N39 -> 0
A34: 15 | B34: 1.15 | C34: Ūdensapgāde un kanalizācija | E34: =F34+G34+H34 -> 0 | F34: ='1.15 UK'!O148 -> 0 | G34: ='1.15 UK'!P148 -> 0 | H34: ='1.15 UK'!Q148 -> 0 | I34: ='1.15 UK'!N148 -> 0
A35: 16 | B35: 1.16 | C35: Elektroapgāde | E35: =F35+G35+H35 -> 0 | F35: ='1.16 EL'!M101 -> 0 | G35: ='1.16 EL'!N101 -> 0 | H35: ='1.16 EL'!O101 -> 0 | I35: ='1.16 EL'!L101 -> 0
A36: 17 | B36: 1.17 | C36: Elektronisko sakaru sistēmas | E36: =F36+G36+H36 -> 0 | F36: ='1.17 ESS'!O98 -> 0 | G36: ='1.17 ESS'!P98 -> 0 | H36: ='1.17 ESS'!Q98 -> 0 | I36: ='1.17 ESS'!N98 -> 0
A37: 18 | B37: 1.18 | C37: Ugunsgrēka atklāšanas un trauksmes signalizācijas sistēma | E37: =F37+G37+H37 -> 0 | F37: ='1.18 UAS'!O41 -> 0 | G37: ='1.18 UAS'!P41 -> 0 | H37: ='1.18 UAS'!Q41 -> 0 | I37: ='1.18 UAS'!N41 -> 0
E38: =F38+G38+H38 -> 0
A39: Kopā: | E39: =SUM(E18:E38) -> 0 | F39: =SUM(F18:F38) -> 0 | G39: =SUM(G18:G38) -> 0 | H39: =SUM(H18:H38) -> 0 | I39: =SUM(I18:I38) -> 0
A40: Virsizdevumi | D40: 0.1 | E40: =ROUND(E39*D40,2) -> 0
A41: t.sk. darba aizsardzība | E41: =ROUND(E40*0.05,2) -> 0
A42: Peļņa | D42: 0.07 | E42: =ROUND(E39*D42,2) -> 0
A43: PAVISAM KOPĀ: | E43: =E39+E40+E42 -> 0
A47: ='1.1 Pamati, ā.inž.'!$A$47 -> Sastādīja:
A51: ='1.1 Pamati, ā.inž.'!$A$51 -> Pārbaudīja:

Sheet 1.0 Buvlaukums
A1: Lokālā tāme Nr.1.0
A2: =Kops.1!C19 -> Būvlaukuma ierīkošana un uzturēšana
A4: Objekta nosaukums: VESELĪBAS UN SOCIĀLĀS APRŪPES CENTRS
A5: Būves nosaukums: VESELĪBAS UN SOCIĀLĀS APRŪPES CENTRS
A6: Objekta adrese: Liliju iela 109, Mārupe
A7: Pasūtījuma Nr.:
A9: Tāme sastādīta 2026.gada tirgus cenās | M9: Tāmes izmaksas Euro: | O9: =P39 -> 0
P11: =Kops.1!$E$15 -> 0
A12: Nr.p.k. | B12: Kods | C12: Būvdarbu nosaukums | D12: Mērvienība | E12: Daudzums | F12: Vienības izmaksas | L12: Kopā uz visu apjomu
F13: laika norma (c/h) | G13: darba samaksas likme (euro/h) | H13: Darba alga | I13: Būvizstrādājumi | J13: Mehānismi | K13: kopā | L13: darbietilpība (c/h) | M13: Darba alga | N13: Būvizstrādājumi | O13: Mehānismi | P13: summa
C15: Būvlaukuma ierīkošana un uzturēšana | K15: =ROUND(H15+I15+J15,2) -> 0 | L15: =ROUND(F15*E15,2) -> 0 | M15: =ROUND(H15*E15,2) -> 0 | N15: =ROUND(I15*E15,2) -> 0 | O15: =ROUND(J15*E15,2) -> 0 | P15: =ROUND(M15+N15+O15,2) -> 0
A16: 1 | C16: Pagaidu ceļa izbūve | D16: m2 | E16: 600 | H16: =ROUND(G16*F16,2) -> 0 | K16: =ROUND(H16+I16+J16,2) -> 0 | L16: =ROUND(F16*E16,2) -> 0 | M16: =ROUND(H16*E16,2) -> 0 | N16: =ROUND(I16*E16,2) -> 0 | O16: =ROUND(J16*E16,2) -> 0 | P16: =ROUND(M16+N16+O16,2) -> 0
A17: 2 | C17: Uzstādāms pagaidu žogs. Piegāde un montāža | D17: m | E17: 280 | H17: =ROUND(G17*F17,2) -> 0 | K17: =ROUND(H17+I17+J17,2) -> 0 | L17: =ROUND(F17*E17,2) -> 0 | M17: =ROUND(H17*E17,2) -> 0 | N17: =ROUND(I17*E17,2) -> 0 | O17: =ROUND(J17*E17,2) -> 0 | P17: =ROUND(M17+N17+O17,2) -> 0
C18: Pagaidu žoga noma | D18: mēn | E18: 10 | H18: =ROUND(G18*F18,2) -> 0 | K18: =ROUND(H18+I18+J18,2) -> 0 | L18: =ROUND(F18*E18,2) -> 0 | M18: =ROUND(H18*E18,2) -> 0 | N18: =ROUND(I18*E18,2) -> 0 | O18: =ROUND(J18*E18,2) -> 0 | P18: =ROUND(M18+N18+O18,2) -> 0
A19: 3 | C19: Būvnieku kantoris konteinera tipa 2.5x6x2.35m piegāde un montāža | D19: gb | E19: 1 | H19: =ROUND(G19*F19,2) -> 0 | K19: =ROUND(H19+I19+J19,2) -> 0 | L19: =ROUND(F19*E19,2) -> 0 | M19: =ROUND(H19*E19,2) -> 0 | N19: =ROUND(I19*E19,2) -> 0 | O19: =ROUND(J19*E19,2) -> 0 | P19: =ROUND(M19+N19+O19,2) -> 0
C20: tas pats noma | D20: mēn | E20: 10
A21: 4 | C21: Būvnieku sadzīves telpa konteineru tipa 2.5x6x2.35m piegāde un montāža | D21: gb | E21: 3 | H21: =ROUND(G21*F21,2) -> 0 | K21: =ROUND(H21+I21+J21,2) -> 0 | L21: =ROUND(F21*E21,2) -> 0 | M21: =ROUND(H21*E21,2) -> 0 | N21: =ROUND(I21*E21,2) -> 0 | O21: =ROUND(J21*E21,2) -> 0 | P21: =ROUND(M21+N21+O21,2) -> 0
C22: tas pats noma | D22: mēn | E22: 10
A23: 5 | C23: Noliktava konteinera tipa 2.5x3x2.35m piegāde un montāža | D23: gb | E23: 1 | H23: =ROUND(G23*F23,2) -> 0 | K23: =ROUND(H23+I23+J23,2) -> 0 | L23: =ROUND(F23*E23,2) -> 0 | M23: =ROUND(H23*E23,2) -> 0 | N23: =ROUND(I23*E23,2) -> 0 | O23: =ROUND(J23*E23,2) -> 0 | P23: =ROUND(M23+N23+O23,2) -> 0
C24: tas pats noma | D24: mēn | E24: 10 | H24: =ROUND(G24*F24,2) -> 0 | K24: =ROUND(H24+I24+J24,2) -> 0 | L24: =ROUND(F24*E24,2) -> 0 | M24: =ROUND(H24*E24,2) -> 0 | N24: =ROUND(I24*E24,2) -> 0 | O24: =ROUND(J24*E24,2) -> 0 | P24: =ROUND(M24+N24+O24,2) -> 0
A25: 6 | C25: EDLUS sistēmas pieslēgšana | D25: kpl | E25: 1 | H25: =ROUND(G25*F25,2) -> 0 | K25: =ROUND(H25+I25+J25,2) -> 0 | L25: =ROUND(F25*E25,2) -> 0 | M25: =ROUND(H25*E25,2) -> 0 | N25: =ROUND(I25*E25,2) -> 0 | O25: =ROUND(J25*E25,2) -> 0 | P25: =ROUND(M25+N25+O25,2) -> 0
C26: EDLUS sistēmas apkalpošana | D26: mēn | E26: 10 | H26: =ROUND(G26*F26,2) -> 0 | K26: =ROUND(H26+I26+J26,2) -> 0 | L26: =ROUND(F26*E26,2) -> 0 | M26: =ROUND(H26*E26,2) -> 0 | N26: =ROUND(I26*E26,2) -> 0 | O26: =ROUND(J26*E26,2) -> 0 | P26: =ROUND(M26+N26+O26,2) -> 0
A27: 7 | C27: BIO tualete noma piegāde un montāža | D27: gb | E27: 1 | H27: =ROUND(G27*F27,2) -> 0 | K27: =ROUND(H27+I27+J27,2) -> 0 | L27: =ROUND(F27*E27,2) -> 0 | M27: =ROUND(H27*E27,2) -> 0 | N27: =ROUND(I27*E27,2) -> 0 | O27: =ROUND(J27*E27,2) -> 0 | P27: =ROUND(M27+N27+O27,2) -> 0
C28: BIO tualetes moduļa apkalpošana, noma 1gb. | D28: mēn | E28: 10 | H28: =ROUND(G28*F28,2) -> 0 | K28: =ROUND(H28+I28+J28,2) -> 0 | L28: =ROUND(F28*E28,2) -> 0 | M28: =ROUND(H28*E28,2) -> 0 | N28: =ROUND(I28*E28,2) -> 0 | O28: =ROUND(J28*E28,2) -> 0 | P28: =ROUND(M28+N28+O28,2) -> 0
A29: 8 | C29: Pirmās palīdzības aptieciņa | D29: gb | E29: 1 | H29: =ROUND(G29*F29,2) -> 0 | K29: =ROUND(H29+I29+J29,2) -> 0 | L29: =ROUND(F29*E29,2) -> 0 | M29: =ROUND(H29*E29,2) -> 0 | N29: =ROUND(I29*E29,2) -> 0 | O29: =ROUND(J29*E29,2) -> 0 | P29: =ROUND(M29+N29+O29,2) -> 0
A30: 9 | C30: Ugunsdzēsības stenda montāža | D30: gb | E30: 1 | H30: =ROUND(G30*F30,2) -> 0 | K30: =ROUND(H30+I30+J30,2) -> 0 | L30: =ROUND(F30*E30,2) -> 0 | M30: =ROUND(H30*E30,2) -> 0 | N30: =ROUND(I30*E30,2) -> 0 | O30: =ROUND(J30*E30,2) -> 0 | P30: =ROUND(M30+N30+O30,2) -> 0
A31: 10 | C31: Elektroapgades pieslegums ar elektrosadalni | D31: kpl | E31: 1 | H31: =ROUND(G31*F31,2) -> 0 | K31: =ROUND(H31+I31+J31,2) -> 0 | L31: =ROUND(F31*E31,2) -> 0 | M31: =ROUND(H31*E31,2) -> 0 | N31: =ROUND(I31*E31,2) -> 0 | O31: =ROUND(J31*E31,2) -> 0 | P31: =ROUND(M31+N31+O31,2) -> 0
A32: 11 | C32: Ūdensvada pieslegums | D32: kpl | E32: 1 | H32: =ROUND(G32*F32,2) -> 0 | K32: =ROUND(H32+I32+J32,2) -> 0 | L32: =ROUND(F32*E32,2) -> 0 | M32: =ROUND(H32*E32,2) -> 0 | N32: =ROUND(I32*E32,2) -> 0 | O32: =ROUND(J32*E32,2) -> 0 | P32: =ROUND(M32+N32+O32,2) -> 0
A33: 12 | C33: Apgaismojums, prožektoru montāža | D33: gb | E33: 8 | H33: =ROUND(G33*F33,2) -> 0 | K33: =ROUND(H33+I33+J33,2) -> 0 | L33: =ROUND(F33*E33,2) -> 0 | M33: =ROUND(H33*E33,2) -> 0 | N33: =ROUND(I33*E33,2) -> 0 | O33: =ROUND(J33*E33,2) -> 0 | P33: =ROUND(M33+N33+O33,2) -> 0
A34: 13 | C34: Objekta apsardze - pagaidu videonovērošanas sistēmas ierīkošana | D34: kpl | E34: 1 | H34: =ROUND(G34*F34,2) -> 0 | K34: =ROUND(H34+I34+J34,2) -> 0 | L34: =ROUND(F34*E34,2) -> 0 | M34: =ROUND(H34*E34,2) -> 0 | N34: =ROUND(I34*E34,2) -> 0 | O34: =ROUND(J34*E34,2) -> 0 | P34: =ROUND(M34+N34+O34,2) -> 0
C35: Pagaidu videonovērošanas sistēmas uzturēšana | D35: mēn | E35: 10 | H35: =ROUND(G35*F35,2) -> 0 | K35: =ROUND(H35+I35+J35,2) -> 0 | L35: =ROUND(F35*E35,2) -> 0 | M35: =ROUND(H35*E35,2) -> 0 | N35: =ROUND(I35*E35,2) -> 0 | O35: =ROUND(J35*E35,2) -> 0 | P35: =ROUND(M35+N35+O35,2) -> 0
A36: 14 | C36: Maksa par elektroenerģiju | D36: mēn | E36: 10
A37: 15 | C37: Maksa par ūdeni | D37: mēn | E37: 10
A38: 16 | C38: Koku izzāģēšana | D38: kpl | E38: 1
C39: Tiešās izmaksas kopā, t. sk. darba devēja sociālais nodoklis | L39: =SUM(L15:L35) -> 0 | M39: =SUM(M15:M35) -> 0 | N39: =SUM(N15:N35) -> 0 | O39: =SUM(O15:O35) -> 0 | P39: =SUM(P15:P35) -> 0
A43: Sastādīja:
A47: Pārbaudīja:

Sheet 1.1 Pamati, ā.inž.
A1: Lokālā tāme Nr.1.1
A2: =Kops.1!C20 -> Zemes darbi, pamatu izbūve, pieslēgums ārējiem inženiertīkliem, labiekārtošana
A4: Objekta nosaukums: VESELĪBAS UN SOCIĀLĀS APRŪPES CENTRS
A5: Būves nosaukums: VESELĪBAS UN SOCIĀLĀS APRŪPES CENTRS
A6: Objekta adrese: Liliju iela 109
A7: Pasūtījuma Nr.:
A9: Tāme sastādīta 2026.gada tirgus cenās | M9: Tāmes izmaksas Euro: | O9: =P43 -> 0
P11: =Kops.1!$I$15 -> Tāme sastādīta [datums]
A12: Nr.p.k. | B12: Kods | C12: Būvdarbu nosaukums | D12: Mērvienība | E12: Daudzums | F12: Vienības izmaksas | L12: Kopā uz visu apjomu
F13: laika norma (c/h) | G13: darba samaksas likme (euro/h) | H13: Darba alga | I13: Būvizstrādājumi | J13: Mehānismi | K13: kopā | L13: darbietilpība (c/h) | M13: Darba alga | N13: Būvizstrādājumi | O13: Mehānismi | P13: summa
C14: Zemes darbi
A15: 1 | C15: Auglīgās augsnes kārtas ~0,20m nostumšana un sastumšana kaudzē | D15: m2 | E15: 535
A16: 2 | C16: Grunts izstrāde ~0,40m | D16: m3 | E16: =E15*0.4 -> 214
A17: 3 | C17: Pamatu aizbēršana ar esošu grunti, blietējot pa kārtām | D17: m3 | E17: =E16-E18 -> 40.208
A18: 4 | C18: Liekās grunts izvešana uz būvuzņēmēja atbērtni | D18: m3 | E18: =E21*0.4 -> 173.792
A19: 5 | C19: Gruntsūdens līmeņa pazemināšana, pēc nepieciešamības | D19: kpl | E19: 1
C20: Pamatu plātne
A21: 6 | C21: Grunts blietēšana | D21: m2 | E21: 434.48
A22: 7 | C22: XPS siltumizolācijas montāža 200mm biezumā uz grunts | D22: m3 | E22: 106.13
A23: 8 | C23: Pamatu plātnes stiegrošana ar B500B klases stiegrām, t.sk., distanceri, locījumi un montāžas palīgmateriāli | D23: kg | E23: =E24*112.69 -> 8558.8055
A24: 9 | C24: Pamatu plātnes veidņošana un betonēšana 180mm biezumā ar betonu C30/37. GP-1 | D24: m3 | E24: 75.95
A25: 10 | C25: Deformācijas šuvju izbūve | D25: m | E25: 18.7
C26: Stabveida pamati
A27: 11 | C27: Blietētas šķembu kārtas fr.5-45mm izbūve 100mm biezumā | D27: m3 | E27: 0.6
A28: 12 | C28: Stabveida pamatu stiegrošana ar B500B klases stiegrām, t.sk., distanceri, locījumi un montāžas palīgmateriāli | D28: kg | E28: =E29*75.69 -> 106.7229
A29: 13 | C29: Stabveida pamatu veidņošana un betonēšana ar betonu C30/37. P-1 | D29: m3 | E29: 1.41
C30: Ārējais lievenis
A31: 14 | C31: Blietētas šķembu kārtas fr.5-45mm izbūve 100mm biezumā | D31: m3 | E31: 2.41
A32: 15 | C32: Ārējā lieveņa stiegrošana ar B500B klases stiegrām, t.sk., distanceri, locījumi un montāžas palīgmateriāli | D32: kg | E32: =E33*112.69 -> 391.0343
A33: 16 | C33: Ārējā lieveņa veidņošana un betonēšana 180mm biezumā ar betonu C30/37. PL-1 | D33: m3 | E33: 3.47
C34: Pamatu plātnes sijas
A35: 17 | C35: Pamatu plātnes siju stiegrošana ar B500B klases stiegrām, t.sk., distanceri, locījumi un montāžas palīgmateriāli | D35: kg | E35: =E36*115.69 -> 1686.7602
A36: 18 | C36: Pamatu plātnes siju veidņošana un betonēšana ar betonu C30/37. GS-1 | D36: m3 | E36: 14.58
C37: Ārējie inženiertīkli
A38: =A36+1 -> 19 | C38: Pieslēgums ārējam ūdensvadam un kanalizācijai | D38: kpl | E38: 1
A39: =A38+1 -> 20 | C39: Pieslēgums ārējam elektrotīklam | D39: kpl | E39: 1
C40: Labiekārtošana
A41: =A39+1 -> 21 | C41: Teritorijas labiekārtošana, ieskaitot grunts pārvietošanu, līdzināšanu, zāliena ierīkošanu | D41: m2 | E41: 800
A42: =A41+1 -> 22 | C42: Labiekārtojuma elementu ierīkošana | D42: kpl | E42: 1
C43: Tiešās izmaksas kopā, t. sk. darba devēja sociālais nodoklis | L43: =SUM(L14:L42) -> 0 | M43: =SUM(M14:M42) -> 0 | N43: =SUM(N14:N42) -> 0 | O43: =SUM(O14:O42) -> 0 | P43: =SUM(P14:P42) -> 0
...

Sheet 1.2 Prefabricētie elementi
A1: Lokālā tāme Nr.1.2
A2: 1.2 Prefabricētie elementi
A4: ='1.1 Pamati, ā.inž.'!$A$4 -> Objekta nosaukums: VESELĪBAS UN SOCIĀLĀS APRŪPES CENTRS
A5: ='1.1 Pamati, ā.inž.'!$A$5 -> Būves nosaukums: VESELĪBAS UN SOCIĀLĀS APRŪPES CENTRS
A6: ='1.1 Pamati, ā.inž.'!$A$6 -> Objekta adrese: Liliju iela 109
A7: ='1.1 Pamati, ā.inž.'!$A$7 -> Pasūtījuma Nr.:
A9: ='1.1 Pamati, ā.inž.'!$A$9 -> Tāme sastādīta 2026.gada tirgus cenās | M9: Tāmes izmaksas Euro: | O9: =P60 -> 0
P11: =Kops.1!$I$15 -> Tāme sastādīta [datums]
A12: Nr.p.k. | B12: Kods | C12: Būvdarbu nosaukums | D12: Mērvienība | E12: Daudzums | F12: Vienības izmaksas | L12: Kopā uz visu apjomu
F13: laika norma (c/h) | G13: darba samaksas likme (euro/h) | H13: Darba alga | I13: Būvizstrādājumi | J13: Mehānismi | K13: kopā | L13: darbietilpība (c/h) | M13: Darba alga | N13: Būvizstrādājumi | O13: Mehānismi | P13: summa
C14: Jumts JK-1 | K14: =ROUND(H14+I14+J14,2) -> 0 | L14: =ROUND(F14*E14,2) -> 0 | M14: =ROUND(H14*E14,2) -> 0 | N14: =ROUND(I14*E14,2) -> 0 | O14: =ROUND(J14*E14,2) -> 0 | P14: =ROUND(M14+N14+O14,2) -> 0
C15: Jumta JK-1 ražošana | D15: m2 | E15: 403.4 | H15: =ROUND(G15*F15,2) -> 0 | K15: =ROUND(H15+I15+J15,2) -> 0 | L15: =ROUND(F15*E15,2) -> 0 | M15: =ROUND(H15*E15,2) -> 0 | N15: =ROUND(I15*E15,2) -> 0 | O15: =ROUND(J15*E15,2) -> 0 | P15: =ROUND(M15+N15+O15,2) -> 0
C16: Bērza b/bb int saplāksnis 12mm | D16: m2 | E16: 403.4 | H16: =ROUND(G16*F16,2) -> 0 | K16: =ROUND(H16+I16+J16,2) -> 0 | L16: =ROUND(F16*E16,2) -> 0 | M16: =ROUND(H16*E16,2) -> 0 | N16: =ROUND(I16*E16,2) -> 0 | O16: =ROUND(J16*E16,2) -> 0 | P16: =ROUND(M16+N16+O16,2) -> 0
C17: Siltumizolācijas Isover Insulsafe 26kg/m3, 400mm biezumā | D17: m3 | E17: 161.36 | H17: =ROUND(G17*F17,2) -> 0 | K17: =ROUND(H17+I17+J17,2) -> 0 | L17: =ROUND(F17*E17,2) -> 0 | M17: =ROUND(H17*E17,2) -> 0 | N17: =ROUND(I17*E17,2) -> 0 | O17: =ROUND(J17*E17,2) -> 0 | P17: =ROUND(M17+N17+O17,2) -> 0
C18: OSB 22mm | D18: m2 | E18: 403.4 | H18: =ROUND(G18*F18,2) -> 0 | K18: =ROUND(H18+I18+J18,2) -> 0 | L18: =ROUND(F18*E18,2) -> 0 | M18: =ROUND(H18*E18,2) -> 0 | N18: =ROUND(I18*E18,2) -> 0 | O18: =ROUND(J18*E18,2) -> 0 | P18: =ROUND(M18+N18+O18,2) -> 0
C19: koka konstrukcijas C24 klase, t.sk., būvkalumi, stiprinājumi un palīgmateriāli | D19: m3 | E19: 11.52 | H19: =ROUND(G19*F19,2) -> 0
C20: Jumts JK-2 | H20: =ROUND(G20*F20,2) -> 0 | K20: =ROUND(H20+I20+J20,2) -> 0 | L20: =ROUND(F20*E20,2) -> 0 | M20: =ROUND(H20*E20,2) -> 0 | N20: =ROUND(I20*E20,2) -> 0 | O20: =ROUND(J20*E20,2) -> 0 | P20: =ROUND(M20+N20+O20,2) -> 0
C21: Jumta JK-2 ražošana | D21: m2 | E21: 85.5 | H21: =ROUND(G21*F21,2) -> 0 | K21: =ROUND(H21+I21+J21,2) -> 0 | L21: =ROUND(F21*E21,2) -> 0 | M21: =ROUND(H21*E21,2) -> 0 | N21: =ROUND(I21*E21,2) -> 0 | O21: =ROUND(J21*E21,2) -> 0 | P21: =ROUND(M21+N21+O21,2) -> 0
C22: koka konstrukcijas C24 klase, t.sk., būvkalumi, stiprinājumi un palīgmateriāli | D22: m3 | E22: 2.44 | H22: =ROUND(G22*F22,2) -> 0 | K22: =ROUND(H22+I22+J22,2) -> 0 | L22: =ROUND(F22*E22,2) -> 0 | M22: =ROUND(H22*E22,2) -> 0 | N22: =ROUND(I22*E22,2) -> 0 | O22: =ROUND(J22*E22,2) -> 0 | P22: =ROUND(M22+N22+O22,2) -> 0
C23: Jumts JK-3 | H23: =ROUND(G23*F23,2) -> 0 | K23: =ROUND(H23+I23+J23,2) -> 0 | L23: =ROUND(F23*E23,2) -> 0 | M23: =ROUND(H23*E23,2) -> 0 | N23: =ROUND(I23*E23,2) -> 0 | O23: =ROUND(J23*E23,2) -> 0 | P23: =ROUND(M23+N23+O23,2) -> 0
C24: Jumta JK-2 ražošana | D24: m2 | E24: 74.4 | H24: =ROUND(G24*F24,2) -> 0 | K24: =ROUND(H24+I24+J24,2) -> 0 | L24: =ROUND(F24*E24,2) -> 0 | M24: =ROUND(H24*E24,2) -> 0 | N24: =ROUND(I24*E24,2) -> 0 | O24: =ROUND(J24*E24,2) -> 0 | P24: =ROUND(M24+N24+O24,2) -> 0
C25: Bērza b/bb int saplākšņa 12mm | D25: m2 | E25: 74.4 | H25: =ROUND(G25*F25,2) -> 0 | K25: =ROUND(H25+I25+J25,2) -> 0 | L25: =ROUND(F25*E25,2) -> 0 | M25: =ROUND(H25*E25,2) -> 0 | N25: =ROUND(I25*E25,2) -> 0 | O25: =ROUND(J25*E25,2) -> 0 | P25: =ROUND(M25+N25+O25,2) -> 0
C26: Siltumizolācijas Isover Insulsafe 26kg/m3, 400mm biezumā | D26: m3 | E26: 29.76 | H26: =ROUND(G26*F26,2) -> 0 | K26: =ROUND(H26+I26+J26,2) -> 0 | L26: =ROUND(F26*E26,2) -> 0 | M26: =ROUND(H26*E26,2) -> 0 | N26: =ROUND(I26*E26,2) -> 0 | O26: =ROUND(J26*E26,2) -> 0 | P26: =ROUND(M26+N26+O26,2) -> 0
C27: Kokšķiedra 22mm | D27: m2 | E27: 74.4 | H27: =ROUND(G27*F27,2) -> 0 | K27: =ROUND(H27+I27+J27,2) -> 0 | L27: =ROUND(F27*E27,2) -> 0 | M27: =ROUND(H27*E27,2) -> 0 | N27: =ROUND(I27*E27,2) -> 0 | O27: =ROUND(J27*E27,2) -> 0 | P27: =ROUND(M27+N27+O27,2) -> 0
C28: koka konstrukcijas C24 klase, t.sk., būvkalumi, stiprinājumi un palīgmateriāli | D28: m3 | E28: 2.12 | H28: =ROUND(G28*F28,2) -> 0 | K28: =ROUND(H28+I28+J28,2) -> 0 | L28: =ROUND(F28*E28,2) -> 0 | M28: =ROUND(H28*E28,2) -> 0 | N28: =ROUND(I28*E28,2) -> 0 | O28: =ROUND(J28*E28,2) -> 0 | P28: =ROUND(M28+N28+O28,2) -> 0
C29: Ārsiena AS-1 | H29: =ROUND(G29*F29,2) -> 0 | K29: =ROUND(H29+I29+J29,2) -> 0 | L29: =ROUND(F29*E29,2) -> 0 | M29: =ROUND(H29*E29,2) -> 0 | N29: =ROUND(I29*E29,2) -> 0 | O29: =ROUND(J29*E29,2) -> 0 | P29: =ROUND(M29+N29+O29,2) -> 0
C30: Ārsienas AS-1 ražošana | D30: m2 | E30: 332.7 | H30: =ROUND(G30*F30,2) -> 0 | K30: =ROUND(H30+I30+J30,2) -> 0 | L30: =ROUND(F30*E30,2) -> 0 | M30: =ROUND(H30*E30,2) -> 0 | N30: =ROUND(I30*E30,2) -> 0 | O30: =ROUND(J30*E30,2) -> 0 | P30: =ROUND(M30+N30+O30,2) -> 0
C31: Saplākšņa 12mm | D31: m2 | E31: 332.7 | H31: =ROUND(G31*F31,2) -> 0 | K31: =ROUND(H31+I31+J31,2) -> 0 | L31: =ROUND(F31*E31,2) -> 0 | M31: =ROUND(H31*E31,2) -> 0 | N31: =ROUND(I31*E31,2) -> 0 | O31: =ROUND(J31*E31,2) -> 0 | P31: =ROUND(M31+N31+O31,2) -> 0
C32: Siltumizolācijas Isover Insulsafe 26kg/m3, 400mm biezumā | D32: m3 | E32: 133.08 | H32: =ROUND(G32*F32,2) -> 0 | K32: =ROUND(H32+I32+J32,2) -> 0 | L32: =ROUND(F32*E32,2) -> 0 | M32: =ROUND(H32*E32,2) -> 0 | N32: =ROUND(I32*E32,2) -> 0 | O32: =ROUND(J32*E32,2) -> 0 | P32: =ROUND(M32+N32+O32,2) -> 0
C33: Kokšķiedras plāksnes Steico Universal Black 22mm | D33: m2 | E33: 332.7 | H33: =ROUND(G33*F33,2) -> 0 | K33: =ROUND(H33+I33+J33,2) -> 0 | L33: =ROUND(F33*E33,2) -> 0 | M33: =ROUND(H33*E33,2) -> 0 | N33: =ROUND(I33*E33,2) -> 0 | O33: =ROUND(J33*E33,2) -> 0 | P33: =ROUND(M33+N33+O33,2) -> 0
C34: Koka latojuma 25x50mm, solis 600mm | D34: m2 | E34: 332.7 | H34: =ROUND(G34*F34,2) -> 0 | K34: =ROUND(H34+I34+J34,2) -> 0 | L34: =ROUND(F34*E34,2) -> 0 | M34: =ROUND(H34*E34,2) -> 0 | N34: =ROUND(I34*E34,2) -> 0 | O34: =ROUND(J34*E34,2) -> 0 | P34: =ROUND(M34+N34+O34,2) -> 0
C35: Koka dēļu apšuvuma 21x150mm. Lazūra-impregnants koka virsmām Adler Pullex. Toni skatīt krāsu pasē | D35: m2 | E35: 332.7 | H35: =ROUND(G35*F35,2) -> 0 | K35: =ROUND(H35+I35+J35,2) -> 0 | L35: =ROUND(F35*E35,2) -> 0 | M35: =ROUND(H35*E35,2) -> 0 | N35: =ROUND(I35*E35,2) -> 0 | O35: =ROUND(J35*E35,2) -> 0 | P35: =ROUND(M35+N35+O35,2) -> 0
C36: koka konstrukcijas C24 klase, t.sk., būvkalumi, stiprinājumi un palīgmateriāli | D36: m3 | E36: 25.64 | H36: =ROUND(G36*F36,2) -> 0 | L36: =ROUND(F36*E36,2) -> 0 | M36: =ROUND(H36*E36,2) -> 0 | N36: =ROUND(I36*E36,2) -> 0 | O36: =ROUND(J36*E36,2) -> 0 | P36: =ROUND(M36+N36+O36,2) -> 0
C37: Ārsiena AS-2 | H37: =ROUND(G37*F37,2) -> 0 | K37: =ROUND(H37+I37+J37,2) -> 0 | L37: =ROUND(F37*E37,2) -> 0 | M37: =ROUND(H37*E37,2) -> 0 | N37: =ROUND(I37*E37,2) -> 0 | O37: =ROUND(J37*E37,2) -> 0 | P37: =ROUND(M37+N37+O37,2) -> 0
C38: Ārsienas AS-2 ražošana | D38: m2 | E38: 38.4 | H38: =ROUND(G38*F38,2) -> 0 | K38: =ROUND(H38+I38+J38,2) -> 0 | L38: =ROUND(F38*E38,2) -> 0 | M38: =ROUND(H38*E38,2) -> 0 | N38: =ROUND(I38*E38,2) -> 0 | O38: =ROUND(J38*E38,2) -> 0 | P38: =ROUND(M38+N38+O38,2) -> 0
C39: Koka dēļi 21x150mm. Lazūra-impregnants koka virsmām Adler Pullex. Toni skatīt krāsu pasē | D39: m2 | E39: 38.4 | H39: =ROUND(G39*F39,2) -> 0 | K39: =ROUND(H39+I39+J39,2) -> 0 | L39: =ROUND(F39*E39,2) -> 0 | M39: =ROUND(H39*E39,2) -> 0 | N39: =ROUND(I39*E39,2) -> 0 | O39: =ROUND(J39*E39,2) -> 0 | P39: =ROUND(M39+N39+O39,2) -> 0
C40: Koka latojums 25x50mm, solis 600mm | D40: m2 | E40: 38.4 | H40: =ROUND(G40*F40,2) -> 0 | K40: =ROUND(H40+I40+J40,2) -> 0 | L40: =ROUND(F40*E40,2) -> 0 | M40: =ROUND(H40*E40,2) -> 0 | N40: =ROUND(I40*E40,2) -> 0 | O40: =ROUND(J40*E40,2) -> 0 | P40: =ROUND(M40+N40+O40,2) -> 0
C41: Koka latojums 25x50mm, solis 600mm | D41: m2 | E41: 38.4 | H41: =ROUND(G41*F41,2) -> 0 | K41: =ROUND(H41+I41+J41,2) -> 0 | L41: =ROUND(F41*E41,2) -> 0 | M41: =ROUND(H41*E41,2) -> 0 | N41: =ROUND(I41*E41,2) -> 0 | O41: =ROUND(J41*E41,2) -> 0 | P41: =ROUND(M41+N41+O41,2) -> 0
C42: Kokšķiedras plāksnes Steico Universal Black 22mm | D42: m2 | E42: 38.4 | H42: =ROUND(G42*F42,2) -> 0 | K42: =ROUND(H42+I42+J42,2) -> 0 | L42: =ROUND(F42*E42,2) -> 0 | M42: =ROUND(H42*E42,2) -> 0 | N42: =ROUND(I42*E42,2) -> 0 | O42: =ROUND(J42*E42,2) -> 0 | P42: =ROUND(M42+N42+O42,2) -> 0
C43: Skaņas izolācijas Isover KL35, 75mm | D43: m2 | E43: 38.4 | H43: =ROUND(G43*F43,2) -> 0 | K43: =ROUND(H43+I43+J43,2) -> 0 | L43: =ROUND(F43*E43,2) -> 0 | M43: =ROUND(H43*E43,2) -> 0 | N43: =ROUND(I43*E43,2) -> 0 | O43: =ROUND(J43*E43,2) -> 0 | P43: =ROUND(M43+N43+O43,2) -> 0
...

Sheet 1.3 Jumts
A1: Lokālā tāme Nr.1.3
A2: Jumts
A4: ='1.1 Pamati, ā.inž.'!$A$4 -> Objekta nosaukums: VESELĪBAS UN SOCIĀLĀS APRŪPES CENTRS
A5: ='1.1 Pamati, ā.inž.'!$A$5 -> Būves nosaukums: VESELĪBAS UN SOCIĀLĀS APRŪPES CENTRS
A6: ='1.1 Pamati, ā.inž.'!$A$6 -> Objekta adrese: Liliju iela 109
A7: ='1.1 Pamati, ā.inž.'!$A$7 -> Pasūtījuma Nr.:
A9: ='1.1 Pamati, ā.inž.'!$A$9 -> Tāme sastādīta 2026.gada tirgus cenās | M9: Tāmes izmaksas Euro: | O9: =P44 -> 0
P11: =Kops.1!$I$15 -> Tāme sastādīta [datums]
A12: Nr.p.k. | B12: Kods | C12: Būvdarbu nosaukums | D12: Mērvienība | E12: Daudzums | F12: Vienības izmaksas | L12: Kopā uz visu apjomu
F13: laika norma (c/h) | G13: darba samaksas likme (euro/h) | H13: Darba alga | I13: Būvizstrādājumi | J13: Mehānismi | K13: kopā | L13: darbietilpība (c/h) | M13: Darba alga | N13: Būvizstrādājumi | O13: Mehānismi | P13: summa
C14: Jumts JK-1
A15: 1 | C15: Ģipškartona montāža 12mm | D15: m2 | E15: 403.4
A16: 2 | C16: Siltumizolācijas Isover KL 50mm montāža | D16: m2 | E16: 403.4
A17: 3 | C17: Koka karkasa 45x45mm montāža | D17: m2 | E17: 403.4
A18: 4 | C18: Difūzijas membrānas montāža, šuves salīmējot | D18: m2 | E18: 403.4
A19: 5 | C19: Koka latojuma 25x50mm montāža, solis 200mm | D19: m2 | E19: 403.4
A20: 6 | C20: Koka šķērslatojuma 25x100mm montāža, solis 200mm | D20: m2 | E20: =E19 -> 403.4
A21: 7 | C21: Gludā skārda jumta seguma b=0,6mm montāža | D21: m2 | E21: =E20 -> 403.4
C22: Jumts JK-2
A23: 8 | C23: Koka dēļu 21x150mm montāža. Koka dēļi lakoti ar matētu laku. Toni skatīt krāsu pasē | D23: m2 | E23: 85.5
A24: 9 | C24: Koka latojuma 25x50mm montāža, solis 200mm | D24: m2 | E24: =E23 -> 85.5
A25: 10 | C25: Koka šķērslatojuma 25x100mm montāža, solis 200mm | D25: m2 | E25: =E24 -> 85.5
A26: 11 | C26: Difūzijas membrānas montāža, šuves salīmējot | D26: m2 | E26: =E25 -> 85.5
A27: 12 | C27: Koka latojuma 25x50mm montāža, solis 200mm | D27: m2 | E27: =E26 -> 85.5
A28: 13 | C28: Koka šķērslatojuma 25x100mm montāža, solis 200mm | D28: m2 | E28: =E27 -> 85.5
A29: 14 | C29: Gludā skārda jumta seguma b=0,6mm montāža | D29: m2 | E29: =E28 -> 85.5
C30: Jumts JK-3
A31: 15 | C31: Ģipškartona montāža 12mm | D31: m2 | E31: 68.9
A32: 16 | C32: Difūzijas membrānas montāža, šuves salīmējot | D32: m2 | E32: 74.4
A33: 17 | C33: Putupolistirola Tenax EPS100 montāža slīpuma veidošanai 0-160mm | D33: m2 | E33: 74.4
A34: 18 | C34: Jumta seguma apakškārtas Technonicol Mida Self PV montāža | D34: m2 | E34: 74.4
A35: 19 | C35: Jumta seguma virskārtas Technoelast Standart EKP montāža | D35: m2 | E35: =E34 -> 74.4
C36: Jumts, dažādi darbi
A37: 20 | C37: Parapeta nosegelementa montāža. Krāsots skārds ar PURAL pārklājumu, tonis RAL 7015. Platumā 350mm. Skārda biezums 0.5 mm. | D37: m | E37: 39.2
A38: 21 | C38: Teknes montāža. Tērauda ar divpusēju PUR pārklājumu ar kopējo materiāla biezumu 0.55mm Tonis RAL7015. kplektēt kopā ar visiem nepieciešamajiem elementiem un stiprinājumiem. | D38: m | E38: 54
A39: 22 | C39: Notekcaurules d=110mm montāža. Tērauda ar divpusēju PUR pārklājumu ar kopējo materiāla biezumu 0.55mm Tonis RAL7015. kplektēt kopā ar visiem nepieciešamajiem elementiem un stiprinājumiem. | D39: m | E39: 20
A40: 23 | C40: Sniega barjeras montāža. Cinkotas ar karstās cinkošanas paņemienu. Tonis RAL 7015. | D40: m | E40: 51
A41: 24 | C41: Vējmalas montāža. Krāsots skārds ar PURAL pārklājumu, tonis RAL 7015. Platumā 350mm. Skārda biezums 0.5 mm. | D41: m | E41: 48
A42: 25 | C42: Jumta metāla kāpņu montāža. Cinkotas ar karstās cinkošanas paņemienu. Tonis RAL 7015. Kāpnēm jābūt tik augstām, lai augšējais pakāpiens atrastos ± 100mm virs karnīzes vai citas piekļuves platformas. Apakšējam pakāpienam jāatrodas 1,000–1,200 mm virs zemes vai citas apakšējās virsmas. Sienas kāpņu stiprinājumiem jābūt tādā izmērā, lai attālums starp kāpņu pakāpiena viduslīniju un karnīzi vai citu izvirzījumu būtu vismaz 200 mm. Aprīkot ar kāpņu drošības grozu | D42: gb | E42: 2
C44: ='1.1 Pamati, ā.inž.'!$C$43 -> Tiešās izmaksas kopā, t. sk. darba devēja sociālais nodoklis | L44: =SUM(L14:L43) -> 0 | M44: =SUM(M14:M43) -> 0 | N44: =SUM(N14:N43) -> 0 | O44: =SUM(O14:O43) -> 0 | P44: =SUM(P14:P43) -> 0
...

Sheet 1.4 Grīdas
A1: Lokālā tāme Nr.1.4
A2: Grīdas
A4: ='1.1 Pamati, ā.inž.'!$A$4 -> Objekta nosaukums: VESELĪBAS UN SOCIĀLĀS APRŪPES CENTRS
A5: ='1.1 Pamati, ā.inž.'!$A$5 -> Būves nosaukums: VESELĪBAS UN SOCIĀLĀS APRŪPES CENTRS
A6: ='1.1 Pamati, ā.inž.'!$A$6 -> Objekta adrese: Liliju iela 109
A7: ='1.1 Pamati, ā.inž.'!$A$7 -> Pasūtījuma Nr.:
A9: ='1.1 Pamati, ā.inž.'!$A$9 -> Tāme sastādīta 2026.gada tirgus cenās | M9: Tāmes izmaksas Euro: | O9: =P17 -> 0
P11: =Kops.1!$I$18 -> 0
A12: Nr.p.k. | B12: Kods | C12: Būvdarbu nosaukums | D12: Mērvienība | E12: Daudzums | F12: Vienības izmaksas | L12: Kopā uz visu apjomu
F13: laika norma (c/h) | G13: darba samaksas likme (euro/h) | H13: Darba alga | I13: Būvizstrādājumi | J13: Mehānismi | K13: kopā | L13: darbietilpība (c/h) | M13: Darba alga | N13: Būvizstrādājumi | O13: Mehānismi | P13: summa
C14: Grīda GK-1
A15: 1 | C15: Siltumizolācias slānis 20mm, izlīdzinošā cementa javas slāņa 80mm izbūve | D15: m2 | E15: 422.4
C17: ='1.1 Pamati, ā.inž.'!$C$43 -> Tiešās izmaksas kopā, t. sk. darba devēja sociālais nodoklis | L17: =SUM(L14:L16) -> 0 | M17: =SUM(M14:M16) -> 0 | N17: =SUM(N14:N16) -> 0 | O17: =SUM(O14:O16) -> 0 | P17: =SUM(P14:P16) -> 0
A22: ='1.1 Pamati, ā.inž.'!$A$47 -> Sastādīja:
A26: ='1.1 Pamati, ā.inž.'!$A$51 -> Pārbaudīja:

Sheet 1.5 Sienas
A1: Lokālā tāme Nr.1.5
A2: Ārsienas, starpsienas
A4: ='1.1 Pamati, ā.inž.'!$A$4 -> Objekta nosaukums: VESELĪBAS UN SOCIĀLĀS APRŪPES CENTRS
A5: ='1.1 Pamati, ā.inž.'!$A$5 -> Būves nosaukums: VESELĪBAS UN SOCIĀLĀS APRŪPES CENTRS
A6: ='1.1 Pamati, ā.inž.'!$A$6 -> Objekta adrese: Liliju iela 109
A7: ='1.1 Pamati, ā.inž.'!$A$7 -> Pasūtījuma Nr.:
A9: ='1.1 Pamati, ā.inž.'!$A$9 -> Tāme sastādīta 2026.gada tirgus cenās | M9: Tāmes izmaksas Euro: | O9: =P27 -> 0
P11: =Kops.1!$I$15 -> Tāme sastādīta [datums]
A12: Nr.p.k. | B12: Kods | C12: Būvdarbu nosaukums | D12: Mērvienība | E12: Daudzums | F12: Vienības izmaksas | L12: Kopā uz visu apjomu
F13: laika norma (c/h) | G13: darba samaksas likme (euro/h) | H13: Darba alga | I13: Būvizstrādājumi | J13: Mehānismi | K13: kopā | L13: darbietilpība (c/h) | M13: Darba alga | N13: Būvizstrādājumi | O13: Mehānismi | P13: summa
C14: Cokols | K14: =ROUND(H14+I14+J14,2) -> 0 | L14: =ROUND(F14*E14,2) -> 0 | M14: =ROUND(H14*E14,2) -> 0 | N14: =ROUND(I14*E14,2) -> 0 | O14: =ROUND(J14*E14,2) -> 0 | P14: =ROUND(M14+N14+O14,2) -> 0
A15: 1 | C15: Cokola apdare ar Cembrit rock plāksnēm (Tonis -coal) | D15: m2 | E15: 45.04
C16: Sastatnes
A17: 2 | C17: Sastatņu montāža, demontāža | D17: m2 | E17: 485.04
A18: 3 | C18: sastatņu noma | D18: m2 | E18: =E17 -> 485.04
C19: Ārsiena AS-1
A20: 4 | C20: Ģipškartona Knauf Blue 12,5mm montāža | D20: m2 | E20: 332.7
A21: 5 | C21: Saplākšņa 12mm montāža | D21: m2 | E21: =E20 -> 332.7
A22: 6 | C22: Skaņas izolācijas Isover KL35, 70mm montāža | D22: m2 | E22: =E21 -> 332.7
A23: 7 | C23: Koka karkasa 50x70mm montāža | D23: m2 | E23: =E22 -> 332.7
A24: 8 | C24: Starpsienas
A25: 9 | C25: Ģipškartona starpsienas Knauf tipa montāža 100mm, ieskaitot skaņas izolāciju | D25: m2 | E25: =153+210+44+56+40-85 -> 418
C27: ='1.1 Pamati, ā.inž.'!$C$43 -> Tiešās izmaksas kopā, t. sk. darba devēja sociālais nodoklis | L27: =SUM(L14:L26) -> 0 | M27: =SUM(M14:M26) -> 0 | N27: =SUM(N14:N26) -> 0 | O27: =SUM(O14:O26) -> 0 | P27: =SUM(P14:P26) -> 0
A31: ='1.1 Pamati, ā.inž.'!$A$47 -> Sastādīja:
A35: ='1.1 Pamati, ā.inž.'!$A$51 -> Pārbaudīja:

Sheet 1.6 Ailes
A1: Lokālā tāme Nr.1.6
A2: Ailu aizpildījumi
A4: ='1.1 Pamati, ā.inž.'!$A$4 -> Objekta nosaukums: VESELĪBAS UN SOCIĀLĀS APRŪPES CENTRS
A5: ='1.1 Pamati, ā.inž.'!$A$5 -> Būves nosaukums: VESELĪBAS UN SOCIĀLĀS APRŪPES CENTRS
A6: ='1.1 Pamati, ā.inž.'!$A$6 -> Objekta adrese: Liliju iela 109
A7: ='1.1 Pamati, ā.inž.'!$A$7 -> Pasūtījuma Nr.:
A9: ='1.1 Pamati, ā.inž.'!$A$9 -> Tāme sastādīta 2026.gada tirgus cenās | M9: Tāmes izmaksas Euro: | O9: =P48 -> 0
P11: =Kops.1!$I$15 -> Tāme sastādīta [datums]
A12: Nr.p.k. | B12: Kods | C12: Būvdarbu nosaukums | D12: Mērvienība | E12: Daudzums | F12: Vienības izmaksas | L12: Kopā uz visu apjomu
F13: laika norma (c/h) | G13: darba samaksas likme (euro/h) | H13: Darba alga | I13: Būvizstrādājumi | J13: Mehānismi | K13: kopā | L13: darbietilpība (c/h) | M13: Darba alga | N13: Būvizstrādājumi | O13: Mehānismi | P13: summa
C14: Logi. Sīkāku kplektāciju skatīt specifikācijā. Montāžu veikt saskaņā ar mezgliem
A15: 1 | C15: Koka loga 1200x2150mm montāža. IL-1 | D15: gb | E15: 1
A16: 2 | C16: PVC loga ar 3-stiklu paketi 2000x1900mm montāža. L-1 | D16: gb | E16: 8
A17: 3 | C17: PVC loga ar 3-stiklu paketi 1200x800mm montāža. L-2 | D17: gb | E17: 2
A18: 4 | C18: PVC loga ar 3-stiklu paketi 1200x2200mm montāža. L-3 | D18: gb | E18: 2
A19: 5 | C19: PVC loga ar 3-stiklu paketi 2200x2200mm montāža. L-4 | D19: gb | E19: 2
A20: 6 | C20: PVC loga ar 3-stiklu paketi 3300x2200mm montāža. L-5 | D20: gb | E20: 1
C21: Palodzes
A22: 7 | C22: Ārējās skārda palodzes montāža. Skārds ar PUR pārklājumu ar 30 mm pārkari. | D22: m | E22: 31.3
A23: 8 | C23: Iekšējās palodzes montāža. Izgatavot no līmēta, krāsotā koka vai melamīna 40 mm, ailas plātumā, ar 40 mm pārkari | D23: m | E23: 31.3
C24: Logu ailes
A25: 9 | C25: Ārējā ailu apdare | D25: gb | E25: 16
A26: 10 | C26: Iekšējā ailu apdare | D26: gb | E26: =E25 -> 16
C27: Stiklotās konstrukcijas ar durvīm. Sīkāku kplektāciju skatīt specifikācijā. Montāžu veikt saskaņā ar mezgliem
A28: 11 | C28: Alumīnija stiklotās konstrukcijas SF-1 ar durvīm AD-1 montāža. Izmērs 2200x2200mm | D28: gb | E28: 2
C29: Stiklotās konstrukcijas ar durvīm ailes
A30: 12 | C30: Ārējā ailu apdare | D30: gb | E30: 2
A31: 13 | C31: Iekšējā ailu apdare | D31: gb | E31: 2
C32: Bīdāmās sienas. Sīkāku kplektāciju skatīt specifikācijā. Montāžu veikt saskaņā ar mezgliem
A33: 14 | C33: Salokāmās bīdāmās sienu 3200x3200mm vadotnes sistēmas montāža. BS-1 | D33: gb | E33: 1
C34: Durvis. Sīkāku kplektāciju skatīt specifikācijā. Montāžu veikt saskaņā ar mezgliem
A35: 15 | C35: Tērauda ārdurvju 1000x2100mm montāža. AD-2 | D35: gb | E35: 1
A36: 16 | C36: Finierētu iekšdurvju 1200x2100mm montāža. ID-1 | D36: gb | E36: 1
A37: 17 | C37: Finierētu iekšdurvju 1000x2100mm montāža. ID-2 | D37: gb | E37: 6
A38: 18 | C38: Finierētu iekšdurvju 1000x2100mm montāža. ID-3 | D38: gb | E38: 1
A39: 19 | C39: Finierētu iekšdurvju 1000x2100mm montāža. ID-4 | D39: gb | E39: 5
A40: 20 | C40: Finierētu iekšdurvju 1200x2100mm montāža. ID-5 | D40: gb | E40: 1
A41: 21 | C41: Ugunsdrošu EI-30 alumīnija iekšdurvju 1200x2100mm montāža. ID-6 | D41: gb | E41: 2
A42: 22 | C42: Bīdāmo iekšdurvju 1000x2100mm montāža. ID-7 | D42: gb | E42: 1
A43: 23 | C43: Ugunsdrošu EI-60 alumīnija iekšdurvju 1000x2100mm montāža. ID-8 | D43: gb | E43: 1
...

Sheet 1.7 Apdare
A1: Lokālā tāme Nr.1.7
A2: Iekšējie apdares darbi
A4: ='1.1 Pamati, ā.inž.'!$A$4 -> Objekta nosaukums: VESELĪBAS UN SOCIĀLĀS APRŪPES CENTRS
A5: ='1.1 Pamati, ā.inž.'!$A$5 -> Būves nosaukums: VESELĪBAS UN SOCIĀLĀS APRŪPES CENTRS
A6: ='1.1 Pamati, ā.inž.'!$A$6 -> Objekta adrese: Liliju iela 109
A7: ='1.1 Pamati, ā.inž.'!$A$7 -> Pasūtījuma Nr.:
A9: ='1.1 Pamati, ā.inž.'!$A$9 -> Tāme sastādīta 2026.gada tirgus cenās | M9: Tāmes izmaksas Euro: | O9: =P38 -> 0
P11: =Kops.1!$I$15 -> Tāme sastādīta [datums]
A12: Nr.p.k. | B12: Kods | C12: Būvdarbu nosaukums | D12: Mērvienība | E12: Daudzums | F12: Vienības izmaksas | L12: Kopā uz visu apjomu
F13: laika norma (c/h) | G13: darba samaksas likme (euro/h) | H13: Darba alga | I13: Būvizstrādājumi | J13: Mehānismi | K13: kopā | L13: darbietilpība (c/h) | M13: Darba alga | N13: Būvizstrādājumi | O13: Mehānismi | P13: summa
A14: =ROW()-13 -> 1 | C14: Griesti | K14: =ROUND(H14+I14+J14,2) -> 0 | L14: =ROUND(F14*E14,2) -> 0 | M14: =ROUND(H14*E14,2) -> 0 | N14: =ROUND(I14*E14,2) -> 0 | O14: =ROUND(J14*E14,2) -> 0 | P14: =ROUND(M14+N14+O14,2) -> 0
A15: =ROW()-13 -> 2 | C15: Ģipškartona griestu špaktelēšana, slīpēšana, gruntēšana un krāsošana. Gr-1 | D15: m2 | E15: 403.4
A16: =ROW()-13 -> 3 | C16: Griestu lūkas
A17: =ROW()-13 -> 4 | C17: Revīzijas lūkas ģipškartona griestu konstrukcijām montāža. Atvēršana ar piespiešanas mehānismu. Durvīs impregnētas ģipškartona plāksne. Izmēri 400x400 mm. Alulight. GL-1 | D17: gb | E17: 17
A18: =ROW()-13 -> 5 | C18: Revīzijas lūkas ģipškartona griestu konstrukcijām montāža. Atvēršana ar piespiešanas mehānismu. Durvīs impregnētas ģipškartona plāksne. Izmēri 300x300 mm. Alulight. GL-2 | D18: gb | E18: 7
A19: =ROW()-13 -> 6 | C19: Revīzijas lūkas ģipškartona griestu konstrukcijām montāža. Atvēršana ar piespiešanas mehānismu. Durvīs impregnētas ģipškartona plāksne. Izmēri 200x200 mm. Alulight. GL-3 | D19: gb | E19: 9
A20: =ROW()-13 -> 7 | C20: Revīzijas lūkas ģipškartona griestu konstrukcijām montāža. Atvēršana ar piespiešanas mehānismu. Durvīs impregnētas ģipškartona plāksne. Izmēri 600x600 mm. Alulight. GL-4 | D20: gb | E20: 5
A21: =ROW()-13 -> 8 | C21: Sienas
A22: =ROW()-13 -> 9 | C22: Sienu špaktelēšana, slīpēšana, gruntēšana un krāsošana ar pusmatētu, antialerģisku ūdens dispersijas akrila krāsu. Tonis - NCS S 1002Y Tikkurilla G487. IM-1 | D22: m2 | E22: =342.5-85*2 -> 172.5
A23: =ROW()-13 -> 10 | C23: Sienu špaktelēšana, slīpēšana, gruntēšana un krāsošana ar pusmatētu, antialerģisku ūdens dispersijas akrila krāsu. Tonis - NCS S 1002Y Tikkurilla G487. IM-2 | D23: m2 | E23: 424.3
A24: =ROW()-13 -> 11 | C24: Sienu špaktelēšana, slīpēšana, gruntēšana un krāsošana ar pusmatētu, antialerģisku, mitrumizturīgu krāsu. Tonis - NCS S 1002Y Tikkurilla G487. IM-3 | D24: m2 | E24: 171.6
A25: =ROW()-13 -> 12 | C25: Sienu flīzēšana un šuvošana. Sienas keramikas fīzes: Kerama Marazzi - Avellino light blue glossy 7.4 x 15 cm. Zem flīzēm paredzēt hidroizolāciju. IM-4 | D25: m2 | E25: 157.2
A26: =ROW()-13 -> 13 | C26: Sienu flīzēšana un šuvošana. Sienas keramikas fīzes: Kerama Marazzi - Avelino whitye glossy 7.41 x 15 cm. Zem flīzēm paredzēt hidroizolāciju. IM-5 | D26: m2 | E26: 63.5
A27: =ROW()-13 -> 14 | C27: Grīdas
A28: =ROW()-13 -> 15 | C28: Vinila seguma montāža. Tarkett Starfloor Click Ultimate 55 - Stylish Oak BEIGE. Pretslīdes klase R10. Klasifikācija: 33 kl. Kopējais biezums: 6,50 mm Aizsargslāņa biezums: 0,55 mm Ieklāšanas metode : click Integrēta akustika : 19dB – nevajag un nedrīkst likt papildus apakškārtu. G-1 | D28: m2 | E28: 260.2
A29: =ROW()-13 -> 16 | C29: Grīdu flīzēšana un šuvošana, t.sk., hidroizolācija nepieciešamajās vietās. Grīdu flīzes: Kerama Marazzi - Fondamenta ligt grey rectified 60 x 60 cm. G-2 | D29: m2 | E29: 47.1
A30: =ROW()-13 -> 17 | C30: Vinila seguma montāža. Vinila segums. Tarkett Starfloor Click Ultimate 55-Timeless Concrete LIGHT GREY. Pretslīdes klase R10 Klasifikācija: 33 kl Kopējais biezums: 6,50 mm Aizsargslāņa biezums: 0,55 mm Ieklāšanas metode : click Integrēta akustika : 19dB – nevajag un nedrīkst likt papildus apakškārtu. G-3 | D30: m2 | E30: 57.3
A31: =ROW()-13 -> 18 | C31: Grīdlīstes
A32: =ROW()-13 -> 19 | C32: Koka grīdlīstes montāža.h-80mm. Grīdlīstes ar atbilstošiem stūra profiliem | D32: m | E32: 253
A33: =ROW()-13 -> 20 | C33: Nerūsējošā tērauda sliekšņa montāža. PROGRESS PROFILES, PROTERMINAL, polished finish, AISI 304/1.4301-V2A, augstums 10 vai 12.5mm. | D33: m | E33: 14
A34: =ROW()-13 -> 21 | C34: Kājslauķi
A35: =ROW()-13 -> 22 | C35: Kājslauķu sistēmas 1000x2500mm ārtelpām montāža. ABIMAT Alucable Mat Senior ar birsti Piemērots rūpjiem netīrumiem Kopējais sistēmas augstums 16 mm, kopā ar birsti 23mm. Ūdens novadīšanu risināt UKT Piesaistes projektā. KS-1 | D35: gb | E35: 1
A36: =ROW()-13 -> 23 | C36: Kājslauķu sistēma 1500x2500mm iekštelpām montāža. ABIMAT Alucable Mat Medium ar poliamīda paklāja lamellām. Ar 50%gumiju/ 50%poliamīda paklāja lamellām Kopējais paklāju augstums 19 m. KS-1 | D36: gb | E36: 1
C38: ='1.1 Pamati, ā.inž.'!$C$43 -> Tiešās izmaksas kopā, t. sk. darba devēja sociālais nodoklis | L38: =SUM(L14:L37) -> 0 | M38: =SUM(M14:M37) -> 0 | N38: =SUM(N14:N37) -> 0 | O38: =SUM(O14:O37) -> 0 | P38: =SUM(P14:P37) -> 0
A43: ='1.1 Pamati, ā.inž.'!$A$47 -> Sastādīja:
A47: ='1.1 Pamati, ā.inž.'!$A$51 -> Pārbaudīja:

Sheet 1.8 Apr. iekšt.
A1: Lokālā tāme Nr.1.8
A2: =Kops.1!C27 -> Aprīkojums iekštelpu
A4: ='1.1 Pamati, ā.inž.'!$A$4 -> Objekta nosaukums: VESELĪBAS UN SOCIĀLĀS APRŪPES CENTRS
A5: ='1.1 Pamati, ā.inž.'!$A$5 -> Būves nosaukums: VESELĪBAS UN SOCIĀLĀS APRŪPES CENTRS
A6: ='1.1 Pamati, ā.inž.'!$A$6 -> Objekta adrese: Liliju iela 109
A7: ='1.1 Pamati, ā.inž.'!$A$7 -> Pasūtījuma Nr.:
A9: ='1.1 Pamati, ā.inž.'!$A$9 -> Tāme sastādīta 2026.gada tirgus cenās | M9: Tāmes izmaksas Euro: | O9: =P18 -> 0
P11: =Kops.1!$I$15 -> Tāme sastādīta [datums]
A12: Nr.p.k. | B12: Kods | C12: Būvdarbu nosaukums | D12: Mērvienība | E12: Daudzums | F12: Vienības izmaksas | L12: Kopā uz visu apjomu
F13: laika norma (c/h) | G13: darba samaksas likme (euro/h) | H13: Darba alga | I13: Būvizstrādājumi | J13: Mehānismi | K13: kopā | L13: darbietilpība (c/h) | M13: Darba alga | N13: Būvizstrādājumi | O13: Mehānismi | P13: summa
A14: =ROW()-13 -> 1 | C14: Inventārs
A15: =ROW()-13 -> 2 | C15: Evakuācijas shēma | D15: gb | E15: 2
A16: =ROW()-13 -> 3 | C16: Ugunsdzēšamais aparats | D16: gb | E16: 2
C18: ='1.1 Pamati, ā.inž.'!$C$43 -> Tiešās izmaksas kopā, t. sk. darba devēja sociālais nodoklis | L18: =SUM(L14:L17) -> 0 | M18: =SUM(M14:M17) -> 0 | N18: =SUM(N14:N17) -> 0 | O18: =SUM(O14:O17) -> 0 | P18: =SUM(P14:P17) -> 0
A23: ='1.1 Pamati, ā.inž.'!$A$47 -> Sastādīja:
A27: ='1.1 Pamati, ā.inž.'!$A$51 -> Pārbaudīja:

Sheet 1.9 Sanm.
A1: Lokālā tāme Nr.1.9
A2: Sanmezglu aprīkojums
A4: ='1.1 Pamati, ā.inž.'!$A$4 -> Objekta nosaukums: VESELĪBAS UN SOCIĀLĀS APRŪPES CENTRS
A5: ='1.1 Pamati, ā.inž.'!$A$5 -> Būves nosaukums: VESELĪBAS UN SOCIĀLĀS APRŪPES CENTRS
A6: ='1.1 Pamati, ā.inž.'!$A$6 -> Objekta adrese: Liliju iela 109
A7: ='1.1 Pamati, ā.inž.'!$A$7 -> Pasūtījuma Nr.:
A9: ='1.1 Pamati, ā.inž.'!$A$9 -> Tāme sastādīta 2026.gada tirgus cenās | M9: Tāmes izmaksas Euro: | O9: =P34 -> 0
P11: =Kops.1!$I$15 -> Tāme sastādīta [datums]
A12: Nr.p.k. | B12: Kods | C12: Būvdarbu nosaukums | D12: Mērvienība | E12: Daudzums | F12: Vienības izmaksas | L12: Kopā uz visu apjomu
F13: laika norma (c/h) | G13: darba samaksas likme (euro/h) | H13: Darba alga | I13: Būvizstrādājumi | J13: Mehānismi | K13: kopā | L13: darbietilpība (c/h) | M13: Darba alga | N13: Būvizstrādājumi | O13: Mehānismi | P13: summa
A14: =ROW()-13 -> 1 | C14: Guļušo mazgāšanas telpas aprīkojums
A15: =ROW()-13 -> 2 | C15: Elektriskais , regulējams dvieļu žāvētājs. WC-1 | D15: gb | E15: 1
A16: =ROW()-13 -> 3 | C16: Atkrituma tvertne ar pedāli AddStoris, 3l, hroms. WC-4 | D16: gb | E16: 1
A17: =ROW()-13 -> 4 | C17: Āķis Lounge, dubultais, hroms. WC-8 | D17: gb | E17: 1
A18: =ROW()-13 -> 5 | C18: Dušas aizkaru stienis, hroms. Dušas aizkari. WC-10 | D18: gb | E18: 1
A19: =ROW()-13 -> 6 | C19: Šķidro ziepju trauks ar turētāju Lounge, hroms. WC-12 | D19: gb | E19: 1
A20: =ROW()-13 -> 7 | C20: Guļošo mazgāšanas telpas sanitārās ierīces
A21: =ROW()-13 -> 8 | C21: Dušas traps 1185 mm: ACO Shower Drain C, vertikāls atloks H92 mm, reste Square Artikuls: 9010.88.09 | D21: gb | E21: 1
A22: =ROW()-13 -> 9 | C22: Izlietnes maisītājs Vernis Blend, bez sajaukšanas, infra-red, tīkla pieslēgums 230 V, hroms Artikuls: HG71501000 | D22: gb | E22: 1
A23: =ROW()-13 -> 10 | C23: Stūra ventilis Comfort, 1/2"x3/8", bez kompresijas uzgriežņa, hroms Artikuls: 52120699 | D23: gb | E23: 2
A24: =ROW()-13 -> 11 | C24: Izlietne Pro S, 600x380 mm, balta un izlietnes stiprinājums 10x120 (2gb.) Artikuls: H8189590001041 | D24: gb | E24: 1
A25: =ROW()-13 -> 12 | C25: Izlietnes sifons Lineis, 1¼ x 32mm, hromēts misiņš Artikuls: 31608002 | D25: gb | E25: 1
A26: =ROW()-13 -> 13 | C26: Izplūse "click clack" izplūse ar pārplūdi Artikuls: S8803AA | D26: gb | E26: 1
A27: =ROW()-13 -> 14 | C27: Dušas stienis Unica Comfort, 1100mm, kreisā puse/labā puse, balts/hroms Artikuls: HG26403400 | D27: gb | E27: 1
A28: =ROW()-13 -> 15 | C28: Dušas maisītājs Focus Care, hroms Artikuls: HG31916000 | D28: gb | E28: 1
A29: =ROW()-13 -> 16 | C29: Rokas duša Pulsify Select 105 1jet Green, hroms Artikuls: HG24121000 | D29: gb | E29: 1
A30: =ROW()-13 -> 17 | C30: Dušas vads Isiflex,1600 mm, hroms Artikuls: HG28276000 | D30: gb | E30: 1
A31: =ROW()-13 -> 18 | C31: Citi darbi
A32: =ROW()-13 -> 19 | C32: Sistēmas regulēšana, pārbaude | D32: kpl | E32: 1
C34: ='1.1 Pamati, ā.inž.'!$C$43 -> Tiešās izmaksas kopā, t. sk. darba devēja sociālais nodoklis | L34: =SUM(L14:L33) -> 0 | M34: =SUM(M14:M33) -> 0 | N34: =SUM(N14:N33) -> 0 | O34: =SUM(O14:O33) -> 0 | P34: =SUM(P14:P33) -> 0
A38: ='1.1 Pamati, ā.inž.'!$A$47 -> Sastādīja:
A42: ='1.1 Pamati, ā.inž.'!$A$51 -> Pārbaudīja:

Sheet 1.10 Kopl.,aprīk
A1: Lokālā tāme Nr.1.10
A2: Koplietošanas telpu aprīkojums
A4: ='1.1 Pamati, ā.inž.'!$A$4 -> Objekta nosaukums: VESELĪBAS UN SOCIĀLĀS APRŪPES CENTRS
A5: ='1.1 Pamati, ā.inž.'!$A$5 -> Būves nosaukums: VESELĪBAS UN SOCIĀLĀS APRŪPES CENTRS
A6: ='1.1 Pamati, ā.inž.'!$A$6 -> Objekta adrese: Liliju iela 109
A7: ='1.1 Pamati, ā.inž.'!$A$7 -> Pasūtījuma Nr.:
A9: ='1.1 Pamati, ā.inž.'!$A$9 -> Tāme sastādīta 2026.gada tirgus cenās | M9: Tāmes izmaksas Euro: | O9: =P37 -> 0
P11: =Kops.1!$I$15 -> Tāme sastādīta [datums]
A12: Nr.p.k. | B12: Kods | C12: Būvdarbu nosaukums | D12: Mērvienība | E12: Daudzums | F12: Vienības izmaksas | L12: Kopā uz visu apjomu
F13: laika norma (c/h) | G13: darba samaksas likme (euro/h) | H13: Darba alga | I13: Būvizstrādājumi | J13: Mehānismi | K13: kopā | L13: darbietilpība (c/h) | M13: Darba alga | N13: Būvizstrādājumi | O13: Mehānismi | P13: summa
C14: Koplietošanas telpas
A15: 1 | C15: HL traps DN40/50 "Primus", 123x123mm Artikuls: HL510NPr | D15: gb | E15: 4
A16: 2 | C16: Izlietnes maisītājs Vernis Blend, bez sajaukšanas, infra-red, tīkla pieslēgums 230 V, hroms Artikuls: HG71501000 | D16: gb | E16: 1
A17: 3 | C17: Stūra ventilis Comfort, 1/2"x3/8", bez kompresijas uzgriežņa, hroms Artikuls: 52120699 | D17: gb | E17: 1
A18: 4 | C18: Izlietne Pro S, 600x380 mm, balta un izlietnes stiprinājums 10x120 (2gb.) Artikuls: H8189590001041 | D18: gb | E18: 1
A19: 5 | C19: Izlietnes sifons Lineis, 1¼ x 32mm, hromēts misiņš Artikuls: 31608002 | D19: gb | E19: 1
A20: 6 | C20: Izplūse "click clack" izplūde ar pārplūdi Artikuls: S8803AA | D20: gb | E20: 1
C21: Koplietošnas sanmezgla sanitārās ierīces
A22: 33 | C22: Izlietnes maisītājs Vernis Blend, bez sajaukšanas, infra-red, tīkla pieslēgums 230 V, hroms Artikuls: HG71501000 | D22: gb | E22: 1
A23: 34 | C23: Stūra ventilis Comfort, 1/2"x3/8", bez kompresijas uzgriežņa, hroms Artikuls: 52120699 | D23: gb | E23: 2
A24: 35 | C24: Izlietne Pro Liberty, 600x550 mm, balta Artikuls: H8119500001041 | D24: gb | E24: 1
A25: 36 | C25: Iebūvējams izlietnes sifons, 1¼ x 50/40, plastmasa, pelēks/balts/hroms un izlietnes stiprinājumi Artikuls: 553753 | D25: gb | E25: 1
A26: 37 | C26: Izplūse "click clack" izplūde ar pārplūdi Artikuls: S8803AA | D26: gb | E26: 1
A27: 38 | C27: Iebūvējamais rāmis podam Duofix Sigma ar papildu elemntiem atbalsta rokturu stiprināšanai, 425/880x170 mm, h=1120 mm Artikuls: 111.375.00.5 | D27: gb | E27: 1
A28: 39 | C28: Geberit tualetes poda vadība ar elektronisku skalošanas aktivizāciju, darbināšana, izmantojot elektrotīklu, divu režīmu skalošana, noskalošanas panelis Sigma10, automātiska/bezkontakta, skrūvējams Artikuls: 115.906.SN.6 | D28: gb | E28: 1
A29: 40 | C29: Pods Pro Liberty Rimless, stiprināms pie 1 sienas, 360x700 mm, pagarināts, balts Artikuls: H8219600000001 | D29: gb | E29: 1
A30: 41 | C30: Poda sēdriņķis ar vāku Pro Liberty, balts Artikuls: H8989503000001 | D30: gb | E30: 1
A31: 42 | C31: Bidette hand shower 1jet S 1 EcoSmart+ for cold water with shower holder and shower hose 125 cm Artikuls: 29230000 | D31: gb | E31: 1
A32: 43 | C32: Single lever shower mixer for concealed installation for iBox universal Artikuls: 29230000 | D32: gb | E32: 1
A33: 44 | C33: iBox, universālais Artikuls: HG01800180 | D33: gb | E33: 1
C34: Revīzijas lūka
A35: 45 | C35: Revīzijas lūka ģipškartona konstrukcijām. Atvēršana ar piespiešanas mehānismu. Durvīs impregnētas ģipškartona plāksne. Lūka paredzēta ar flīžu apdari. Izmēri 200x200mm. SL-1 | D35: gb | E35: 2
C37: ='1.1 Pamati, ā.inž.'!$C$43 -> Tiešās izmaksas kopā, t. sk. darba devēja sociālais nodoklis | L37: =SUM(L14:L36) -> 0 | M37: =SUM(M14:M36) -> 0 | N37: =SUM(N14:N36) -> 0 | O37: =SUM(O14:O36) -> 0 | P37: =SUM(P14:P36) -> 0
A41: ='1.1 Pamati, ā.inž.'!$A$47 -> Sastādīja:
A45: ='1.1 Pamati, ā.inž.'!$A$51 -> Pārbaudīja:

Sheet 1.11 Apr.ārt.
A1: Lokālā tāme Nr.1.11
A2: =Kops.1!C30 -> Aprīkojums ārtelpu
A4: ='1.1 Pamati, ā.inž.'!$A$4 -> Objekta nosaukums: VESELĪBAS UN SOCIĀLĀS APRŪPES CENTRS
A5: ='1.1 Pamati, ā.inž.'!$A$5 -> Būves nosaukums: VESELĪBAS UN SOCIĀLĀS APRŪPES CENTRS
A6: ='1.1 Pamati, ā.inž.'!$A$6 -> Objekta adrese: Liliju iela 109
A7: ='1.1 Pamati, ā.inž.'!$A$7 -> Pasūtījuma Nr.:
A9: ='1.1 Pamati, ā.inž.'!$A$9 -> Tāme sastādīta 2026.gada tirgus cenās | M9: Tāmes izmaksas Euro: | O9: =P17 -> 0
P11: =Kops.1!$I$15 -> Tāme sastādīta [datums]
A12: Nr.p.k. | B12: Kods | C12: Būvdarbu nosaukums | D12: Mērvienība | E12: Daudzums | F12: Vienības izmaksas | L12: Kopā uz visu apjomu
F13: laika norma (c/h) | G13: darba samaksas likme (euro/h) | H13: Darba alga | I13: Būvizstrādājumi | J13: Mehānismi | K13: kopā | L13: darbietilpība (c/h) | M13: Darba alga | N13: Būvizstrādājumi | O13: Mehānismi | P13: summa
A14: =ROW()-13 -> 1 | C14: Inventārs
A15: =ROW()-13 -> 2 | C15: Karogu turētājs | D15: gb | E15: 1
A16: =ROW()-13 -> 3 | C16: Ēkas numuru zīme | D16: gb | E16: 1
C17: ='1.1 Pamati, ā.inž.'!$C$43 -> Tiešās izmaksas kopā, t. sk. darba devēja sociālais nodoklis | L17: =SUM(L14:L16) -> 0 | M17: =SUM(M14:M16) -> 0 | N17: =SUM(N14:N16) -> 0 | O17: =SUM(O14:O16) -> 0 | P17: =SUM(P14:P16) -> 0
A22: ='1.1 Pamati, ā.inž.'!$A$47 -> Sastādīja:
A26: ='1.1 Pamati, ā.inž.'!$A$51 -> Pārbaudīja:

Sheet 1.12 Apkure
A1: Lokālā tāme Nr.1.12
A2: Apkure
A4: ='1.1 Pamati, ā.inž.'!$A$4 -> Objekta nosaukums: VESELĪBAS UN SOCIĀLĀS APRŪPES CENTRS
A5: ='1.1 Pamati, ā.inž.'!$A$5 -> Būves nosaukums: VESELĪBAS UN SOCIĀLĀS APRŪPES CENTRS
A6: ='1.1 Pamati, ā.inž.'!$A$6 -> Objekta adrese: Liliju iela 109
A7: ='1.1 Pamati, ā.inž.'!$A$7 -> Pasūtījuma Nr.:
A9: ='1.1 Pamati, ā.inž.'!$A$9 -> Tāme sastādīta 2026.gada tirgus cenās | O9: Tāmes izmaksas Euro: | Q9: =R64 -> 0
R11: =Kops.1!$I$15 -> Tāme sastādīta [datums]
A12: Nr.p.k. | B12: Kods | C12: Būvdarbu nosaukums | F12: Mērvienība | G12: Daudzums | H12: Vienības izmaksas | N12: Kopā uz visu apjomu
H13: laika norma (c/h) | I13: darba samaksas likme (euro/h) | J13: Darba alga | K13: Būvizstrādājumi | L13: Mehānismi | M13: kopā | N13: darbietilpība (c/h) | O13: Darba alga | P13: Būvizstrādājumi | Q13: Mehānismi | R13: summa
A14: =ROW()-13 -> 1 | C14: Apkure (S1). 1. daļa | M14: =ROUND(J14+K14+L14,2) -> 0 | N14: =ROUND(H14*G14,2) -> 0 | O14: =ROUND(J14*G14,2) -> 0 | P14: =ROUND(K14*G14,2) -> 0 | Q14: =ROUND(L14*G14,2) -> 0 | R14: =ROUND(O14+P14+Q14,2) -> 0
A15: =ROW()-13 -> 2 | C15: Apkures siltumsūkņa ar apsaisti un automātiku montāža, programmēšana | F15: kpl. | G15: 1
A16: =ROW()-13 -> 3 | C16: Radiators "Purmo Compact" ar sienas stiprinājumiem un atgaisošanas skrūvi (ar sānu pieslēgumu) | D16: C22-500-500 | E16: Purmo | F16: kpl. | G16: 1
A17: =ROW()-13 -> 4 | C17: Radiators "Purmo Compact" ar sienas stiprinājumiem un atgaisošanas skrūvi (ar sānu pieslēgumu) | D17: C22-900-700 | E17: Purmo | F17: kpl. | G17: 1
A18: =ROW()-13 -> 5 | C18: Sienas elektriskais sildītājs | D18: 750W, 230V, 50Hz | F18: kpl. | G18: 1
A19: =ROW()-13 -> 6 | C19: Termostatiskais vārsts | D19: V-exact 15 | E19: IMI | F19: gb. | G19: 2
A20: =ROW()-13 -> 7 | C20: Termostatiskais sensors | D20: K 6000-09.500 | E20: IMI | F20: gb. | G20: 2
A21: =ROW()-13 -> 8 | C21: Noslēgvārsts | D21: Regulux 15 | E21: IMI | F21: gb. | G21: 2
A22: =ROW()-13 -> 9 | C22: Lodveida vārsts | D22: DN15 | F22: gb. | G22: 4
A23: =ROW()-13 -> 10 | C23: Lodveida vārsts | D23: DN20 | F23: gb. | G23: 4
A24: =ROW()-13 -> 11 | C24: Lodveida vārsts | D24: DN25 | F24: gb. | G24: 6
A25: =ROW()-13 -> 12 | C25: Lodveida vārsts | D25: DN32 | F25: gb. | G25: 4
A26: =ROW()-13 -> 13 | C26: Balansēšanas vārsts | D26: STAD-15, KVs=2,52 | E26: IMI | F26: gb. | G26: 1
A27: =ROW()-13 -> 14 | C27: Balansēšanas vārsts | D27: STAD-20, KVs=5,70 | E27: IMI | F27: gb. | G27: 3
A28: =ROW()-13 -> 15 | C28: Tērauda caurules "Prestabo" | D28: Ø15 | E28: Viega | F28: m. | G28: 30
A29: =ROW()-13 -> 16 | C29: Tērauda caurules "Prestabo" | D29: Ø22 | E29: Viega | F29: m. | G29: 11
A30: =ROW()-13 -> 17 | C30: Tērauda caurules "Prestabo" | D30: Ø28 | E30: Viega | F30: m. | G30: 52
A31: =ROW()-13 -> 18 | C31: Tērauda ūdens un gāzes caurules | D31: DN32 | F31: m. | G31: 65
A32: =ROW()-13 -> 19 | C32: Siltumizolācija b=20mm Prestabo caurulēm | D32: PHSALCT 18-20 | E32: Paroc | F32: m. | G32: 17
A33: =ROW()-13 -> 20 | C33: Siltumizolācija b=20mm Prestabo caurulēm | D33: PHSALCT 22-20 | E33: Paroc | F33: m. | G33: 11
A34: =ROW()-13 -> 21 | C34: Siltumizolācija b=20mm Prestabo caurulēm | D34: PHSALCT 28-20 | E34: Paroc | F34: m. | G34: 21
A35: =ROW()-13 -> 22 | C35: Siltumizolācija b=20mm tērauda DN32 caurulēm | D35: PHSALCT 42-20 | E35: Paroc | F35: m. | G35: 65
A36: =ROW()-13 -> 23 | C36: Siltumizolācija b=9mm (Tubolit S) | D36: TL-18/9-S | E36: Armacell | F36: m. | G36: 8
A37: =ROW()-13 -> 24 | C37: Siltumizolācija b=9mm (Tubolit S) | D37: TL-28/9-S | E37: Armacell | F37: m. | G37: 30
A38: =ROW()-13 -> 25 | C38: X-Pert S5+ caurule | D38: 17x2,0 | E38: Roth | F38: m. | G38: 1337
A39: =ROW()-13 -> 26 | C39: Stiprinājums PE-caurulēm | D39: 17/20 | E39: Roth | F39: gb. | G39: 3342
A40: =ROW()-13 -> 27 | C40: Siltumizolācijas rullis 20-2 EPS DES 5.0 | D40: 20mm | E40: Roth | F40: m2 | G40: 325
A41: =ROW()-13 -> 28 | C41: Malu izolācijas lente | D41: 160x10mm | E41: Roth | F41: m | G41: 400
A42: =ROW()-13 -> 29 | C42: MS koniskā savienošā uzmava | D42: 17mm | E42: Roth | F42: gb. | G42: 48
A43: =ROW()-13 -> 30 | C43: Kolektors ar patēriņa mērītāju HK3 | D43: Dynacon Eclipse 9340.-03.800 | E43: IMI | F43: kpl. | G43: 1
...

Sheet 1.13 Vent.
A1: Lokālā tāme Nr.1.13
A2: Ventilācija
A4: ='1.1 Pamati, ā.inž.'!$A$4 -> Objekta nosaukums: VESELĪBAS UN SOCIĀLĀS APRŪPES CENTRS
A5: ='1.1 Pamati, ā.inž.'!$A$5 -> Būves nosaukums: VESELĪBAS UN SOCIĀLĀS APRŪPES CENTRS
A6: ='1.1 Pamati, ā.inž.'!$A$6 -> Objekta adrese: Liliju iela 109
A7: ='1.1 Pamati, ā.inž.'!$A$7 -> Pasūtījuma Nr.:
A9: ='1.1 Pamati, ā.inž.'!$A$9 -> Tāme sastādīta 2026.gada tirgus cenās | O9: Tāmes izmaksas Euro: | Q9: =R69 -> 0
R11: =Kops.1!$I$15 -> Tāme sastādīta [datums]
A12: Nr.p.k. | B12: Kods | C12: Būvdarbu nosaukums | F12: Mērvienība | G12: Daudzums | H12: Vienības izmaksas | N12: Kopā uz visu apjomu
H13: laika norma (c/h) | I13: darba samaksas likme (euro/h) | J13: Darba alga | K13: Būvizstrādājumi | L13: Mehānismi | M13: kopā | N13: darbietilpība (c/h) | O13: Darba alga | P13: Būvizstrādājumi | Q13: Mehānismi | R13: summa
C14: PN1 1. daļa | M14: =ROUND(J14+K14+L14,2) -> 0 | N14: =ROUND(H14*G14,2) -> 0 | O14: =ROUND(J14*G14,2) -> 0 | P14: =ROUND(K14*G14,2) -> 0 | Q14: =ROUND(L14*G14,2) -> 0 | R14: =ROUND(O14+P14+Q14,2) -> 0
A15: 1 | C15: Ventilācijas pieplūdes-nosūces iekārta ar vadības bloku, ar gaisa vārstiem un lokaniem savienojumiem un ventiekārtas rāmi | D15: VERSO-R-1700-UH-HCW-R1-F7/M5-C5-L/A | E15: Komfovent | F15: kpl. | G15: 1
A16: 2 | C16: Āra restes ar rāmi(ieņemšanai) | D16: USS-800x300 | E16: Halton | F16: kpl. | G16: 1
A17: 3 | C17: Āra restes ar rāmi(izmešanai) | D17: USS-400x400 | E17: Halton | F17: kpl. | G17: 1
A18: 4 | C18: Trokšņa slāpētājs | D18: DLD 400 300 650 10 09 | E18: Lindab | F18: gb. | G18: 2
A19: 5 | C19: Trokšņa slāpētājs | D19: SLU 200 1200 50 | E19: Lindab | F19: gb. | G19: 2
A20: 6 | C20: Trokšņa slāpētājs | D20: SLU 250 1200 50 | E20: Lindab | F20: gb. | G20: 2
A21: 7 | C21: Trokšņa slāpētājs | D21: KVAp-100-600-1 | E21: Lindab | F21: gb. | G21: 12
A22: 8 | C22: Trokšņa slāpētājs | D22: SLU 160 600 50 | E22: Lindab | F22: gb. | G22: 1
A23: 9 | C23: Pieplūdes reste ar rāmi | D23: SV2 300x100 | E23: FlaktGroup | F23: kpl. | G23: 6
A24: 10 | C24: Pieplūdes difuzors ar kārbu ar plūsmas regulēšanas funkciju | D24: JDB/P-125(R1)WS=NA+TRH-100 | E24: Halton | F24: kpl. | G24: 1
A25: 11 | C25: Pieplūdes difuzors ar kārbu ar plūsmas regulēšanas funkciju | D25: JDB/P-125(R2)WS=NA+TRH-125 | E25: Halton | F25: kpl. | G25: 1
A26: 12 | C26: Pieplūdes difuzors ar kārbu ar plūsmas regulēšanas funkciju | D26: JDB/P-160(R4)WS=NA+TRH-160 | E26: Halton | F26: kpl. | G26: 3
... A46: 32 | C46: Ugunsdrošības vārsts | D46: CU2 300x300 CFTH | E46: RF-Technologies | F46: kpl. | G46: 1
A47: 33 | C47: Gaisa vadi no cinkotā skārda | D47: Ø100 | F47: m. | G47: 83
A48: 34 | C48: Gaisa vadi no cinkotā skārda | D48: Ø125 | F48: m. | G48: 24
A49: 35 | C49: Gaisa vadi no cinkotā skārda | D49: Ø160 | F49: m. | G49: 19
A50: 36 | C50: Gaisa vadi no cinkotā skārda | D50: Ø200 | F50: m. | G50: 41
A51: 37 | C51: Gaisa vadi no cinkotā skārda | D51: Ø250 | F51: m. | G51: 3
A52: 38 | C52: Gaisa vadi no cinkotā skārda | D52: Ø315 | F52: m. | G52: 6
A53: 39 | C53: Gaisa vadi no cinkotā skārda | D53: 300x100 | F53: m. | G53: 2
A54: 40 | C54: Gaisa vadi no cinkotā skārda | D54: 300x300 | F54: m. | G54: 10
A55: 41 | C55: Gaisa vadi no cinkotā skārda | D55: 400x300 | F55: m. | G55: 5
